Workbook

Sheet TUTORIEL
A1: Le fichier EXCEL de "TRAITEMENT" des résultats | C1: Le document WORD de "ANALYSE" didactique et pédagogique, pour l'enseignement, le pilotage, l'inter-degré, la formation
A2: ETAPES | B2: FICHIER CONCERNE | C2: A FAIRE MANUELLEMENT (en rouge = ce qui est généré automatiquement)
A4: Etape 0 | B4: a) EXCEL : onglet "RESTITUTION" | C4: COPIER-COLLER LE FICHIER "RESTITUTION" DU COLLEGE
B5: b) EXCEL : onglet "TEST AUTO" | C5: COPIER-COLLER LE FICHIER "SPECIFIQUE AUTOMATISMES", POUR CHAQUE CLASSE, LES UNES A LA SUITE DES AUTRES
B6: c) EXCEL : onglet "TEST RDP" | C6: COPIER-COLLER LE FICHIER "SPECIFIQUE RESOLUTION DE PROBLEMES", POUR CHAQUE CLASSE, LES UNES A LA SUITE DES AUTRES
A8: Etape 1 | B8: a) EXCEL : onglet "BILANS" | C8: PAGE GENEREE AUTOMATIQUEMENT !
B9: b) WORD "2026 EVA6-5-4-2 MATHS ANALYSE" | C9: Y COPIER-COLLER LES 2 GRAPHIQUES DU FICHIER EXCEL ONGLET "BILANS" : en page 2 pour "THEMES MATHS" et en page 3 pour "TESTS SPECIFIQUES"
A11: Etape 2 | B11: a) EXCEL : onglet "TRAITEMENT AUTO" | C11: PAGE GENEREE AUTOMATIQUEMENT = ANALYSE DIDACTIQUE PAR TYPE D'ERREURS ---> remédiation ciblée sur groupes d'élèves de 6ème
B12: b) EXCEL : onglet "ANALYSE AUTO" | C12: TABLEAU ET GRAPHIQUE GENERES AUTOMATIQUEMENT = ANALYSE DES REUSSITES PAR TYPE D'ITEMS, PAR TYPE DE TACHE, PAR FAMILLE DE NOMBRES -> pilotage didactique cycle 3
B13: c) WORD "2026 EVA6-5-4-2 MATHS ANALYSE" | C13: Y COPIER-COLLER LES 2 GRAPHIQUES (TABLEAU ET DIAGRAMMES EN BARRES) DU FICHIER EXCEL ONGLET "ANALYSE AUTO" : en page 4 pour TABLEAU et 5-6 pour BARRES
A15: Etape 3 | B15: a) EXCEL : onglet "TRAITEMENT RDP" | C15: PAGE GENEREE AUTOMATIQUEMENT = ANALYSE DIDACTIQUE PAR TYPE D'ERREURS ---> remédiation ciblée sur groupes d'élèves de 6e
B16: b) EXCEL : onglet "ANALYSE RDP" | C16: TABLEAU ET GRAPHIQUE GENERES AUTOMATIQUEMENT = ANALYSE DES REUSSITES PAR TYPE D'ITEMS, PAR FAMILLE DE PROBLEMES, PAR STRUCTURE-DOMAINE MATHEMATIQUE / STRATEGIE -> pilotage didactique cycle 3
B17: c) WORD "2026 EVA6-5-4-2 MATHS ANALYSE" | C17: Y COPIER-COLLER LES 2 GRAPHIQUES (TABLEAU ET DIAGRAMMES EN BARRES) DU FICHIER EXCEL ONGLET "ANALYSE RDP" : en page 7 pour TABLEAU et 8-9 pour BARRES
A19: Etape 4 | B19: a) EXCEL : onglet "GROUPES THEMES" | C19: PAGE GENEREE AUTOMATIQUEMENT ! Filtrer le groupe de maîtrise étudié dans chaque thème + Si besoin, filtrer en fonction du nombre de thèmes dans lesquels l'élève est en difficulté (cellule I2).
B20: b) WORD "2026 EVA6-5-4-2 MATHS ANALYSE" | C20: Y COPIER-COLLER LES GROUPES D'ELEVES TRIES SELON LE BESOIN : (Calcul, Grandeurs, Géométrie, Automatismes, Résolution de problèmes) ou le nombre de difficultés en page 10
A22: Etape 5 | B22: a) EXCEL : onglet "GROUPES D'ITEMS AUTO" | C22: PAGE GENEREE AUTOMATIQUEMENT ! Trier le % de réussite dans le groupe d'items souhaité.
B23: b) EXCEL : onglet "GROUPES D'ITEMS RDP" | C23: PAGE GENEREE AUTOMATIQUEMENT ! Trier le % de réussite dans le groupe d'items souhaité.
B24: c) WORD "2026 EVA6-5-4-2 MATHS ANALYSE" | C24: Y COPIER-COLLER LES GROUPES D'ELEVES TRIES SELON LE BESOIN IDENTIFIE (Groupes d'items d'automatismes ou Résolution de problèmes) en page 11

Sheet RESTITUTION
A1: COPIER-COLLER LE FICHIER "RESTITUTION" DU COLLEGE
A2: Classe | B2: Nom élève | C2: Prénom élève | D2: Test spécifique en automatismes : Mobiliser directement des procédures et des connaissances | E2: Test spécifique en résolution de problèmes : Résoudre des problèmes en utilisant des nombres et des grandeurs | F2: Espace et géométrie : Connaître et utiliser des notions de géométrie | G2: Grandeurs et mesures : Connaître des grandeurs et utiliser des unités de mesure | H2: Nombres et calculs : Connaître les nombres et les utiliser dans des calculs
A3: 6B | C3: Alicia | D3: Fragile | E3: Fragile | F3: Fragile | G3: Fragile | H3: À besoins
A4: 6B | C4: Aliénor | D4: Satisfaisant | E4: Satisfaisant | F4: Satisfaisant | G4: Satisfaisant | H4: Satisfaisant
A5: 6B | C5: Coleen | D5: À besoins | E5: À besoins | F5: À besoins | G5: À besoins | H5: À besoins
A6: 6B | C6: Elina | D6: Satisfaisant | E6: Satisfaisant | F6: Satisfaisant | G6: Satisfaisant | H6: Satisfaisant
A7: 6B | C7: Ethan | D7: Satisfaisant | E7: Satisfaisant | F7: Satisfaisant | G7: Satisfaisant | H7: Satisfaisant
J121: Nombre d'élèves évalués en 6E : 20
J143: Nombre d'élèves évalués en 6B : 22
J145: Nombre d'élèves évalués en 6A : 2
J146: Nombre d'élèves total évalués : 86

Sheet TEST AUTO
A1: COPIER-COLLER LE FICHIER "SPECIFIQUE AUTOMATISMES", DE CHAQUE CLASSE, POUR TOUTES LES CLASSES LES UNES A LA SUITE DES AUTRES (après avoir effacé les données servant ici d'exemple)
A2: Classe | B2: NOM | C2: PRENOM | D2: Score du test spécifique | E2: Automatismes Q1 - réponse | F2: Automatismes Q1 - score | G2: Automatismes Q2 - réponse | H2: Automatismes Q2 - score | I2: Automatismes Q3 - réponse | J2: Automatismes Q3 - score | K2: Automatismes Q4 - réponse | L2: Automatismes Q4 - score | M2: Automatismes Q5 - réponse | N2: Automatismes Q5 - score | O2: Automatismes Q6 - réponse | P2: Automatismes Q6 - score | Q2: Automatismes Q7 - réponse | R2: Automatismes Q7 - score | S2: Automatismes Q8 - réponse | T2: Automatismes Q8 - score | U2: Automatismes Q9 - réponse | V2: Automatismes Q9 - score | W2: Automatismes Q10 - réponse | X2: Automatismes Q10 - score | Y2: Automatismes Q11 - réponse | Z2: Automatismes Q11 - score | AA2: Automatismes Q12 - réponse | AB2: Automatismes Q12 - score | AC2: Automatismes Q13 - réponse | AD2: Automatismes Q13 - score | AE2: Automatismes Q14 - réponse | AF2: Automatismes Q14 - score | AG2: Automatismes Q15 - réponse | AH2: Automatismes Q15 - score | AI2: Automatismes Q16 - réponse | AJ2: Automatismes Q16 - score | AK2: Automatismes Q17 - réponse | AL2: Automatismes Q17 - score | AM2: Automatismes Q18 - réponse | AN2: Automatismes Q18 - score | AO2: Automatismes Q19 - réponse | AP2: Automatismes Q19 - score | AQ2: Automatismes Q20 - réponse | AR2: Automatismes Q20 - score | AS2: Automatismes Q21 - réponse | AT2: Automatismes Q21 - score | AU2: Automatismes Q22 - réponse | AV2: Automatismes Q22 - score | AW2: Automatismes Q23 - réponse | AX2: Automatismes Q23 - score
A3: 6B | C3: Alicia | D3: 11 | E3: 16 004 | F3: 0 | G3: 72,001 | H3: 0 | I3: 0,32 | J3: 0 | K3: 0,04 | L3: 1 | M3: 10 fois 5 dixièmes. | N3: 0 | O3: 2 060 000 | P3: 0 | Q3: 22 | R3: 0 | S3: 4/10 | T3: 1 | U3: 87 842 | V3: 1 | W3: 1,082 | X3: 1 | Y3: 3/7 de la figure. | Z3: 1 | AA3: 7 | AB3: 1 | AC3: 4,5 | AD3: 0 | AE3: 7,5482 | AF3: 0 | AG3: 15,2 | AH3: 0 | AI3: mm | AJ3: 1 | AK3: 18 cm | AL3: 0 | AM3: 100 fois | AN3: 0 | AO3: 0,24 | AP3: 0 | AQ3: 9 cm² | AR3: 1 | AS3: 20 cm³ | AT3: 1 | AU3: Les angles B et E sont égaux. | AV3: 1 | AW3: grammes (g). | AX3: 1
A4: 6B | C4: Léa | D4: 13 | E4: 76 004 | F4: 1 | G4: 0,072 | H4: 1 | I4: 3,2 | J4: 1 | K4: 0,04 | L4: 1 | M4: 10 fois 5 dizaines. | N4: 0 | O4: 2 000 600 | P4: 0 | Q4: 20,2 | R4: 0 | S4: 4/1 | T4: 0 | U4: 9 345 | V4: 0 | W4: 1,082 | X4: 1 | Y4: 3/7 de la figure. | Z4: 1 | AA4: 7 | AB4: 1 | AC4: 4,05 | AD4: 1 | AE4: 75,482 | AF4: 0 | AG4: 15,2 | AH4: 0 | AI4: cm | AJ4: 0 | AK4: 22 cm | AL4: 1 | AM4: 100 fois | AN4: 0 | AO4: 240 | AP4: 1 | AQ4: 12 cm² | AR4: 0 | AS4: 20 cm³ | AT4: 1 | AU4: Les angles B et E sont égaux. | AV4: 1 | AW4: grammes (g). | AX4: 1
A5: 6B | C5: Roméo | D5: 15 | E5: 76 004 | F5: 1 | G5: 0,072 | H5: 1 | I5: 3,2 | J5: 1 | K5: 0,04 | L5: 1 | M5: 10 fois 5 dixièmes. | N5: 0 | O5: 2 600 000 | P5: 1 | Q5: 2,2 | R5: 1 | S5: 4/10 | T5: 1 | U5: 9 345 | V5: 0 | W5: 1,4 | X5: 0 | Y5: 3/7 de la figure. | Z5: 1 | AA5: 7 | AB5: 1 | AC5: 4,5 | AD5: 0 | AF5: 0 | AG5: 15,2 | AH5: 0 | AI5: mm | AJ5: 1 | AK5: 22 cm | AL5: 1 | AM5: 10 fois | AN5: 1 | AO5: 240 | AP5: 1 | AQ5: 12 cm² | AR5: 0 | AS5: 20 cm³ | AT5: 1 | AU5: L'angle B est plus petit que l'angle E. | AV5: 0 | AW5: grammes (g). | AX5: 1
A6: 6B | C6: Lizéa | D6: 16 | E6: 76 1004 | F6: 0 | G6: 0,072 | H6: 1 | I6: 3,2 | J6: 1 | K6: 0,04 | L6: 1 | M6: 10 fois 5 dixièmes. | N6: 0 | O6: 2 600 000 | P6: 1 | Q6: 2,2 | R6: 1 | S6: 4/10 | T6: 1 | U6: 87 842 | V6: 1 | W6: 1,09 | X6: 0 | Y6: 3/7 de la figure. | Z6: 1 | AA6: 7 | AB6: 1 | AC6: 4,05 | AD6: 1 | AE6: 7 548,2 | AF6: 1 | AG6: 15,2 | AH6: 0 | AI6: mm | AJ6: 1 | AK6: 28 cm | AL6: 0 | AM6: 100 fois | AN6: 0 | AO6: 240 | AP6: 1 | AQ6: 12 cm² | AR6: 0 | AS6: 20 cm³ | AT6: 1 | AU6: Les angles B et E sont égaux. | AV6: 1 | AW6: grammes (g). | AX6: 1
A7: 6B | C7: Tyméo | D7: 8 | E7: 76 004 | F7: 1 | G7: 72,1000 | H7: 0 | I7: 3,2 | J7: 1 | K7: 4 | L7: 0 | M7: 10 fois 5 unités. | N7: 0 | O7: 2 060 000 | P7: 0 | Q7: 2,2 | R7: 1 | S7: 4/1 | T7: 0 | U7: 87 842 | V7: 1 | W7: 1,09 | X7: 0 | Y7: 3/4 de la figure. | Z7: 0 | AA7: 7 | AB7: 1 | AC7: 4,05 | AD7: 1 | AE7: 75,482 | AF7: 0 | AG7: 15,2 | AH7: 0 | AI7: cm | AJ7: 0 | AK7: 18 cm | AL7: 0 | AM7: 10 fois | AN7: 1 | AO7: 2,4 | AP7: 0 | AQ7: 12 cm² | AR7: 0 | AS7: 9 cm³ | AT7: 0 | AU7: Les angles B et E sont égaux. | AV7: 1 | AW7: kilogrammes (kg). | AX7: 0

Sheet TEST RDP
A1: COPIER-COLLER LE FICHIER "SPECIFIQUE RESOLUTION DE PROBLEMES", DE CHAQUE CLASSE, POUR TOUTES LES CLASSES LES UNES A LA SUITE DES AUTRES
A2: Classe | B2: NOM | C2: PRENOM | D2: Score du test spécifique | E2: Problèmes Q1 - réponse | F2: Problèmes Q1 - score | G2: Problèmes Q2 - réponse | H2: Problèmes Q2 - score | I2: Problèmes Q3 - réponse | J2: Problèmes Q3 - score | K2: Problèmes Q4 - réponse | L2: Problèmes Q4 - score | M2: Problèmes Q5 - réponse | N2: Problèmes Q5 - score | O2: Problèmes Q6 - réponse | P2: Problèmes Q6 - score | Q2: Problèmes Q7 - réponse | R2: Problèmes Q7 - score | S2: Problèmes Q8 - réponse | T2: Problèmes Q8 - score | U2: Problèmes Q9 - réponse | V2: Problèmes Q9 - score | W2: Problèmes Q10 - réponse | X2: Problèmes Q10 - score | Y2: Problèmes Q11 - réponse | Z2: Problèmes Q11 - score | AA2: Problèmes Q12 - réponse | AB2: Problèmes Q12 - score | AC2: Problèmes Q13 - réponse | AD2: Problèmes Q13 - score | AE2: Problèmes Q14 - réponse | AF2: Problèmes Q14 - score | AG2: Problèmes Q15 - réponse | AH2: Problèmes Q15 - score | AI2: Problèmes Q16 - réponse | AJ2: Problèmes Q16 - score | AK2: Problèmes Q17 - réponse | AL2: Problèmes Q17 - score | AM2: Problèmes Q18 - réponse | AN2: Problèmes Q18 - score | AO2: Problèmes Q19 - réponse | AP2: Problèmes Q19 - score
A3: 6B | C3: Alicia | D3: 5 | E3: 15 × 0,33 | F3: 1 | G3: 6,80 € | H3: 0 | I3: 3 euros | J3: 0 | K3: 505 | L3: 0 | M3: 32 | N3: 0 | O3: 15 | P3: 1 | Q3: 36 | R3: 1 | S3: 5 | T3: 0 | U3: 500 euros | V3: 0 | W3: 10 | X3: 0 | Y3: 40 km | Z3: 1 | AA3: 80 km | AB3: 0 | AC3: 200 | AD3: 0 | AE3: 2,5 kg | AF3: 0 | AG3: On ne peut pas savoir | AH3: 0 | AI3: 350 m | AJ3: 1 | AK3: 0,04 L | AL3: 0 | AM3: 280 L | AN3: 0 | AO3: 10 h 25 | AP3: 0
A4: 6B | C4: Léa | D4: 5 | E4: 15 × 0,33 × 0,76 | F4: 0 | G4: 4,40 € | H4: 1 | I4: 6 euros | J4: 0 | K4: 995 | L4: 0 | M4: 24 | N4: 0 | O4: 10 | P4: 0 | Q4: 36 | R4: 1 | S4: 6 | T4: 1 | U4: 350 euros | V4: 0 | W4: 10 | X4: 0 | Y4: 40 km | Z4: 1 | AA4: 60 km | AB4: 0 | AC4: 200 | AD4: 0 | AE4: 0,4 g | AF4: 0 | AG4: aire A < aire B | AH4: 1 | AI4: 750 m | AJ4: 0 | AK4: 0,25 cL | AL4: 0 | AM4: 1 400 L | AN4: 0 | AO4: 11 h 20 | AP4: 0
A5: 6B | C5: Roméo | D5: 8 | E5: 15 × 0,33 | F5: 1 | G5: 5,60 € | H5: 0 | J5: 0 | K5: 995 | L5: 0 | N5: 0 | O5: 15 | P5: 1 | Q5: 36 | R5: 1 | S5: 6 | T5: 1 | U5: 150 euros | V5: 0 | W5: 8 | X5: 1 | Z5: 0 | AA5: 60 km | AB5: 0 | AC5: 350 | AD5: 0 | AF5: 0 | AG5: aire A > aire B | AH5: 0 | AI5: 350 m | AJ5: 1 | AK5: 0,04 L | AL5: 0 | AM5: 840 L | AN5: 1 | AO5: 10 h 50 | AP5: 1
A6: 6B | C6: Lizéa | D6: 11 | E6: 15 × 0,33 | F6: 1 | G6: 5,60 € | H6: 0 | I6: 6 euros | J6: 0 | K6: 495 | L6: 1 | M6: 12 | N6: 1 | O6: 8 | P6: 0 | Q6: 36 | R6: 1 | S6: 5 | T6: 0 | U6: 350 euros | V6: 0 | W6: 8 | X6: 1 | Y6: 40 km | Z6: 1 | AA6: 60 km | AB6: 0 | AC6: 100 | AD6: 1 | AE6: 2,5 kg | AF6: 0 | AG6: On ne peut pas savoir | AH6: 0 | AI6: 350 m | AJ6: 1 | AK6: 25 cL | AL6: 1 | AM6: 840 L | AN6: 1 | AO6: 10 h 50 | AP6: 1
A7: 6B | C7: Tyméo | D7: 7 | E7: 15 + 0,33 + 0,76 | F7: 0 | G7: 3,20 € | H7: 0 | I7: environ 1,33 euros | J7: 0 | K7: 1005 | L7: 0 | M7: 12 | N7: 1 | O7: 8 | P7: 0 | Q7: 15 | R7: 0 | S7: 5 | T7: 0 | U7: 500 euros | V7: 0 | W7: 8 | X7: 1 | Y7: 400 km | Z7: 0 | AA7: 20 km | AB7: 1 | AC7: 200 | AD7: 0 | AE7: 2,5 g | AF7: 0 | AG7: aire A < aire B | AH7: 1 | AI7: 350 m | AJ7: 1 | AK7: 25 cL | AL7: 1 | AM7: 280 L | AN7: 0 | AO7: 10 h 50 | AP7: 1

Sheet BILANS
A1: PAGE GENEREE AUTOMATIQUEMENT !
A3: Quels THEMES DU PROGRAMME sont à renforcer ? (vision cohorte de 6e ; par classe : effacer les autres données)
A4: THEMES MATHS | B4: À besoins | C4: Fragile | D4: Satisfaisant
A5: =RESTITUTION!F2 -> Espace et géométrie : Connaître et utiliser des notions de géométrie | B5: =(COUNTIF(RESTITUTION!$F:$F,BILANS!B$4)+COUNTIF(RESTITUTION!$F:$F,"pas de restitution"))/(COUNTA(RESTITUTION!$A:$A)-2) -> 0.2 | C5: =COUNTIF(RESTITUTION!$F:$F,BILANS!C$4)/(COUNTA(RESTITUTION!$A:$A)-2) -> 0.2 | D5: =COUNTIF(RESTITUTION!$F:$F,BILANS!D$4)/(COUNTA(RESTITUTION!$A:$A)-2) -> 0.6
A6: =RESTITUTION!G2 -> Grandeurs et mesures : Connaître des grandeurs et utiliser des unités de mesure | B6: =(COUNTIF(RESTITUTION!$G:$G,BILANS!B$4)+COUNTIF(RESTITUTION!$G:$G,"pas de restitution"))/(COUNTA(RESTITUTION!$A:$A)-2) -> 0.2 | C6: =COUNTIF(RESTITUTION!$G:$G,BILANS!C$4)/(COUNTA(RESTITUTION!$A:$A)-2) -> 0.2 | D6: =COUNTIF(RESTITUTION!$G:$G,BILANS!D$4)/(COUNTA(RESTITUTION!$A:$A)-2) -> 0.6
A7: =RESTITUTION!H2 -> Nombres et calculs : Connaître les nombres et les utiliser dans des calculs | B7: =(COUNTIF(RESTITUTION!$H:$H,BILANS!B$4)+COUNTIF(RESTITUTION!$H:$H,"pas de restitution"))/(COUNTA(RESTITUTION!$A:$A)-2) -> 0.4 | C7: =COUNTIF(RESTITUTION!$H:$H,BILANS!C$4)/(COUNTA(RESTITUTION!$A:$A)-2) -> 0 | D7: =COUNTIF(RESTITUTION!$H:$H,BILANS!D$4)/(COUNTA(RESTITUTION!$A:$A)-2) -> 0.6
A16: Quelles priorités SPECIFIQUES D'ACCOMPAGNEMENT ? (vision cohorte de 6e ; par classe : effacer les autres données)
A17: TESTS SPECIFIQUES | B17: À besoins | C17: Fragile | D17: Satisfaisant
A18: =RESTITUTION!D2 -> Test spécifique en automatismes : Mobiliser directement des procédures et des connaissances | B18: =(COUNTIF(RESTITUTION!$D:$D,BILANS!B$17)+COUNTIF(RESTITUTION!$D:$D,"pas de restitution"))/(COUNTA(RESTITUTION!$A:$A)-2) -> 0.2 | C18: =COUNTIF(RESTITUTION!$D:$D,BILANS!C$17)/(COUNTA(RESTITUTION!$A:$A)-2) -> 0.2 | D18: =COUNTIF(RESTITUTION!$D:$D,BILANS!D$17)/(COUNTA(RESTITUTION!$A:$A)-2) -> 0.6
A19: =RESTITUTION!E2 -> Test spécifique en résolution de problèmes : Résoudre des problèmes en utilisant des nombres et des grandeurs | B19: =(COUNTIF(RESTITUTION!$E:$E,BILANS!B$17)+COUNTIF(RESTITUTION!$E:$E,"pas de restitution"))/(COUNTA(RESTITUTION!$A:$A)-2) -> 0.2 | C19: =COUNTIF(RESTITUTION!$E:$E,BILANS!C$17)/(COUNTA(RESTITUTION!$A:$A)-2) -> 0.2 | D19: =COUNTIF(RESTITUTION!$E:$E,BILANS!D$17)/(COUNTA(RESTITUTION!$A:$A)-2) -> 0.6

Sheet TRAITEMENT AUTO
B1: PAGE GENEREE AUTOMATIQUEMENT = ANALYSE DIDACTIQUE PAR TYPE D'ERREURS ---> CREATION DE GROUPES DE REMEDIATION CIBLES PORTANT SUR LES ERREURS (par classe ou interclasses)
A2: Item | B2: PROBLEME : énoncé, % par réponse, descriptif du type de problème | C2: réponse 1 | D2: réponse 2 | E2: réponse 3 | F2: réponse 4 | G2: réponse 5
A3: 1 | B3: Le nombre soixante-seize-mille-quatre s’écrit : | C3: 76 004 | D3: 76 1004 | E3: 60 16 1 004 | F3: 16 004 | G3: SANS REPONSE | H3: =COUNTA('TEST AUTO'!A:A)-2 -> 5
B4: NOMBRE DE REPONSES | C4: =COUNTIF('TEST AUTO'!$E:$E,'TRAITEMENT AUTO'!C$3) -> 3 | D4: =COUNTIF('TEST AUTO'!$E:$E,'TRAITEMENT AUTO'!D$3) -> 1 | E4: =COUNTIF('TEST AUTO'!$E:$E,'TRAITEMENT AUTO'!E$3) -> 0 | F4: =COUNTIF('TEST AUTO'!$E:$E,'TRAITEMENT AUTO'!F$3) -> 1 | G4: =H3-H4 -> 0 | H4: =SUM(C4:F4) -> 5
B5: % DE REPONSES | C5: =C4/$H3 -> 0.6 | D5: =D4/$H3 -> 0.2 | E5: =E4/$H3 -> 0 | F5: =F4/$H3 -> 0.2 | G5: =G4/$H3 -> 0 | H5: =SUM(C5:G5) -> 1
A6: TYPE | B6: L’élève doit déterminer l’écriture décimale d’un grand nombre entier à partir de son écriture en français. Grands entiers. Écriture des nombres : écriture en français -> écriture décimale. | D6: NON : sens de l’écriture décimale, écrit en chiffres ce qu’il lit ou entend. | E6: NON : sens de l’écriture décimale, écrit en chiffres ce qu’il lit ou entend. NON : sépare chaque nombre. | F6: NON : ne tient compte que de la fin de ce qu’il lit. | G6: CONNAISSANCE
A8: 2 | B8: Quel nombre correspond à soixante-douze millièmes ? | C8: 0.072 | D8: 72.001 | E8: 72.1 | F8: 0.72 | G8: SANS REPONSE | H8: =COUNTA('TEST AUTO'!A:A)-2 -> 5
B9: NOMBRE DE REPONSES | C9: =COUNTIF('TEST AUTO'!$G:$G,'TRAITEMENT AUTO'!C$8) -> 3 | D9: =COUNTIF('TEST AUTO'!$G:$G,'TRAITEMENT AUTO'!D$8) -> 1 | E9: =COUNTIF('TEST AUTO'!$G:$G,'TRAITEMENT AUTO'!E$8) -> 1 | F9: =COUNTIF('TEST AUTO'!$G:$G,'TRAITEMENT AUTO'!F$8) -> 0 | G9: =H8-H9 -> 0 | H9: =SUM(C9:F9) -> 5
B10: % DE REPONSES | C10: =C9/$H8 -> 0.6 | D10: =D9/$H8 -> 0.2 | E10: =E9/$H8 -> 0.2 | F10: =F9/$H8 -> 0 | G10: =G9/$H8 -> 0 | H10: =SUM(C10:G10) -> 1
A11: TYPE | B11: L’élève doit déterminer l’écriture décimale d’un nombre à partir de sa dénomination en français. Nombres décimaux. Écriture des nombres : écriture en français -> écriture décimale. | D11: OUI : chiffre des millièmes -> 3è décimale. NON : nombre d’unités + 1 millième. | E11: NON : sens mathématique de l'écriture décimale -> deux nombres accolés. | F11: OUI : chiffre des millièmes -> 3è décimale. NON : 72 pas nombre de millièmes. | G11: CONNAISSANCE ou PROCEDURE
A13: 3 | B13: 3 + 2/10 = … | C13: 3.2 | D13: 0.32 | E13: 32 | F13: 32.1 | G13: SANS REPONSE | H13: =COUNTA('TEST AUTO'!A:A)-2 -> 5
B14: NOMBRE DE REPONSES | C14: =COUNTIF('TEST AUTO'!$I:$I,'TRAITEMENT AUTO'!C$13) -> 4 | D14: =COUNTIF('TEST AUTO'!$I:$I,'TRAITEMENT AUTO'!D$13) -> 1 | E14: =COUNTIF('TEST AUTO'!$I:$I,'TRAITEMENT AUTO'!E$13) -> 0 | F14: =COUNTIF('TEST AUTO'!$I:$I,'TRAITEMENT AUTO'!F$13) -> 0 | G14: =H13-H14 -> 0 | H14: =SUM(C14:F14) -> 5
B15: % DE REPONSES | C15: =C14/$H13 -> 0.8 | D15: =D14/$H13 -> 0.2 | E15: =E14/$H13 -> 0 | F15: =F14/$H13 -> 0 | G15: =G14/$H13 -> 0 | H15: =SUM(C15:G15) -> 1
A16: TYPE | B16: L’élève doit déterminer l’écriture décimale d’un nombre décimal à partir de la somme entier et d'une fraction décimale. Nombres décimaux. Écriture des nombres : entier + fraction décimale -> écriture décimale. | D16: OUI : repère les chiffres, et une virgule. NON : multiplication, puis lit 32/10. | E16: OUI : repère les chiffres NON : multiplication, ne traite pas le /10 (virgule). | F16: OUI : repère les chiffres, et une virgule. NON : multiplication, additionne 1 /10. | G16: CONNAISSANCE ou PROCEDURE
A18: 4 | B18: Quel nombre est égal à la fraction 4 / 100 ? | C18: 0.04 | D18: 0.4 | E18: 4 | F18: 400 | G18: SANS REPONSE | H18: =COUNTA('TEST AUTO'!A:A)-2 -> 5
B19: NOMBRE DE REPONSES | C19: =COUNTIF('TEST AUTO'!$K:$K,'TRAITEMENT AUTO'!C$18) -> 4 | D19: =COUNTIF('TEST AUTO'!$K:$K,'TRAITEMENT AUTO'!D$18) -> 0 | E19: =COUNTIF('TEST AUTO'!$K:$K,'TRAITEMENT AUTO'!E$18) -> 1 | F19: =COUNTIF('TEST AUTO'!$K:$K,'TRAITEMENT AUTO'!F$18) -> 0 | G19: =H18-H19 -> 0 | H19: =SUM(C19:F19) -> 5
B20: % DE REPONSES | C20: =C19/$H18 -> 0.8 | D20: =D19/$H18 -> 0 | E20: =E19/$H18 -> 0.2 | F20: =F19/$H18 -> 0 | G20: =G19/$H18 -> 0 | H20: =SUM(C20:G20) -> 1
A21: TYPE | B21: L’élève doit déterminer l’écriture décimale d’un nombre décimal à partir d’une fraction décimale. Nombres décimaux. Écriture des nombres : fraction décimale -> écriture décimale. | D21: OUI : nombre pas un entier. NON : mauvais rang du chiffre 4. | E21: NON : l’écriture en fraction décimale ou la notion de nombre décimal. NON : que le 1er chiffre. | F21: NON : décomposition en fraction décimale ou la notion de nombre décimal. NON : produit d'entiers. | G21: CONNAISSANCE ou PROCEDURE
A23: 5 | B23: 5 centièmes est égal à … | C23: 10 fois 5 millièmes. | D23: 10 fois 5 dixièmes. | E23: 10 fois 5 unités. | F23: 10 fois 5 dizaines. | G23: SANS REPONSE | H23: =COUNTA('TEST AUTO'!A:A)-2 -> 5
B24: NOMBRE DE REPONSES | C24: =COUNTIF('TEST AUTO'!$M:$M,'TRAITEMENT AUTO'!C$23) -> 0 | D24: =COUNTIF('TEST AUTO'!$M:$M,'TRAITEMENT AUTO'!D$23) -> 3 | E24: =COUNTIF('TEST AUTO'!$M:$M,'TRAITEMENT AUTO'!E$23) -> 1 | F24: =COUNTIF('TEST AUTO'!$M:$M,'TRAITEMENT AUTO'!F$23) -> 1 | G24: =H23-H24 -> 0 | H24: =SUM(C24:F24) -> 5
B25: % DE REPONSES | C25: =C24/$H23 -> 0 | D25: =D24/$H23 -> 0.6 | E25: =E24/$H23 -> 0.2 | F25: =F24/$H23 -> 0.2 | G25: =G24/$H23 -> 0 | H25: =SUM(C25:G25) -> 1
A26: TYPE | B26: L’élève doit procéder à une correspondance entre unités de l’écriture décimale. Nombres décimaux. Numération décimale : correspondance entre centièmes et millièmes. | D26: NON : confond "dixième" et "dizaine", "centième" et "centaine". | E26: NON : confond "centièmes" et "centaines". NON : 5 centaines ne sont pas 5 dizaines. | F26: NON : pense centièmes en 100, et 100 = 10 fois dix. NON : élargit dix à dizaines. | G26: CONNAISSANCE ou PROCEDURE
A28: 6 | B28: Quel grand nombre faut-il placer dans le cadre vide sur cette droite graduée ? | C28: 2 600 000 | D28: 2 060 000 | E28: 2 000 600 | F28: 2 000 006 | G28: SANS REPONSE | H28: =COUNTA('TEST AUTO'!A:A)-2 -> 5
B29: NOMBRE DE REPONSES | C29: =COUNTIF('TEST AUTO'!$O:$O,'TRAITEMENT AUTO'!C$28) -> 2 | D29: =COUNTIF('TEST AUTO'!$O:$O,'TRAITEMENT AUTO'!D$28) -> 2 | E29: =COUNTIF('TEST AUTO'!$O:$O,'TRAITEMENT AUTO'!E$28) -> 1 | F29: =COUNTIF('TEST AUTO'!$O:$O,'TRAITEMENT AUTO'!F$28) -> 0 | G29: =H28-H29 -> 0 | H29: =SUM(C29:F29) -> 5
B30: % DE REPONSES | C30: =C29/$H28 -> 0.4 | D30: =D29/$H28 -> 0.4 | E30: =E29/$H28 -> 0.2 | F30: =F29/$H28 -> 0 | G30: =G29/$H28 -> 0 | H30: =SUM(C30:G30) -> 1
A31: TYPE | B31: L’élève doit déterminer un grand nombre entier à partir de la donnée d’une droite graduée. Grands entiers. Repérage sur une droite graduée, entre deux graduations seules. | D31: OUI : a dénombré 6 grandes graduations. NON : la valeur d'une graduation. | E31: OUI : a dénombré 6 graduations. NON : la valeur, trop petite, d'une graduation. | F31: OUI : a dénombré 6 graduations. NON : la valeur, en unités, d'une graduation. | G31: PROCEDURE
A33: 7 | B33: Observer cette demi-droite graduée. Quelle est l’abscisse du point B ? | C33: 2.2 | D33: 20.2 | E33: 22 | F33: 1.12 | G33: SANS REPONSE | H33: =COUNTA('TEST AUTO'!A:A)-2 -> 5
B34: NOMBRE DE REPONSES | C34: =COUNTIF('TEST AUTO'!$Q:$Q,'TRAITEMENT AUTO'!C$33) -> 3 | D34: =COUNTIF('TEST AUTO'!$Q:$Q,'TRAITEMENT AUTO'!D$33) -> 1 | E34: =COUNTIF('TEST AUTO'!$Q:$Q,'TRAITEMENT AUTO'!E$33) -> 1 | F34: =COUNTIF('TEST AUTO'!$Q:$Q,'TRAITEMENT AUTO'!F$33) -> 0 | G34: =H33-H34 -> 0 | H34: =SUM(C34:F34) -> 5
B35: % DE REPONSES | C35: =C34/$H33 -> 0.6 | D35: =D34/$H33 -> 0.2 | E35: =E34/$H33 -> 0.2 | F35: =F34/$H33 -> 0 | G35: =G34/$H33 -> 0 | H35: =SUM(C35:G35) -> 1
A36: TYPE | B36: L’élève doit déterminer l’abscisse (en écriture décimale) d’un point à partir de la donnée d’une droite graduée dont on connait l’origine et l’unité. Nombres décimaux. Repérage sur une droite graduée : écriture décimale. | C36: ! Le mot "abscisse" n'est pas censé être connu en CM2 ! | D36: OUI : espace entre deux graduations, moins d'1 unité. NON : ne l’applique pas entre 0 et 2 unités. | E36: NON : a dénombré toutes les graduations. NON : sans comprendre les sens de l’origine et d’1 unité. | F36: OUI : a repéré l’unité. NON : a dénombré toutes les graduations qui suivent, sans en comprendre le sens. | G36: PROCEDURE
A38: 8 | B38: Quelle fraction correspond au point A ? | C38: 4/10 | D38: 1/4 | E38: 4/1 | F38: 10/4 | G38: SANS REPONSE | H38: =COUNTA('TEST AUTO'!A:A)-2 -> 5
B39: NOMBRE DE REPONSES | C39: =COUNTIF('TEST AUTO'!$S:$S,'TRAITEMENT AUTO'!C$38) -> 3 | D39: =COUNTIF('TEST AUTO'!$S:$S,'TRAITEMENT AUTO'!D$38) -> 0 | E39: =COUNTIF('TEST AUTO'!$S:$S,'TRAITEMENT AUTO'!E$38) -> 2 | F39: =COUNTIF('TEST AUTO'!$S:$S,'TRAITEMENT AUTO'!F$38) -> 0 | G39: =H38-H39 -> 0 | H39: =SUM(C39:F39) -> 5
B40: % DE REPONSES | C40: =C39/$H38 -> 0.6 | D40: =D39/$H38 -> 0 | E40: =E39/$H38 -> 0.4 | F40: =F39/$H38 -> 0 | G40: =G39/$H38 -> 0 | H40: =SUM(C40:G40) -> 1
A41: TYPE | B41: L’élève doit déterminer une fraction correspondant à un point placé sur une droite graduée dont on connait l’origine et l’unité. Nombres décimaux. Repérage sur une droite graduée : écriture fractionnaire. | D41: OUI : a dénombré 4 graduations depuis l'origine. NON : partage de l’unité par ces 4 graduations. | E41: OUI : a dénombré 4 graduations depuis l'origine. NON : l’unité ne fait pas sens. | F41: OUI : a reconnu une situation de partage. NON : la notation en écriture fractionnaire. | G41: PROCEDURE
A43: 9 | B43: Choisir le nombre encadré par 10 000 et 100 000 : 10 000 < ... < 100 000 | C43: 87 842 | D43: 9 345 | E43: 235 412 | F43: 1 010 000 | G43: SANS REPONSE | H43: =COUNTA('TEST AUTO'!A:A)-2 -> 5
B44: NOMBRE DE REPONSES | C44: =COUNTIF('TEST AUTO'!$U:$U,'TRAITEMENT AUTO'!C$43) -> 3 | D44: =COUNTIF('TEST AUTO'!$U:$U,'TRAITEMENT AUTO'!D$43) -> 2 | E44: =COUNTIF('TEST AUTO'!$U:$U,'TRAITEMENT AUTO'!E$43) -> 0 | F44: =COUNTIF('TEST AUTO'!$U:$U,'TRAITEMENT AUTO'!F$43) -> 0 | G44: =H43-H44 -> 0 | H44: =SUM(C44:F44) -> 5
B45: % DE REPONSES | C45: =C44/$H43 -> 0.6 | D45: =D44/$H43 -> 0.4 | E45: =E44/$H43 -> 0 | F45: =F44/$H43 -> 0 | G45: =G44/$H43 -> 0 | H45: =SUM(C45:G45) -> 1
A46: TYPE | B46: L’élève doit déterminer un grand nombre entier à intercaler entre 10 000 et 100 000. Nombres entiers. Comparaison : encadrement grands entiers. | D46: NON : le plus proche de 10000. | E46: NON : les grands nombres ne font pas sens chez l’élève. | F46: NON : a "inséré" 10 000 dans 100 000 (sens du mot "encadré" de la consigne). | G46: CONNAISSANCE ou PROCEDURE
A48: 10 | B48: Quel est le plus petit nombre parmi les suivants ? | C48: 1,082 | D48: 1,4 | E48: 1,09 | F48: 2,03 | G48: SANS REPONSE | H48: =COUNTA('TEST AUTO'!A:A)-2 -> 5
B49: NOMBRE DE REPONSES | C49: =COUNTIF('TEST AUTO'!$W:$W,'TRAITEMENT AUTO'!C$48) -> 2 | D49: =COUNTIF('TEST AUTO'!$W:$W,'TRAITEMENT AUTO'!D$48) -> 1 | E49: =COUNTIF('TEST AUTO'!$W:$W,'TRAITEMENT AUTO'!E$48) -> 2 | F49: =COUNTIF('TEST AUTO'!$W:$W,'TRAITEMENT AUTO'!F$48) -> 0 | G49: =H48-H49 -> 0 | H49: =SUM(C49:F49) -> 5
...

Sheet TRAIT AUTO-pdf
A1: PAGE A IMPRIMER EN PDF POUR UN TRAVAIL CIBLE PAR ITEM (pour CEC, un temps INTER-DEGRE, en équipe COLLEGE, etc.)
C9: 76 004 | D9: =COUNTIF('TEST AUTO'!$E:$E,C9) -> 3 | E9: =D9/D$14 -> 0.6
C10: 76 1004 | D10: =COUNTIF('TEST AUTO'!$E:$E,C10) -> 1 | E10: =D10/D$14 -> 0.2 | F10: l’élève n’a pas compris l’écriture décimale.
C11: 60 16 1 004 | D11: =COUNTIF('TEST AUTO'!$E:$E,C11) -> 0 | E11: =D11/D$14 -> 0 | F11: l’élève n’a pas compris l’écriture décimale et écrit en chiffres ce qu’il lit ou entend.
C12: 16 004 | D12: =COUNTIF('TEST AUTO'!$E:$E,C12) -> 1 | E12: =D12/D$14 -> 0.2 | F12: l’élève ne tient compte que de la fin de ce qu’il lit.
C13: Pas de réponse | D13: =D14-(D9+D10+D11+D12) -> 0 | E13: =D13/D$14 -> 0
C14: Total | D14: =COUNTA('TEST AUTO'!$C:$C)-1 -> 5 | E14: =SUM(E9:E13) -> 1
C21: 0,072 | D21: =COUNTIF('TEST AUTO'!$G:$G,C21) -> 3 | E21: =D21/D$14 -> 0.6
C22: 0,720 | D22: =COUNTIF('TEST AUTO'!$G:$G,C22) -> 0 | E22: =D22/D$14 -> 0 | F22: OUI : chiffre des millièmes -> 3è décimale - NON : 72 pas nombre de millièmes
C23: 72,001 | D23: =COUNTIF('TEST AUTO'!$G:$G,C23) -> 1 | E23: =D23/D$14 -> 0.2 | F23: OUI : chiffre des millièmes -> 3è décimale - NON : nombre d’unités + 1 millième
C24: 72,1000 | D24: =COUNTIF('TEST AUTO'!$G:$G,C24) -> 1 | E24: =D24/D$14 -> 0.2 | F24: NON : sens mathématique de l'écriture décimale -> deux nombres accolés
C25: Pas de réponse | D25: =D26-(D22+D23+D24+D21) -> 0 | E25: =D25/D$14 -> 0
C26: Total | D26: =COUNTA('TEST AUTO'!$C:$C)-1 -> 5 | E26: =SUM(E21:E25) -> 1
C33: 3,2 | D33: =COUNTIF('TEST AUTO'!$I:$I,C33) -> 4 | E33: =D33/D$14 -> 0.8
C34: 0,32 | D34: =COUNTIF('TEST AUTO'!$I:$I,C34) -> 1 | E34: =D34/D$14 -> 0.2 | F34: OUI : repère les chiffres, et une virgule - NON : multiplication, puis lit 32/10
C35: 32,0 | D35: =COUNTIF('TEST AUTO'!$I:$I,C35) -> 0 | E35: =D35/D$14 -> 0 | F35: OUI : repère les chiffres - NON : multiplication, ne traite pas le /10 (virgule)
C36: 32,10 | D36: =COUNTIF('TEST AUTO'!$I:$I,C36) -> 0 | E36: =D36/D$14 -> 0 | F36: OUI : repère les chiffres, et une virgule - NON : multiplication, additionne 1 /10
C37: Pas de réponse | D37: =D38-(D34+D33+D35+D36) -> 0 | E37: =D37/D$14 -> 0
C38: Total | D38: =COUNTA('TEST AUTO'!$C:$C)-1 -> 5 | E38: =SUM(E33:E37) -> 1
C45: 0.04 | D45: =COUNTIF('TEST AUTO'!$K:$K,C45) -> 4 | E45: =D45/D$14 -> 0.8
C46: 0.4 | D46: =COUNTIF('TEST AUTO'!$K:$K,C46) -> 0 | E46: =D46/D$14 -> 0 | F46: OUI : nombre pas un entier - NON : mauvais rang du chiffre 4
C47: 4 | D47: =COUNTIF('TEST AUTO'!$K:$K,C47) -> 1 | E47: =D47/D$14 -> 0.2 | F47: NON : l’écriture en fraction décimale ou la notion de nombre décimal - NON : que le 1er chiffre
C48: 400 | D48: =COUNTIF('TEST AUTO'!$K:$K,C48) -> 0 | E48: =D48/D$14 -> 0 | F48: NON : décomposition en fraction décimale ou la notion de nombre décimal
C49: Pas de réponse | D49: =D50-(D45+D46+D47+D48) -> 0 | E49: =D49/D$14 -> 0
C50: Total | D50: =COUNTA('TEST AUTO'!$C:$C)-1 -> 5 | E50: =SUM(E45:E49) -> 1
C56: 10 fois 5 millièmes. | D56: =COUNTIF('TEST AUTO'!$M:$M,C56) -> 0 | E56: =D56/D$14 -> 0
C57: 10 fois 5 dixièmes. | D57: =COUNTIF('TEST AUTO'!$M:$M,C57) -> 3 | E57: =D57/D$14 -> 0.6 | F57: NON : pense centièmes en 100, et 100 = 10 fois dix - NON : élargit dix à dixièmes
C58: 10 fois 5 unités. | D58: =COUNTIF('TEST AUTO'!$M:$M,C58) -> 1 | E58: =D58/D$14 -> 0.2 | F58: NON : confond centièmes et centaines - NON : 5 centaines ne sont pas 5 dizaines
C59: 10 fois 5 dizaines. | D59: =COUNTIF('TEST AUTO'!$M:$M,C59) -> 1 | E59: =D59/D$14 -> 0.2 | F59: NON : pense centièmes en 100, et 100 = 10 fois dix - NON : élargit dix à dizaines
C60: Pas de réponse | D60: =D61-(D57+D56+D58+D59) -> 0 | E60: =D60/D$14 -> 0
C61: Total | D61: =COUNTA('TEST AUTO'!$C:$C)-1 -> 5 | E61: =SUM(E56:E60) -> 1
C75: 2 600 000 | D75: =COUNTIF('TEST AUTO'!$O:$O,C75) -> 2 | E75: =D75/D$14 -> 0.4
C76: 2 060 000 | D76: =COUNTIF('TEST AUTO'!$O:$O,C76) -> 2 | E76: =D76/D$14 -> 0.4 | F76: OUI : a dénombré 6 grandes graduations - NON : la valeur d'une graduation
C77: 2 000 600 | D77: =COUNTIF('TEST AUTO'!$O:$O,C77) -> 1 | E77: =D77/D$14 -> 0.2 | F77: OUI : a dénombré 6 graduations - NON : la valeur, trop petite, d'une graduation
C78: 2 000 006 | D78: =COUNTIF('TEST AUTO'!$O:$O,C78) -> 0 | E78: =D78/D$14 -> 0 | F78: OUI : a dénombré 6 graduations - NON : la valeur, en unités, d'une graduation
C79: Pas de réponse | D79: =D80-(D75+D76+D77+D78) -> 0 | E79: =D79/D$14 -> 0
C80: Total | D80: =COUNTA('TEST AUTO'!$C:$C)-1 -> 5 | E80: =SUM(E75:E79) -> 1
C91: 2.2 | D91: =COUNTIF('TEST AUTO'!$Q:$Q,C91) -> 3 | E91: =D91/D$14 -> 0.6
C92: 1.12 | D92: =COUNTIF('TEST AUTO'!$Q:$Q,C92) -> 0 | E92: =D92/D$14 -> 0 | F92: OUI : a repéré l’unité- NON : a dénombré toutes les graduations qui suivent, sans en comprendre le sens
C93: 22 | D93: =COUNTIF('TEST AUTO'!$Q:$Q,C93) -> 1 | E93: =D93/D$14 -> 0.2 | F93: NON : a dénombré toutes les graduations- NON : sans comprendre les sens de l’origine et d’1 unité
...

Sheet ANALYSE AUTO
A1: TABLEAU ET GRAPHIQUES GENERES AUTOMATIQUEMENT = ANALYSE DES REUSSITES PAR ITEMS, PAR TYPE DE TACHE, PAR FAMILLE DE NOMBRES -> PILOTAGE DIDACTIQUE SUR TOUT LE CYCLE 3
A2: TYPE DE TACHE FAMILLE DE NOMBRES (% DE REUSSITES) | B2: Repérage nombre sur graduation | C2: Comparaison | D2: Partage | E2: Grandeurs et mesures : choix de l'unité, relation entre les unités | F2: Grandeurs et mesures : dénombrement, compréhension d'un concept | G2: Différentes écritures d'un nombre : en français, en chiffres ; avec virgule, en fractions décimales ; par décomposition additive ou multiplicative | H2: Calcul mental ou posé : complément à dizaine ; moitié ; x10 ; x5 | I2: TOTAL
A3: ENTIERS (entiers ; grands nombres) | B3: ITEM : 6 | C3: ITEM : 9 | E3: ITEMS : 16-18 | F3: ITEMS : 17-20-21 | G3: ITEM : 1 | H3: ITEM : 12 | I3: =D64 -> 0.55555556
B4: ='TRAITEMENT AUTO'!C30 -> 0.4 | C4: ='TRAITEMENT AUTO'!C45 -> 0.6 | E4: =AVERAGE('TRAITEMENT AUTO'!C80,'TRAITEMENT AUTO'!C90) -> 0.5 | F4: =AVERAGE('TRAITEMENT AUTO'!C85,'TRAITEMENT AUTO'!C100,'TRAITEMENT AUTO'!C105) -> 0.46666667 | G4: ='TRAITEMENT AUTO'!C5 -> 0.6 | H4: ='TRAITEMENT AUTO'!C60 -> 1
A5: FRACTIONS (décimaux en écritures avec fractions décimales ; fractions ; proportion) | B5: ITEM : 8 | D5: ITEM : 11 | G5: ITEMS : 3, 4, 5 | I5: =D73 -> 0.6
B6: ='TRAITEMENT AUTO'!C40 -> 0.6 | D6: ='TRAITEMENT AUTO'!C55 -> 0.8 | G6: =AVERAGE('TRAITEMENT AUTO'!C15,'TRAITEMENT AUTO'!C20,'TRAITEMENT AUTO'!C25) -> 0.53333333
A7: DECIMAUX (en écritures décimales) | B7: ITEM : 7 ! mot "abscisse" inconnu ! | C7: ITEM : 10 | E7: ITEMS : 19, 23 | G7: ITEMS : 2, 5 | H7: ITEMS : 13, 14, 15 | I7: =D78 -> 0.42222222
B8: ='TRAITEMENT AUTO'!C35 -> 0.6 | C8: ='TRAITEMENT AUTO'!C50 -> 0.4 | E8: =AVERAGE('TRAITEMENT AUTO'!C95,'TRAITEMENT AUTO'!C115) -> 0.7 | G8: =AVERAGE('TRAITEMENT AUTO'!C10,'TRAITEMENT AUTO'!C25) -> 0.3 | H8: =AVERAGE('TRAITEMENT AUTO'!C65,'TRAITEMENT AUTO'!C70,'TRAITEMENT AUTO'!C75) -> 0.26666667
A9: SANS VALEUR NUMERIQUE | F9: ITEM : 22 | I9: =D87 -> 0.8 | K9: Voir ITEMS
F10: ='TRAITEMENT AUTO'!C110 -> 0.8 | K10: ↓↓↓↓
A11: TOTAL | B11: =D39 -> 0.53333333 | C11: =D42 -> 0.5 | D11: =D44 -> 0.8 | E11: =D45 -> 0.6 | F11: =D49 -> 0.55 | G11: =D53 -> 0.56 | H11: =D58 -> 0.45 | K11: ↓↓↓↓
K12: ↓↓↓↓
A13: DESCRIPTIF DE LA TACHE | B13: ITEMS AUTO | C13: % DE REUSSITE
A14: Ecriture en français -> écriture grand entier. | B14: 1 | C14: ='TRAITEMENT AUTO'!C5 -> 0.6
A15: Ecriture en français -> écriture décimale. | B15: 2 | C15: ='TRAITEMENT AUTO'!C10 -> 0.6
A16: Entier + fraction décimale -> écriture décimale. | B16: 3 | C16: ='TRAITEMENT AUTO'!C15 -> 0.8
A17: Fraction décimale -> écriture décimale. | B17: 4 | C17: ='TRAITEMENT AUTO'!C20 -> 0.8
A18: Correspondance entre centièmes et millièmes. | B18: 5 | C18: ='TRAITEMENT AUTO'!C25 -> 0
A19: Repérage grand entier sur une droite graduée. | B19: 6 | C19: ='TRAITEMENT AUTO'!C30 -> 0.4
A20: Repérage sur une droite graduée : écriture décimale. | B20: 7 | C20: ='TRAITEMENT AUTO'!C35 -> 0.6
A21: Repérage sur une droite graduée : écriture fractionnaire. | B21: 8 | C21: ='TRAITEMENT AUTO'!C40 -> 0.6
A22: Comparaison : encadrement grands entiers. | B22: 9 | C22: ='TRAITEMENT AUTO'!C45 -> 0.6
A23: Ecriture décimale : comparaison. | B23: 10 | C23: ='TRAITEMENT AUTO'!C50 -> 0.4
A24: Ecriture fractionnaire : proportion. | B24: 11 | C24: ='TRAITEMENT AUTO'!C55 -> 0.8
A25: Calcul mental : complément à la dizaine. Entiers. | B25: 12 | C25: ='TRAITEMENT AUTO'!C60 -> 1
A26: Calcul mental : moitié de. Ecriture décimale. | B26: 13 | C26: ='TRAITEMENT AUTO'!C65 -> 0.6
A27: Calcul mental : multiplication par 10. Ecriture décimale. | B27: 14 | C27: ='TRAITEMENT AUTO'!C70 -> 0.2
A28: Calcul mental : multiplication par 5. Ecriture décimale. | B28: 15 | C28: ='TRAITEMENT AUTO'!C75 -> 0
A29: Longueur. Choix de l'unité : ordre de grandeur. | B29: 16 | C29: ='TRAITEMENT AUTO'!C80 -> 0.6
A30: Périmètre : dénombrement de segments égaux. | B30: 17 | C30: ='TRAITEMENT AUTO'!C85 -> 0.4
A31: Longueur. Choix de l'unité : comparaison. | B31: 18 | C31: ='TRAITEMENT AUTO'!C90 -> 0.4
A32: Longueur. Conversion d'unité : relation entre les unités. | B32: 19 | C32: ='TRAITEMENT AUTO'!C95 -> 0.6
A33: Aire : dénombrement de carrés de même aire. | B33: 20 | C33: ='TRAITEMENT AUTO'!C100 -> 0.2
A34: Volume : dénombrement de cubes de même volume. | B34: 21 | C34: ='TRAITEMENT AUTO'!C105 -> 0.8
A35: Angles : comparaison de mesures de secteurs angulaires. | B35: 22 | C35: ='TRAITEMENT AUTO'!C110 -> 0.8
A36: Masse. Choix de l'unité : ordre de grandeur. | B36: 23 | C36: ='TRAITEMENT AUTO'!C115 -> 0.8
A38: REGROUPEMENT PAR TYPE DE TACHE | B38: ITEMS AUTO | C38: % DE REUSSITE | D38: % DE REUSSITE
A39: Repérage grand entier sur une droite graduée. | B39: 6 | C39: =C19 -> 0.4 | D39: =AVERAGE(C39:C41) -> 0.53333333
A40: Repérage sur une droite graduée : écriture décimale. | B40: 7 | C40: =C20 -> 0.6
A41: Repérage sur une droite graduée : écriture fractionnaire. | B41: 8 | C41: =C21 -> 0.6
...

Sheet TRAITEMENT RDP
B1: PAGE GENEREE AUTOMATIQUEMENT = ANALYSE DIDACTIQUE PAR TYPE D'ERREURS ---> CREATION DE GROUPES DE REMEDIATION CIBLES PORTANT SUR LES ERREURS (par classe ou interclasses)
A2: Item | B2: PROBLEME : énoncé, % par réponse, descriptif du type de problème | C2: réponse 1 | D2: réponse 2 | E2: réponse 3 | F2: réponse 4 | G2: réponse 5
A3: 1 | B3: Lors de son anniversaire, Robin achète 15 bouteilles de jus de fruits de 0,33 L chacune. Une bouteille coûte 0,76 €. Un des calculs ci-dessous permet de trouver le nombre total de litres de jus de fruits. | C3: 15 × 0,33 | D3: 15 + 0,33 + 0,76 | E3: 15 × 0,33 × 0,76 | F3: 15 × 0,76 | G3: SANS REPONSE | H3: =COUNTA('TEST RDP'!A:A)-2 -> 5
B4: NOMBRE DE REPONSES | C4: =COUNTIF('TEST RDP'!$E:$E,'TRAITEMENT RDP'!C$3) -> 3 | D4: =COUNTIF('TEST RDP'!$E:$E,'TRAITEMENT RDP'!D$3) -> 1 | E4: =COUNTIF('TEST RDP'!$E:$E,'TRAITEMENT RDP'!E$3) -> 1 | F4: =COUNTIF('TEST RDP'!$E:$E,'TRAITEMENT RDP'!F$3) -> 0 | G4: =H3-H4 -> 0 | H4: =SUM(C4:F4) -> 5
B5: % DE REPONSES | C5: =C4/$H3 -> 0.6 | D5: =D4/$H3 -> 0.2 | E5: =E4/$H3 -> 0.2 | F5: =F4/$H3 -> 0 | G5: =G4/$H3 -> 0 | H5: =SUM(C5:G5) -> 1
A6: TYPE | B6: L’élève doit déterminer un calcul à effectuer pour résoudre un problème. Problème à une étape. Problème multiplicatif. Plusieurs éléments identiques, recherche de la valeur du tout. | D6: NON : pas additif NON : pas toutes les valeurs | E6: OUI : multiplicatif NON : pas toutes les valeurs | F6: NON : confusion avec calcul du prix (au lieu de la contenance) | G6: Contexte familier.
A8: 2 | B8: A la boulangerie, Kim a acheté 3 croissants à 1,20 € l’un et un pain aux raisins à 2 €. Elle donne 10 €. Combien va-t-on lui rendre ? | C8: 4,40 € | D8: 3,20 € | E8: 5,60 € | F8: 6,80 € | G8: SANS REPONSE | H8: =COUNTA('TEST RDP'!A:A)-2 -> 5
B9: NOMBRE DE REPONSES | C9: =COUNTIF('TEST RDP'!$G:$G,'TRAITEMENT RDP'!C$8) -> 1 | D9: =COUNTIF('TEST RDP'!$G:$G,'TRAITEMENT RDP'!D$8) -> 1 | E9: =COUNTIF('TEST RDP'!$G:$G,'TRAITEMENT RDP'!E$8) -> 2 | F9: =COUNTIF('TEST RDP'!$G:$G,'TRAITEMENT RDP'!F$8) -> 1 | G9: =H8-H9 -> 0 | H9: =SUM(C9:F9) -> 5
B10: % DE REPONSES | C10: =C9/$H8 -> 0.2 | D10: =D9/$H8 -> 0.2 | E10: =E9/$H8 -> 0.4 | F10: =F9/$H8 -> 0.2 | G10: =G9/$H8 -> 0 | H10: =SUM(C10:G10) -> 1
A11: TYPE | B11: L’élève doit déterminer (calculer) une quantité (prix en euro). Problème à plusieurs étapes. Peut nécessiter une représentation. Problème mixte : additif, multiplicatif. | D11: NON : confusion avec le prix à payer (au lieu du reste) NON : sans les "3 croissants" | E11: NON : confusion avec le prix à payer (au lieu du reste) | F11: OUI : calcule la somme rendue NON : sans les "3 croissants" | G11: Contexte familier.
A13: 3 | B13: À la boulangerie, Juliette achète 9 croissants et paie 12 euros. J’achète 3 croissants. Combien vais-je payer ? | C13: 4 euros | D13: 6 euros | E13: environ 1,33 euros | F13: 3 euros | G13: SANS REPONSE | H13: =COUNTA('TEST RDP'!A:A)-2 -> 5
B14: NOMBRE DE REPONSES | C14: =COUNTIF('TEST RDP'!$I:$I,'TRAITEMENT RDP'!C$13) -> 0 | D14: =COUNTIF('TEST RDP'!$I:$I,'TRAITEMENT RDP'!D$13) -> 2 | E14: =COUNTIF('TEST RDP'!$I:$I,'TRAITEMENT RDP'!E$13) -> 1 | F14: =COUNTIF('TEST RDP'!$I:$I,'TRAITEMENT RDP'!F$13) -> 1 | G14: =H13-H14 -> 1 | H14: =SUM(C14:F14) -> 4
B15: % DE REPONSES | C15: =C14/$H13 -> 0 | D15: =D14/$H13 -> 0.4 | E15: =E14/$H13 -> 0.2 | F15: =F14/$H13 -> 0.2 | G15: =G14/$H13 -> 0.2 | H15: =SUM(C15:G15) -> 1
A16: TYPE | B16: L’élève doit calculer un prix dans une situation de proportionnalité. Problème à une étape. Problème multiplicatif, proportionnalité (propriété de linéarité). | D16: NON : confusion avec l'écart additif de 6, entre 9 et 3 croissants. | E16: NON : calcul du prix d’un croissant. | F16: NON : confusion avec l'écart multiplicatif de 3, entre 3 et 9 croissants | G16: Contexte familier.
A18: 4 | B18: Je choisis un nombre. Si j’augmente ce nombre de 5, j’obtiens la moitié de 1000. Quel nombre ai-je choisi au départ ? | C18: 495 | D18: 1005 | E18: 505 | F18: 995 | G18: SANS REPONSE | H18: =COUNTA('TEST RDP'!A:A)-2 -> 5
B19: NOMBRE DE REPONSES | C19: =COUNTIF('TEST RDP'!$K:$K,'TRAITEMENT RDP'!C$18) -> 1 | D19: =COUNTIF('TEST RDP'!$K:$K,'TRAITEMENT RDP'!D$18) -> 1 | E19: =COUNTIF('TEST RDP'!$K:$K,'TRAITEMENT RDP'!E$18) -> 1 | F19: =COUNTIF('TEST RDP'!$K:$K,'TRAITEMENT RDP'!F$18) -> 2 | G19: =H18-H19 -> 0 | H19: =SUM(C19:F19) -> 5
B20: % DE REPONSES | C20: =C19/$H18 -> 0.2 | D20: =D19/$H18 -> 0.2 | E20: =E19/$H18 -> 0.2 | F20: =F19/$H18 -> 0.4 | G20: =G19/$H18 -> 0 | H20: =SUM(C20:G20) -> 1
A21: TYPE | B21: L’élève doit calculer un nombre. Problème « atypique ». Peut nécessiter une représentation. | D21: NON : pas compréhension de la consigne, et additionne les deux nombres donnés | E21: OUI : moitié de 1000 NON : mauvais nombre augmenté de 5 | F21: NON : pas tenu compte d'obtenir la moitié de 1000 (et non 1000) | G21: Contexte intra-mathématique.
A23: 5 | B23: Dans une recette, pour faire un gâteau au chocolat pour 8 personnes, il faut 4 oeufs. Combien dois-je prévoir d’oeufs pour 24 personnes ? | C23: 12 | D23: 24 | E23: 28 | F23: 32 | G23: SANS REPONSE | H23: =COUNTA('TEST RDP'!A:A)-2 -> 5
B24: NOMBRE DE REPONSES | C24: =COUNTIF('TEST RDP'!$M:$M,'TRAITEMENT RDP'!C$23) -> 2 | D24: =COUNTIF('TEST RDP'!$M:$M,'TRAITEMENT RDP'!D$23) -> 1 | E24: =COUNTIF('TEST RDP'!$M:$M,'TRAITEMENT RDP'!E$23) -> 0 | F24: =COUNTIF('TEST RDP'!$M:$M,'TRAITEMENT RDP'!F$23) -> 1 | G24: =H23-H24 -> 1 | H24: =SUM(C24:F24) -> 4
B25: % DE REPONSES | C25: =C24/$H23 -> 0.4 | D25: =D24/$H23 -> 0.2 | E25: =E24/$H23 -> 0 | F25: =F24/$H23 -> 0.2 | G25: =G24/$H23 -> 0.2 | H25: =SUM(C25:G25) -> 1
A26: TYPE | B26: L’élève doit calculer un nombre. Problème à une étape. Peut nécessiter une représentation. Problème multiplicatif, proportionnalité. | D26: NON : est la reprise du nombre de personnes | E26: NON : erreur de raisonnement (addition simplement 24+4) | F26: NON : erreur de raisonnement (multiplication des deux nombres) | G26: Contexte familier.
A28: 6 | B28: Dans sa commode, Kevin a 5 écharpes différentes et 3 paires de gants différentes. Combien d’assortiments différents peut-il réaliser ? | C28: 15 | D28: 8 | E28: 2 | F28: 10 | G28: SANS REPONSE | H28: =COUNTA('TEST RDP'!A:A)-2 -> 5
B29: NOMBRE DE REPONSES | C29: =COUNTIF('TEST RDP'!$O:$O,'TRAITEMENT RDP'!C$28) -> 2 | D29: =COUNTIF('TEST RDP'!$O:$O,'TRAITEMENT RDP'!D$28) -> 2 | E29: =COUNTIF('TEST RDP'!$O:$O,'TRAITEMENT RDP'!E$28) -> 0 | F29: =COUNTIF('TEST RDP'!$O:$O,'TRAITEMENT RDP'!F$28) -> 1 | G29: =H28-H29 -> 0 | H29: =SUM(C29:F29) -> 5
B30: % DE REPONSES | C30: =C29/$H28 -> 0.4 | D30: =D29/$H28 -> 0.4 | E30: =E29/$H28 -> 0 | F30: =F29/$H28 -> 0.2 | G30: =G29/$H28 -> 0 | H30: =SUM(C30:G30) -> 1
A31: TYPE | B31: L’élève doit dénombrer des assortiments. Problème atypique, à une étape. Peut nécessiter une représentation. Problème multiplicatif, produit cartésien (dénombrement). | D31: NON : a recherché le nombre total d'objets (somme) | E31: NON : a recherché la "différence" entre les nombres d'objets (consigne : "assortiments différents") | F31: NON : a confondu "3 paires" avec "une paire vaut 2" | G31: Contexte familier.
A33: 7 | B33: Matthieu a trois fois moins de jeux vidéo que Julie. Matthieu a 12 jeux vidéo. Combien de jeux a Julie ? | C33: 36 | D33: 4 | E33: 9 | F33: 15 | G33: SANS REPONSE | H33: =COUNTA('TEST RDP'!A:A)-2 -> 5
B34: NOMBRE DE REPONSES | C34: =COUNTIF('TEST RDP'!$Q:$Q,'TRAITEMENT RDP'!C$33) -> 4 | D34: =COUNTIF('TEST RDP'!$Q:$Q,'TRAITEMENT RDP'!D$33) -> 0 | E34: =COUNTIF('TEST RDP'!$Q:$Q,'TRAITEMENT RDP'!E$33) -> 0 | F34: =COUNTIF('TEST RDP'!$Q:$Q,'TRAITEMENT RDP'!F$33) -> 1 | G34: =H33-H34 -> 0 | H34: =SUM(C34:F34) -> 5
B35: % DE REPONSES | C35: =C34/$H33 -> 0.8 | D35: =D34/$H33 -> 0 | E35: =E34/$H33 -> 0 | F35: =F34/$H33 -> 0.2 | G35: =G34/$H33 -> 0 | H35: =SUM(C35:G35) -> 1
A36: TYPE | B36: L’élève doit calculer un nombre. Problème à une étape. Peut nécessiter une représentation. Problème multiplicatif, comparaison. | D36: OUI : multiplicatif NON : division (sens : confusion référent-référé) | E36: NON : compréhension de "trois fois moins" en soustraction | F36: NON : compréhension de "trois fois moins" en addition | G36: Contexte familier.
A38: 8 | B38: "Sam le pirate" veut partager les 50 pièces d’or de son trésor. Il donne 7 pièces à chacun de ses compagnons. Il garde les 8 dernières pièces pour lui. Combien a-t-il de compagnons ? | C38: 6 | D38: 5 | E38: 8 | F38: 7 | G38: SANS REPONSE | H38: =COUNTA('TEST RDP'!A:A)-2 -> 5
B39: NOMBRE DE REPONSES | C39: =COUNTIF('TEST RDP'!$S:$S,'TRAITEMENT RDP'!C$38) -> 2 | D39: =COUNTIF('TEST RDP'!$S:$S,'TRAITEMENT RDP'!D$38) -> 3 | E39: =COUNTIF('TEST RDP'!$S:$S,'TRAITEMENT RDP'!E$38) -> 0 | F39: =COUNTIF('TEST RDP'!$S:$S,'TRAITEMENT RDP'!F$38) -> 0 | G39: =H38-H39 -> 0 | H39: =SUM(C39:F39) -> 5
B40: % DE REPONSES | C40: =C39/$H38 -> 0.4 | D40: =D39/$H38 -> 0.6 | E40: =E39/$H38 -> 0 | F40: =F39/$H38 -> 0 | G40: =G39/$H38 -> 0 | H40: =SUM(C40:G40) -> 1
A41: TYPE | B41: L’élève doit déterminer un nombre de personnes. Problème à deux étapes. Peut nécessiter une représentation. Problème mixte : additif, multiplicatif (nombre de parts). | D41: NON : a ajouté 8+7=15 ; le soustrait au nombre de pièces : 50-15=35 ; le partage en tas de 7 : 35/7=5 | E41: NON : confusion pièces restantes / compagnons | F41: NON : confusion pièces données / compagnons | G41: Contexte familier.
A43: 9 | B43: Un centre de vacances propose des séjours à 50 euros par personne et par jour. Une famille de trois personnes y passe sept jours. Combien lui coutera ce séjour ? | C43: 1 050 euros | D43: 350 euros | E43: 500 euros | F43: 150 euros | G43: SANS REPONSE | H43: =COUNTA('TEST RDP'!A:A)-2 -> 5
B44: NOMBRE DE REPONSES | C44: =COUNTIF('TEST RDP'!$U:$U,'TRAITEMENT RDP'!C$43) -> 0 | D44: =COUNTIF('TEST RDP'!$U:$U,'TRAITEMENT RDP'!D$43) -> 2 | E44: =COUNTIF('TEST RDP'!$U:$U,'TRAITEMENT RDP'!E$43) -> 2 | F44: =COUNTIF('TEST RDP'!$U:$U,'TRAITEMENT RDP'!F$43) -> 1 | G44: =H43-H44 -> 0 | H44: =SUM(C44:F44) -> 5
B45: % DE REPONSES | C45: =C44/$H43 -> 0 | D45: =D44/$H43 -> 0.4 | E45: =E44/$H43 -> 0.4 | F45: =F44/$H43 -> 0.2 | G45: =G44/$H43 -> 0 | H45: =SUM(C45:G45) -> 1
A46: TYPE | B46: L’élève doit déterminer (calculer) un coût (total). Problème à plusieurs étapes. Peut nécessiter une représentation. Problème multiplicatif, valeur du tout, dénombrement. | D46: OUI : tient compte des jours NON : mais pas des personnes. | E46: NON : ne comprend pas les relations en jeu, additionne 3 + 7 et multiplie par 50 euros. | F46: OUI : tient compte des personnes NON : mais pas des jours. | G46: Contexte familier.
A48: 10 | B48: Carl et Lucie courent autour d’un stade. Ils courent à la même vitesse, mais Carl a commencé à courir avant Lucie. Quand Carl a parcouru 6 tours, Lucie a parcouru 2 tours. Combien de tours aura parcourus Carl quand Lucie en aura parcouru 4 ? | C48: 8 | D48: 10 | E48: 12 | F48: 6 | G48: SANS REPONSE | H48: =COUNTA('TEST RDP'!A:A)-2 -> 5
B49: NOMBRE DE REPONSES | C49: =COUNTIF('TEST RDP'!$W:$W,'TRAITEMENT RDP'!C$48) -> 3 | D49: =COUNTIF('TEST RDP'!$W:$W,'TRAITEMENT RDP'!D$48) -> 2 | E49: =COUNTIF('TEST RDP'!$W:$W,'TRAITEMENT RDP'!E$48) -> 0 | F49: =COUNTIF('TEST RDP'!$W:$W,'TRAITEMENT RDP'!F$48) -> 0 | G49: =H48-H49 -> 0 | H49: =SUM(C49:F49) -> 5
...

Sheet TRAIT RDP-pdf
A1: PAGE A IMPRIMER EN PDF POUR UN TRAVAIL CIBLE PAR ITEM (pour CEC, un temps INTER-DEGRE, en équipe COLLEGE, etc.)
C19: 15 × 0,33 | D19: =COUNTIF('TEST RDP'!E:E,C19) -> 3 | E19: =D19/D$24 -> 0.6
C20: 15 + 0,33 + 0,76 | D20: =COUNTIF('TEST RDP'!E:E,C20) -> 1 | E20: =D20/D$24 -> 0.2 | F20: NON : pas additif. NON : pas toutes les valeurs.
C21: 15 × 0,33 × 0,76 | D21: =COUNTIF('TEST RDP'!E:E,C21) -> 1 | E21: =D21/D$24 -> 0.2 | F21: OUI : multiplicatif. NON : pas toutes les valeurs.
C22: 15 × 0,76 | D22: =COUNTIF('TEST RDP'!E:E,C22) -> 0 | E22: =D22/D$24 -> 0 | F22: NON : confusion avec calcul du prix (au lieu de la contenance).
C23: pas de réponse | D23: =D24-(D20+D21+D19+D22) -> 0 | E23: =D23/D$24 -> 0
C24: Total | D24: =COUNTA('TEST RDP'!C:C)-1 -> 5 | E24: =SUM(E19:E23) -> 1
C36: 4.4 | D36: =COUNTIF('TEST RDP'!G:G,C36) -> 1 | E36: =D36/D$24 -> 0.2
C37: 5.6 | D37: =COUNTIF('TEST RDP'!G:G,C37) -> 2 | E37: =D37/D$24 -> 0.4 | F37: NON : confusion avec le prix à payer (au lieu du reste)
C38: 3.2 | D38: =COUNTIF('TEST RDP'!G:G,C38) -> 1 | E38: =D38/D$24 -> 0.2 | F38: NON : confusion avec le prix à payer (au lieu du reste) - NON : sans les "3 croissants"
C39: 6.8 | D39: =COUNTIF('TEST RDP'!G:G,C39) -> 1 | E39: =D39/D$24 -> 0.2 | F39: OUI : calcule la somme rendue - NON : sans les "3 croissants"
C40: pas de réponse | D40: =D41-(D37+D36+D38+D39) -> 0 | E40: =D40/D$24 -> 0
C41: Total | D41: =COUNTA('TEST RDP'!C:C)-1 -> 5 | E41: =D41/D$24 -> 1
C56: 4 euros | D56: =COUNTIF('TEST RDP'!I:I,C56) -> 0 | E56: =D56/D$24 -> 0
C57: 6 euros | D57: =COUNTIF('TEST RDP'!I:I,C57) -> 2 | E57: =D57/D$24 -> 0.4 | F57: NON : confusion avec l'écart additif de 6, entre 9 et 3 croissants.
C58: environ 1,33 euros | D58: =COUNTIF('TEST RDP'!I:I,C58) -> 1 | E58: =D58/D$24 -> 0.2 | F58: NON : calcul du prix d’un croissant.
C59: 3 euros | D59: =COUNTIF('TEST RDP'!I:I,C59) -> 1 | E59: =D59/D$24 -> 0.2 | F59: NON : confusion avec l'écart multiplicatif de 3, entre 3 et 9 croissants
C60: pas de réponse | D60: =D61-(D57+D56+D58+D59) -> 1 | E60: =D60/D$24 -> 0.2
C61: Total | D61: =COUNTA('TEST RDP'!C:C)-1 -> 5 | E61: =D61/D$24 -> 1
C74: 495 | D74: =COUNTIF('TEST RDP'!K:K,C74) -> 1 | E74: =D74/D$24 -> 0.2
C75: 505 | D75: =COUNTIF('TEST RDP'!K:K,C75) -> 1 | E75: =D75/D$24 -> 0.2 | F75: OUI : moitié de 1000 - NON : mauvais nombre augmenté de 5
C76: 1005 | D76: =COUNTIF('TEST RDP'!K:K,C76) -> 1 | E76: =D76/D$24 -> 0.2 | F76: NON : pas compréhension de la consigne, et additionne les deux nombres donnés
C77: 995 | D77: =COUNTIF('TEST RDP'!K:K,C77) -> 2 | E77: =D77/D$24 -> 0.4 | F77: NON : pas tenu compte d'obtenir la moitié de 1000 (et non 1000)
C78: pas de réponse | D78: =D79-(D75+D74+D76+D77) -> 0 | E78: =D78/D$24 -> 0
C79: Total | D79: =COUNTA('TEST RDP'!C:C)-1 -> 5 | E79: =D79/D$24 -> 1
C90: 12 | D90: =COUNTIF('TEST RDP'!M:M,C90) -> 2 | E90: =D90/D$24 -> 0.4
C91: 24 | D91: =COUNTIF('TEST RDP'!M:M,C91) -> 1 | E91: =D91/D$24 -> 0.2 | F91: NON : est la reprise du nombre de personnes
C92: 28 | D92: =COUNTIF('TEST RDP'!M:M,C92) -> 0 | E92: =D92/D$24 -> 0 | F92: NON : erreur de raisonnement (addition simplement 24+4)
C93: 32 | D93: =COUNTIF('TEST RDP'!M:M,C93) -> 1 | E93: =D93/D$24 -> 0.2 | F93: NON : erreur de raisonnement (multiplication des deux nombres)
C94: pas de réponse | D94: =D95-(D90+D91+D92+D93) -> 1 | E94: =D94/D$24 -> 0.2
C95: Total | D95: =COUNTA('TEST RDP'!C:C)-1 -> 5 | E95: =D95/D$24 -> 1
C106: 15 | D106: =COUNTIF('TEST RDP'!O:O,C106) -> 2 | E106: =D106/D$24 -> 0.4
C107: 8 | D107: =COUNTIF('TEST RDP'!O:O,C107) -> 2 | E107: =D107/D$24 -> 0.4 | F107: NON : a, simplement, ajouté les deux nombres proposés
C108: 2 | D108: =COUNTIF('TEST RDP'!O:O,C108) -> 0 | E108: =D108/D$24 -> 0 | F108: NON : a soustrait les deux nombres proposés
C109: 10 | D109: =COUNTIF('TEST RDP'!O:O,C109) -> 1 | E109: =D109/D$24 -> 0.2 | F109: NON : a confondu "3 paires" avec "une paire vaut 2"
C110: pas de réponse | D110: =D111-(D106+D107+D108+D109) -> 0 | E110: =D110/D$24 -> 0
C111: Total | D111: =COUNTA('TEST RDP'!C:C)-1 -> 5 | E111: =D111/D$24 -> 1
C121: 36 | D121: =COUNTIF('TEST RDP'!Q:Q,C121) -> 4 | E121: =D121/D$24 -> 0.8
C122: 15 | D122: =COUNTIF('TEST RDP'!Q:Q,C122) -> 1 | E122: =D122/D$24 -> 0.2 | F122: NON : compréhension de "trois fois moins" en addition
C123: 4 | D123: =COUNTIF('TEST RDP'!Q:Q,C123) -> 0 | E123: =D123/D$24 -> 0 | F123: OUI : multiplicatif - NON : appliqué en divisant (sens non perçu)
...

Sheet ANALYSE RDP
A1: TABLEAU ET GRAPHIQUES GENERES AUTOMATIQUEMENT = ANALYSE DES REUSSITES PAR TYPE D'ITEMS, PAR FAMILLES DE PROBLEMES, PAR STRUCTURE-DOMAINE MATHEMATIQUE DU PROBLEME OU STRATEGIE -> PILOTAGE DIDACTIQUE SUR TOUT LE CYCLE 3
A2: STRUCTURE-DOMAINE MATHEMATIQUE/ STRATEGIE FAMILLES DE PROBLEMES (% DE REUSSITES) | B2: STRUCTURE/DOMAINE MATHEMATIQUE DU PROBLEME | G2: STRATEGIE
B3: ADDITIF | C3: MULTIPLICATIF | D3: PROPORTIONNALITE | E3: MIXTE : additif, multiplicatif | F3: GRANDEURS ET MESURES | G3: SCHEMA UTILE A LA RESOLUTION | H3: TOTAL
A4: PROBLEMES A 1 ETAPE | C4: ITEMS : 1, 6, 7, 14, 17 | D4: ITEMS : 3, 5, 11, 12 | F4: ITEM : 17 | G4: ITEMS : 3, 5, 6 | H4: =D34 -> 0.37777778
C5: =AVERAGE('TRAITEMENT RDP'!C5,'TRAITEMENT RDP'!C30,'TRAITEMENT RDP'!C35,'TRAITEMENT RDP'!C60,'TRAITEMENT RDP'!C85) -> 0.48 | D5: =AVERAGE('TRAITEMENT RDP'!C15,'TRAITEMENT RDP'!C25,'TRAITEMENT RDP'!C55,'TRAITEMENT RDP'!C60) -> 0.3 | F5: ='TRAITEMENT RDP'!C85 -> 0.4 | G5: =AVERAGE('TRAITEMENT RDP'!C15,'TRAITEMENT RDP'!C25,'TRAITEMENT RDP'!C30) -> 0.26666667
A6: PROBLEMES A PLUSIEURS ETAPES | B6: ITEMS : 10, 16, 19 | C6: ITEM : 9 | E6: ITEMS : 2, 4, 8, 13, 18 | F6: ITEMS : 16, 18, 19 | G6: ITEMS : 4, 10, 13, 19 | H6: =D43 -> 0.37777778
B7: =AVERAGE('TRAITEMENT RDP'!C50,'TRAITEMENT RDP'!C80,'TRAITEMENT RDP'!C95) -> 0.66666667 | C7: ='TRAITEMENT RDP'!C45 -> 0 | E7: =AVERAGE('TRAITEMENT RDP'!C10,'TRAITEMENT RDP'!C20,'TRAITEMENT RDP'!C40,'TRAITEMENT RDP'!C65,'TRAITEMENT RDP'!C90) -> 0.28 | F7: =AVERAGE('TRAITEMENT RDP'!C80,'TRAITEMENT RDP'!C90,'TRAITEMENT RDP'!C95) -> 0.6 | G7: =AVERAGE('TRAITEMENT RDP'!C20,'TRAITEMENT RDP'!C50,'TRAITEMENT RDP'!C65,'TRAITEMENT RDP'!C95) -> 0.4
A8: PROBLEMES ATYPIQUES | C8: ITEM : 6 | E8: ITEM : 4 | F8: ITEM : 15 | G8: ITEMS : 4, 6 | H8: =D52 -> 0.26666667 | J8: Voir ITEMS
C9: ='TRAITEMENT RDP'!C30 -> 0.4 | E9: ='TRAITEMENT RDP'!C20 -> 0.2 | F9: ='TRAITEMENT RDP'!C75 -> 0.2 | G9: =AVERAGE('TRAITEMENT RDP'!C20,'TRAITEMENT RDP'!C30) -> 0.3 | J9: ↙↙↙↙↙
A10: TOTAL | B10: =D57 -> 0.66666667 | C10: =D60 -> 0.36666667 | D10: =D66 -> 0.3 | E10: =D70 -> 0.28 | F10: =D75 -> 0.48 | G10: =D80 -> 0.34285714
J11: ↙↙↙↙↙
A12: DESCRIPTIF DE LA TACHE | B12: ITEMS RDP | C12: % DE REUSSITE | J12: ↙↙↙↙↙
A13: Identifier le calcul correspondant à la situation. | B13: 1 | C13: ='TRAITEMENT RDP'!C5 -> 0.6
A14: Calculer une quantité. Représenter la situation. | B14: 2 | C14: ='TRAITEMENT RDP'!C10 -> 0.2
A15: Calculer un prix en situation de proportionnalité. | B15: 3 | C15: ='TRAITEMENT RDP'!C15 -> 0
A16: Calculer un nombre. Déterminer l'algorithme de calcul. | B16: 4 | C16: ='TRAITEMENT RDP'!C20 -> 0.2
A17: Calculer un nombre en situation de proportionnalité. | B17: 5 | C17: ='TRAITEMENT RDP'!C25 -> 0.4
A18: Dénombrer par produit. Représenter la situation. | B18: 6 | C18: ='TRAITEMENT RDP'!C30 -> 0.4
A19: Calculer un nombre. Représenter. Comparer. | B19: 7 | C19: ='TRAITEMENT RDP'!C35 -> 0.8
A20: Calculer un nombre. Représenter. Partager. | B20: 8 | C20: ='TRAITEMENT RDP'!C40 -> 0.4
A21: Calculer un coût. Représenter. Dénombrer. | B21: 9 | C21: ='TRAITEMENT RDP'!C45 -> 0
A22: Calculer un nombre. Représenter. Comparer. | B22: 10 | C22: ='TRAITEMENT RDP'!C50 -> 0.6
A23: Calculer une distance, via l'échelle. Représenter. | B23: 11 | C23: ='TRAITEMENT RDP'!C55 -> 0.6
A24: Calculer une distance, via proportionnalité. Représenter. | B24: 12 | C24: ='TRAITEMENT RDP'!C60 -> 0.2
A25: Calculer une longueur, via formule périmètre. Représenter. | B25: 13 | C25: ='TRAITEMENT RDP'!C65 -> 0.2
A26: Calculer une masse par division. | B26: 14 | C26: ='TRAITEMENT RDP'!C70 -> 0
A27: Dénombrer. Comparer. | B27: 15 | C27: ='TRAITEMENT RDP'!C75 -> 0.2
A28: Calculer, via représentation. Comparer. | B28: 16 | C28: ='TRAITEMENT RDP'!C80 -> 0.8
A29: Calculer une contenance, par division. Représenter (convertir). | B29: 17 | C29: ='TRAITEMENT RDP'!C85 -> 0.4
A30: Calculer un nombre. Représenter. Comparer. | B30: 18 | C30: ='TRAITEMENT RDP'!C90 -> 0.4
A31: Déterminer un horaire. Représenter. | B31: 19 | C31: ='TRAITEMENT RDP'!C95 -> 0.6
A33: REGROUPEMENTS PAR MEME FAMILLE DE PROBLEMES | B33: ITEMS RDP | C33: % DE REUSSITE | D33: % DE REUSSITE
A34: Identifier le calcul correspondant à la situation. | B34: 1 | C34: =C13 -> 0.6 | D34: =AVERAGE(C34:C42) -> 0.37777778
A35: Calculer un prix en situation de proportionnalité. | B35: 3 | C35: =C15 -> 0
A36: Calculer un nombre en situation de proportionnalité. | B36: 5 | C36: =C17 -> 0.4
A37: Dénombrer par produit. Représenter la situation. | B37: 6 | C37: =C18 -> 0.4
A38: Calculer un nombre. Représenter. Comparer. | B38: 7 | C38: =C19 -> 0.8
A39: Calculer une distance, via l'échelle. Représenter. | B39: 11 | C39: =C23 -> 0.6
A40: Calculer une distance, via proportionnalité. Représenter. | B40: 12 | C40: =C24 -> 0.2
A41: Calculer une masse par division. | B41: 14 | C41: =C26 -> 0
...

Sheet GROUPES THEMES
A1: PAGE GENEREE AUTOMATIQUEMENT ! - Filtrer le groupe de maîtrise étudié dans chaque thème + Si besoin, filtrer en fonction du nombre de thèmes dans lesquels l'élève est en difficulté (cellule I2).
A2: Classe | B2: Nom élève | C2: Prénom élève | D2: Test spécifique en automatismes : Mobiliser directement des procédures et des connaissances | E2: Test spécifique en résolution de problèmes : Résoudre des problèmes en utilisant des nombres et des grandeurs | F2: Espace et géométrie : Connaître et utiliser des notions de géométrie | G2: Grandeurs et mesures : Connaître des grandeurs et utiliser des unités de mesure | H2: Nombres et calculs : Connaître les nombres et les utiliser dans des calculs | I2: Nombre de difficultés :
A3: =RESTITUTION!A3 -> 6B | B3: =RESTITUTION!B3 -> 0 | C3: =RESTITUTION!C3 -> Alicia | D3: =RESTITUTION!D3 -> Fragile | E3: =RESTITUTION!E3 -> Fragile | F3: =RESTITUTION!F3 -> Fragile | G3: =RESTITUTION!G3 -> Fragile | H3: =RESTITUTION!H3 -> À besoins | I3: =COUNTIF(D3,"Fragile")+COUNTIF(D3,"À besoins")+COUNTIF(D3,"pas de restitution")+COUNTIF(E3,"Fragile")+COUNTIF(E3,"À besoins")+COUNTIF(E3,"pas de restitution")+COUNTIF(F3,"Fragile")+COUNTIF(F3,"À besoins")+COUNTIF(F3,"pas de restitution")+COUNTIF(G3,"Fragile")+COUNTIF(G3,"À besoins")+COUNTIF(G3,"pas de restitution")+COUNTIF(H3,"Fragile")+COUNTIF(H3,"À besoins")+COUNTIF(H3,"pas de restitution") -> 5
A4: =RESTITUTION!A4 -> 6B | B4: =RESTITUTION!B4 -> 0 | C4: =RESTITUTION!C4 -> Aliénor | D4: =RESTITUTION!D4 -> Satisfaisant | E4: =RESTITUTION!E4 -> Satisfaisant | F4: =RESTITUTION!F4 -> Satisfaisant | G4: =RESTITUTION!G4 -> Satisfaisant | H4: =RESTITUTION!H4 -> Satisfaisant | I4: =COUNTIF(D4,"Fragile")+COUNTIF(D4,"À besoins")+COUNTIF(D4,"pas de restitution")+COUNTIF(E4,"Fragile")+COUNTIF(E4,"À besoins")+COUNTIF(E4,"pas de restitution")+COUNTIF(F4,"Fragile")+COUNTIF(F4,"À besoins")+COUNTIF(F4,"pas de restitution")+COUNTIF(G4,"Fragile")+COUNTIF(G4,"À besoins")+COUNTIF(G4,"pas de restitution")+COUNTIF(H4,"Fragile")+COUNTIF(H4,"À besoins")+COUNTIF(H4,"pas de restitution") -> 0
A5: =RESTITUTION!A5 -> 6B | B5: =RESTITUTION!B5 -> 0 | C5: =RESTITUTION!C5 -> Coleen | D5: =RESTITUTION!D5 -> À besoins | E5: =RESTITUTION!E5 -> À besoins | F5: =RESTITUTION!F5 -> À besoins | G5: =RESTITUTION!G5 -> À besoins | H5: =RESTITUTION!H5 -> À besoins | I5: =COUNTIF(D5,"Fragile")+COUNTIF(D5,"À besoins")+COUNTIF(D5,"pas de restitution")+COUNTIF(E5,"Fragile")+COUNTIF(E5,"À besoins")+COUNTIF(E5,"pas de restitution")+COUNTIF(F5,"Fragile")+COUNTIF(F5,"À besoins")+COUNTIF(F5,"pas de restitution")+COUNTIF(G5,"Fragile")+COUNTIF(G5,"À besoins")+COUNTIF(G5,"pas de restitution")+COUNTIF(H5,"Fragile")+COUNTIF(H5,"À besoins")+COUNTIF(H5,"pas de restitution") -> 5
