Workbook

Sheet TUTORIEL
A1: Le fichier EXCEL de "TRAITEMENT" des résultats | C1: Le document WORD de "ANALYSE" didactique et pédagogique, pour l'enseignement, le pilotage, la formation
A2: ETAPES | B2: FICHIER CONCERNE | C2: A FAIRE MANUELLEMENT (en rouge = ce qui est généré automatiquement)
A3: Etape 0 | B3: a) EXCEL : onglet "RESTITUTION" | C3: COPIER-COLLER LE FICHIER "RESTITUTION" DU COLLEGE
B4: b) EXCEL : onglet "TEST AUTO" | C4: COPIER-COLLER LE FICHIER "SPECIFIQUE AUTOMATISMES", POUR CHAQUE CLASSE, LES UNES A LA SUITE DES AUTRES
A6: Etape 1 | B6: a) EXCEL : onglet "BILANS" | C6: PAGE GENEREE AUTOMATIQUEMENT !
B7: b) WORD "2026 EVA6-5-4-2 MATHS ANALYSE" | C7: Y COPIER-COLLER LES 2 GRAPHIQUES DU FICHIER EXCEL ONGLET "BILANS" : en page 3 pour "TEST SPECIFIQUE"
A9: Etape 2 | B9: a) EXCEL : onglet "TRAITEMENT AUTO" | C9: PAGE GENEREE AUTOMATIQUEMENT = ANALYSE DIDACTIQUE PAR TYPE D'ERREURS ---> remédiation ciblée sur groupes d'élèves de 5e
B10: b) EXCEL : onglet "ANALYSE AUTO" | C10: TABLEAU ET GRAPHIQUE GENERES AUTOMATIQUEMENT = ANALYSE DES REUSSITES PAR TYPE D'ITEMS, DE FAMILLE DE NOMBRE, DE TYPE DE TACHES -> pilotage didactique cycle 4
B11: c) WORD "2026 EVA6-5-4-2 MATHS ANALYSE" | C11: Y COPIER-COLLER LES 2 GRAPHIQUES (TABLEAU ET DIAGRAMME EN BARRES) DU FICHIER EXCEL ONGLET "ANALYSE AUTO" : en page 4 (tableau) et pages 5-6 (barres)
A13: Etape 3 | B13: a) EXCEL : onglet "GROUPES D'ITEMS AUTO" | C13: PAGE GENEREE AUTOMATIQUEMENT ! Trier le % de réussite dans le groupe d'items souhaité.
B14: b) WORD "2026 EVA6-5-4-2 MATHS ANALYSE" | C14: Y COPIER-COLLER LES GROUPES D'ELEVES TRIES SELON LE BESOIN IDENTIFIE (Groupes d'items d'automatismes) en page 10

Sheet RESTITUTION
A1: COPIER-COLLER LE FICHIER "RESTITUTION" DU COLLEGE
A2: Classe | B2: Nom élève | C2: Prénom élève | D2: Test spécifique en automatismes : Mobiliser directement des procédures et des connaissances
A3: 5ME4 | C3: Hayley | D3: À besoins
A4: 5ME4 | C4: Loukas | D4: Fragile
A5: 5ME4 | C5: Eliott | D5: Satisfaisant
B121: Fragile | C121: À besoins | F121: Nombre d'élèves évalués en 6E : 20
F143: Nombre d'élèves évalués en 6B : 22
F145: Nombre d'élèves évalués en 6A : 2
F146: Nombre d'élèves total évalués : 86

Sheet TEST AUTO
A1: COPIER-COLLER LE FICHIER "SPECIFIQUE AUTOMATISMES", DE CHAQUE CLASSE, POUR TOUTES LES CLASSES LES UNES A LA SUITE DES AUTRES
A2: Classe | B2: NOM | C2: PRENOM | D2: Score du test spécifique | E2: Automatismes Q1 - réponse | F2: Automatismes Q1 - score | G2: Automatismes Q2 - réponse | H2: Automatismes Q2 - score | I2: Automatismes Q3 - réponse | J2: Automatismes Q3 - score | K2: Automatismes Q4 - réponse | L2: Automatismes Q4 - score | M2: Automatismes Q5 - réponse | N2: Automatismes Q5 - score | O2: Automatismes Q6 - réponse | P2: Automatismes Q6 - score | Q2: Automatismes Q7 - réponse | R2: Automatismes Q7 - score | S2: Automatismes Q8 - réponse | T2: Automatismes Q8 - score | U2: Automatismes Q9 - réponse | V2: Automatismes Q9 - score | W2: Automatismes Q10 - réponse | X2: Automatismes Q10 - score | Y2: Automatismes Q11 - réponse | Z2: Automatismes Q11 - score | AA2: Automatismes Q12 - réponse | AB2: Automatismes Q12 - score | AC2: Automatismes Q13 - réponse | AD2: Automatismes Q13 - score | AE2: Automatismes Q14 - réponse | AF2: Automatismes Q14 - score | AG2: Automatismes Q15 - réponse | AH2: Automatismes Q15 - score | AI2: Automatismes Q16 - réponse | AJ2: Automatismes Q16 - score | AK2: Automatismes Q17 - réponse | AL2: Automatismes Q17 - score | AM2: Automatismes Q18 - réponse | AN2: Automatismes Q18 - score | AO2: Automatismes Q19 - réponse | AP2: Automatismes Q19 - score | AQ2: Automatismes Q20 - réponse | AR2: Automatismes Q20 - score | AS2: Automatismes Q21 - réponse | AT2: Automatismes Q21 - score | AU2: Automatismes Q22 - réponse | AV2: Automatismes Q22 - score | AW2: Automatismes Q23 - réponse | AX2: Automatismes Q23 - score | AY2: Automatismes Q24 - réponse | AZ2: Automatismes Q24 - score | BA2: Automatismes Q25 - réponse | BB2: Automatismes Q25 - score | BC2: Automatismes Q26 - réponse | BD2: Automatismes Q26 - score | BE2: Automatismes Q27 - réponse | BF2: Automatismes Q27 - score | BG2: Automatismes Q28 - réponse | BH2: Automatismes Q28 - score | BI2: Automatismes Q29 - réponse | BJ2: Automatismes Q29 - score | BK2: Automatismes Q30 - réponse | BL2: Automatismes Q30 - score
A3: 5ME4 | C3: Hayley | D3: 13 | E3: 6/5 | F3: 1 | G3: 35 064 | H3: 1 | I3: Onze-millions | J3: 0 | K3: 6 | L3: 1 | M3: 25 | N3: 1 | O3: 1/4 | P3: 1 | Q3: 225 | R3: 1 | S3: 205 | T3: 0 | U3: 200 | V3: 1 | W3: 3,16 | X3: 0 | Y3: 105 | Z3: 1 | AA3: 7,12 | AB3: 1 | AC3: 14,69 | AD3: 0 | AE3: 100 | AF3: 1 | AG3: 300,50 | AH3: 0 | AI3: 13,1 | AJ3: 0 | AK3: 999 < 9,998 < 1 000 | AL3: 0 | AM3: unités. | AN3: 0 | AO3: 300,6 | AP3: 0 | AQ3: 1,2 % de 12. | AR3: 0 | AS3: 408 | AT3: 0 | AU3: ( 2 + 3,5 ) × 0,1 | AV3: 1 | AW3: 14 | AX3: 1 | AY3: 1/10 | AZ3: 0 | BA3: 6,5201 | BB3: 0 | BC3: 60 cm³ | BD3: 1 | BE3: 6/14 | BF3: 0 | BG3: 780 × 1/100 | BH3: 0 | BI3: 3/5 | BJ3: 0 | BK3: 40 800 000 40 | BL3: 0
A4: 5ME4 | C4: Loukas | D4: 13 | E4: 6/5 | F4: 1 | G4: 3 564 | H4: 0 | I4: Onze-milliards | J4: 0 | K4: 6 | L4: 1 | M4: 30 | N4: 0 | O4: 3/4 | P4: 0 | Q4: 225 | R4: 1 | S4: 86 | T4: 0 | U4: 200 | V4: 1 | W4: 3,6 | X4: 0 | Y4: 105 | Z4: 1 | AA4: 7,12 | AB4: 1 | AC4: 14,6188 | AD4: 1 | AE4: 1 000 | AF4: 0 | AG4: 50,03 | AH4: 1 | AI4: 17,7 | AJ4: 0 | AK4: 99 < 9,998 < 100 | AL4: 0 | AM4: unités. | AN4: 0 | AO4: 360 | AP4: 1 | AQ4: 50 % de 12. | AR4: 1 | AS4: 0,48 | AT4: 1 | AU4: 2 + 3,5 × 0,1 | AV4: 0 | AW4: 12 | AX4: 0 | AY4: 11/10 | AZ4: 1 | BA4: 6,5224 | BB4: 1 | BC4: 3 600 cm³ | BD4: 0 | BE4: 6/14 | BF4: 0 | BG4: 780 : 1/10 | BH4: 0 | BI4: 3/5 | BJ4: 0 | BK4: 40 800 000 40 | BL4: 0
A5: 5ME4 | C5: Eliott | D5: 14 | E5: 6/5 | F5: 1 | G5: 35 064 | H5: 1 | I5: Cent-dix-millions | J5: 1 | K5: 6 | L5: 1 | M5: 25 | N5: 1 | O5: 1/3 | P5: 0 | Q5: 225 | R5: 1 | S5: 430 | T5: 1 | U5: 200 | V5: 1 | W5: 3,6 | X5: 0 | Y5: 15 | Z5: 0 | AA5: 7,12 | AB5: 1 | AC5: 14,6188 | AD5: 1 | AE5: 100 | AF5: 1 | AG5: 50,300 | AH5: 0 | AI5: 13,1 | AJ5: 0 | AK5: 9 999 < 9,998 < 10 000 | AL5: 0 | AM5: unités. | AN5: 0 | AO5: 360 | AP5: 1 | AQ5: 1,2 % de 12. | AR5: 0 | AS5: 0,48 | AT5: 1 | AU5: 2 + ( 3,5 × 0,1 ) | AV5: 0 | AW5: 20 | AX5: 0 | AY5: 1/10 | AZ5: 0 | BA5: 6,5201 | BB5: 0 | BC5: 13 cm³ | BD5: 0 | BE5: 6/14 | BF5: 0 | BG5: 780 × 0,01 | BH5: 0 | BI5: 5 | BJ5: 0 | BK5: 40 800 000 400 | BL5: 1

Sheet BILANS
A1: PAGE GENEREE AUTOMATIQUEMENT !
A4: Quelles priorités SPECIFIQUES D'ACCOMPAGNEMENT ? (vision cohorte de 5e ; par classe : effacer les autres données)
A5: TESTS SPECIFIQUES | B5: À besoins | C5: Fragile | D5: Satisfaisant
A6: =RESTITUTION!D2 -> Test spécifique en automatismes : Mobiliser directement des procédures et des connaissances | B6: =(COUNTIF(RESTITUTION!$D:$D,BILANS!B$5)+COUNTIF(RESTITUTION!$D:$D,"pas de restitution"))/(COUNTA(RESTITUTION!$A:$A)-2) -> 0.33333333 | C6: =COUNTIF(RESTITUTION!$D:$D,BILANS!C$5)/(COUNTA(RESTITUTION!$A:$A)-2) -> 0.33333333 | D6: =COUNTIF(RESTITUTION!$D:$D,BILANS!D$5)/(COUNTA(RESTITUTION!$A:$A)-2) -> 0.33333333

Sheet TRAITEMENT AUTO
B1: PAGE GENEREE AUTOMATIQUEMENT = ANALYSE DIDACTIQUE PAR TYPE D'ERREURS ---> CREATION DE GROUPES DE REMEDIATION CIBLES PORTANT SUR LES ERREURS (par classe ou interclasses)
A2: Item | B2: PROBLEME : énoncé, % par réponse, descriptif du type de problème | C2: réponse 1 | D2: réponse 2 | E2: réponse 3 | F2: réponse 4 | G2: réponse 5
A3: 1 | B3: Quel est le plus grand nombre parmi les nombres suivants ? Cocher la réponse correcte. | C3: 6/5 | D3: 5/5 | E3: 1/5 | F3: 4/5 | G3: SANS REPONSE | H3: =COUNTA('TEST AUTO'!A:A)-2 -> 3
B4: NOMBRE DE REPONSES | C4: =COUNTIF('TEST AUTO'!$E:$E,'TRAITEMENT AUTO'!C$3) -> 3 | D4: =COUNTIF('TEST AUTO'!$E:$E,'TRAITEMENT AUTO'!D$3) -> 0 | E4: =COUNTIF('TEST AUTO'!$E:$E,'TRAITEMENT AUTO'!E$3) -> 0 | F4: =COUNTIF('TEST AUTO'!$E:$E,'TRAITEMENT AUTO'!F$3) -> 0 | G4: =H3-H4 -> 0 | H4: =SUM(C4:F4) -> 3
B5: % DE REPONSES | C5: =C4/$H3 -> 1 | D5: =D4/$H3 -> 0 | E5: =E4/$H3 -> 0 | F5: =F4/$H3 -> 0 | G5: =G4/$H3 -> 0 | H5: =SUM(C5:G5) -> 1
A6: TYPE | B6: L’élève doit comparer des fractions de même dénominateur. Fractions. Comparaison. | D6: NON : a une représentation erronée des fractions (une fraction représente un nombre inférieur ou égal à 1). Choisit 5/5 qui est égal à 1. | E6: NON : ne comprend pas ou ne lit pas correctement la consigne ; choisit le plus petit nombre au lieu du plus grand. | F6: NON : n'a pas compris comment comparer des fractions de même dénominateur. | G6: PROCEDURE
A8: 2 | B8: Cocher la réponse correcte. 35 X 1000 + 64 = ... | C8: 35 064 | D8: 64 035 | E8: 3 564 | F8: 6 435 | G8: SANS REPONSE | H8: =COUNTA('TEST AUTO'!A:A)-2 -> 3
B9: NOMBRE DE REPONSES | C9: =COUNTIF('TEST AUTO'!$G:$G,'TRAITEMENT AUTO'!C$8) -> 2 | D9: =COUNTIF('TEST AUTO'!$G:$G,'TRAITEMENT AUTO'!D$8) -> 0 | E9: =COUNTIF('TEST AUTO'!$G:$G,'TRAITEMENT AUTO'!E$8) -> 1 | F9: =COUNTIF('TEST AUTO'!$G:$G,'TRAITEMENT AUTO'!F$8) -> 0 | G9: =H8-H9 -> 0 | H9: =SUM(C9:F9) -> 3
B10: % DE REPONSES | C10: =C9/$H8 -> 0.66666667 | D10: =D9/$H8 -> 0 | E10: =E9/$H8 -> 0.33333333 | F10: =F9/$H8 -> 0 | G10: =G9/$H8 -> 0 | H10: =SUM(C10:G10) -> 1
A11: TYPE | B11: L’élève doit recomposer un nombre à partir d’une décomposition additive. Nombres entiers. Différentes écritures d'un nombre : décomposition additive à écriture décimale. Respect de la priorité de la multiplication sur l'addition. | D11: NON : inverse les opérations de multiplication et d’addition. | E11: NON : commet une erreur d’une dizaine, confond 35 milliers avec 35 centaines. | F11: NON : inverse les opérations de multiplication et d’addition. NON : commet une erreur d’une dizaine, confond de 35 milliers avec 35 centaines. | G11: PROCEDURE
A13: 3 | B13: Cocher la réponse correcte. Le nombre 110 000 000 se lit : | C13: Cent-dix-millions | D13: Onze-millions | E13: Cent-dix-mille | F13: Onze-milliards | G13: SANS REPONSE | H13: =COUNTA('TEST AUTO'!A:A)-2 -> 3
B14: NOMBRE DE REPONSES | C14: =COUNTIF('TEST AUTO'!$I:$I,'TRAITEMENT AUTO'!C$13) -> 1 | D14: =COUNTIF('TEST AUTO'!$I:$I,'TRAITEMENT AUTO'!D$13) -> 1 | E14: =COUNTIF('TEST AUTO'!$I:$I,'TRAITEMENT AUTO'!E$13) -> 0 | F14: =COUNTIF('TEST AUTO'!$I:$I,'TRAITEMENT AUTO'!F$13) -> 1 | G14: =H13-H14 -> 0 | H14: =SUM(C14:F14) -> 3
B15: % DE REPONSES | C15: =C14/$H13 -> 0.33333333 | D15: =D14/$H13 -> 0.33333333 | E15: =E14/$H13 -> 0 | F15: =F14/$H13 -> 0.33333333 | G15: =G14/$H13 -> 0 | H15: =SUM(C15:G15) -> 1
A16: TYPE | B16: L’élève doit déterminer l’écriture en langage naturel d’un grand nombre entier. Nombres entiers Différentes écritures d'un nombre : écriture décimale à langage naturel. | D16: OUI : interprète correctement la classe des millions. NON : oublie un zéro. | E16: NON : place 110 dans la classe des milliers et non dans la classe des millions. | F16: NON : confond la classe des millions et des milliards. | G16: CONNAISSANCE
A18: 4 | B18: Cocher la réponse correcte. 8 × … = 48 | C18: 6 | D18: 4 | E18: 5 | F18: 7 | G18: SANS REPONSE | H18: =COUNTA('TEST AUTO'!A:A)-2 -> 3
B19: NOMBRE DE REPONSES | C19: =COUNTIF('TEST AUTO'!$K:$K,'TRAITEMENT AUTO'!C$18) -> 3 | D19: =COUNTIF('TEST AUTO'!$K:$K,'TRAITEMENT AUTO'!D$18) -> 0 | E19: =COUNTIF('TEST AUTO'!$K:$K,'TRAITEMENT AUTO'!E$18) -> 0 | F19: =COUNTIF('TEST AUTO'!$K:$K,'TRAITEMENT AUTO'!F$18) -> 0 | G19: =H18-H19 -> 0 | H19: =SUM(C19:F19) -> 3
B20: % DE REPONSES | C20: =C19/$H18 -> 1 | D20: =D19/$H18 -> 0 | E20: =E19/$H18 -> 0 | F20: =F19/$H18 -> 0 | G20: =G19/$H18 -> 0 | H20: =SUM(C20:G20) -> 1
A21: TYPE | B21: L’élève doit connaitre la table de 8 pour retrouver le facteur manquant dans l’égalité. Nombres entiers. Calcul mental : fait numérique (tables de multiplication). | D21: NON : utilise le nombre de dizaines du résultat afin de compléter l’égalité. | E21: NON : ne connait pas la table de multiplication de 8. | F21: NON : ne connait pas la table de multiplication de 8. | G21: CONNAISSANCE
A23: 5 | B23: Cocher la réponse correcte. 75 + … = 100 | C23: 25 | D23: 35 | E23: 30 | F23: 40 | G23: SANS REPONSE | H23: =COUNTA('TEST AUTO'!A:A)-2 -> 3
B24: NOMBRE DE REPONSES | C24: =COUNTIF('TEST AUTO'!$M:$M,'TRAITEMENT AUTO'!C$23) -> 2 | D24: =COUNTIF('TEST AUTO'!$M:$M,'TRAITEMENT AUTO'!D$23) -> 0 | E24: =COUNTIF('TEST AUTO'!$M:$M,'TRAITEMENT AUTO'!E$23) -> 1 | F24: =COUNTIF('TEST AUTO'!$M:$M,'TRAITEMENT AUTO'!F$23) -> 0 | G24: =H23-H24 -> 0 | H24: =SUM(C24:F24) -> 3
B25: % DE REPONSES | C25: =C24/$H23 -> 0.66666667 | D25: =D24/$H23 -> 0 | E25: =E24/$H23 -> 0.33333333 | F25: =F24/$H23 -> 0 | G25: =G24/$H23 -> 0 | H25: =SUM(C25:G25) -> 1
A26: TYPE | B26: L’élève doit compléter une égalité par complément à 100. Nombres entiers. Calcul mental : fait numérique (compléments à 100). | D26: NON : ne connait pas le fait numérique. Fait une erreur de retenue. | E26: NON : ne connait pas le fait numérique. OUI : a pu mobiliser le fait numérique 70 + 30 = 100. | F26: NON : ne connait pas ou ne remobilise pas le fait numérique. | G26: CONNAISSANCE
A28: 6 | B28: Quelle fraction de la surface est coloriée ? Cocher la réponse correcte. | C28: 1/4 | D28: 1/3 | E28: 3/4 | F28: 1/2 | G28: SANS REPONSE | H28: =COUNTA('TEST AUTO'!A:A)-2 -> 3
B29: NOMBRE DE REPONSES | C29: =COUNTIF('TEST AUTO'!$O:$O,'TRAITEMENT AUTO'!C$28) -> 1 | D29: =COUNTIF('TEST AUTO'!$O:$O,'TRAITEMENT AUTO'!D$28) -> 1 | E29: =COUNTIF('TEST AUTO'!$O:$O,'TRAITEMENT AUTO'!E$28) -> 1 | F29: =COUNTIF('TEST AUTO'!$O:$O,'TRAITEMENT AUTO'!F$28) -> 0 | G29: =H28-H29 -> 0 | H29: =SUM(C29:F29) -> 3
B30: % DE REPONSES | C30: =C29/$H28 -> 0.33333333 | D30: =D29/$H28 -> 0.33333333 | E30: =E29/$H28 -> 0.33333333 | F30: =F29/$H28 -> 0 | G30: =G29/$H28 -> 0 | H30: =SUM(C30:G30) -> 1
A31: TYPE | B31: L’élève doit déterminer la fraction d’une surface. Fractions. Partage. | D31: NON : confond proportion par rapport au total et par rapport au complémentaire. | E31: NON : interprète mal la signification du mot « coloriée » (proportion de secteurs blancs par rapport au nombre total de secteurs). | F31: NON : estime visuellement que la surface coloriée couvre la moitié du triangle ou considère qu'il y a une couleur sur deux, sans considérer les aires des surfaces. | G31: PROCEDURE
A33: 7 | B33: Cocher la réponse correcte. 126 + 99 = ... | C33: 225 | D33: 226 | E33: 115 | F33: 227 | G33: SANS REPONSE | H33: =COUNTA('TEST AUTO'!A:A)-2 -> 3
B34: NOMBRE DE REPONSES | C34: =COUNTIF('TEST AUTO'!$Q:$Q,'TRAITEMENT AUTO'!C$33) -> 3 | D34: =COUNTIF('TEST AUTO'!$Q:$Q,'TRAITEMENT AUTO'!D$33) -> 0 | E34: =COUNTIF('TEST AUTO'!$Q:$Q,'TRAITEMENT AUTO'!E$33) -> 0 | F34: =COUNTIF('TEST AUTO'!$Q:$Q,'TRAITEMENT AUTO'!F$33) -> 0 | G34: =H33-H34 -> 0 | H34: =SUM(C34:F34) -> 3
B35: % DE REPONSES | C35: =C34/$H33 -> 1 | D35: =D34/$H33 -> 0 | E35: =E34/$H33 -> 0 | F35: =F34/$H33 -> 0 | G35: =G34/$H33 -> 0 | H35: =SUM(C35:G35) -> 1
A36: TYPE | B36: L’élève doit calculer la somme de 126 et 99. Nombres entiers. Calcul mental ou posé : addition. | D36: OUI : ajoute 100. NON : oublie de soustraire 1. | E36: OUI : additionne les chiffres des unités : 6 + 9 = 15. NON : en déduit que que la réponse correcte se termine par 15. | F36: OUI : pense au complément : ajout de 100. NON : additionne 1 au lieu de le soustraire. | G36: PROCEDURE
A38: 8 | B38: Cocher la réponse correcte. 5 × 43 × 2 = ... | C38: 430 | D38: 215 | E38: 86 | F38: 205 | G38: SANS REPONSE | H38: =COUNTA('TEST AUTO'!A:A)-2 -> 3
B39: NOMBRE DE REPONSES | C39: =COUNTIF('TEST AUTO'!$S:$S,'TRAITEMENT AUTO'!C$38) -> 1 | D39: =COUNTIF('TEST AUTO'!$S:$S,'TRAITEMENT AUTO'!D$38) -> 0 | E39: =COUNTIF('TEST AUTO'!$S:$S,'TRAITEMENT AUTO'!E$38) -> 1 | F39: =COUNTIF('TEST AUTO'!$S:$S,'TRAITEMENT AUTO'!F$38) -> 1 | G39: =H38-H39 -> 0 | H39: =SUM(C39:F39) -> 3
B40: % DE REPONSES | C40: =C39/$H38 -> 0.33333333 | D40: =D39/$H38 -> 0 | E40: =E39/$H38 -> 0.33333333 | F40: =F39/$H38 -> 0.33333333 | G40: =G39/$H38 -> 0 | H40: =SUM(C40:G40) -> 1
A41: TYPE | B41: L’élève doit reconnaitre un double produit, utiliser la commutativité et l’associativité de la multiplication, puis multiplier un entier par 10. Nombres entiers. Calcul mental ou posé : multiplication. | D41: OUI : effectue la multiplication 5 × 43. NON : oublie un facteur. | E41: OUI : effectue la multiplication 43 × 2. NON : oublie un facteur. | F41: NON : effectue la soustraction entre 43 et 2. OUI : multiplie le résultat par 5 ensuite. | G41: PROCEDURE
A43: 9 | B43: Quel nombre est un multiple de 50 ? | C43: 200 | D43: 275 | E43: 225 | F43: 210 | G43: SANS REPONSE | H43: =COUNTA('TEST AUTO'!A:A)-2 -> 3
B44: NOMBRE DE REPONSES | C44: =COUNTIF('TEST AUTO'!$U:$U,'TRAITEMENT AUTO'!C$43) -> 3 | D44: =COUNTIF('TEST AUTO'!$U:$U,'TRAITEMENT AUTO'!D$43) -> 0 | E44: =COUNTIF('TEST AUTO'!$U:$U,'TRAITEMENT AUTO'!E$43) -> 0 | F44: =COUNTIF('TEST AUTO'!$U:$U,'TRAITEMENT AUTO'!F$43) -> 0 | G44: =H43-H44 -> 0 | H44: =SUM(C44:F44) -> 3
B45: % DE REPONSES | C45: =C44/$H43 -> 1 | D45: =D44/$H43 -> 0 | E45: =E44/$H43 -> 0 | F45: =F44/$H43 -> 0 | G45: =G44/$H43 -> 0 | H45: =SUM(C45:G45) -> 1
A46: TYPE | B46: L’élève doit déterminer un multiple de 50. Nombres entiers. Calcul mental : fait numérique (multiples de 50). | D46: NON : confond multiple de 50 et multiple de 25 (ou de 5). | E46: NON : pense que « 5 × 50 = 225 » (en voyant 5 × 5). | F46: OUI : repère un multiple de 10, tout comme l’est 50. NON : sélectionne 210 en voyant 10 comme 5 × 2. | G46: CONNAISSANCE
A48: 10 | B48: Cocher la réponse correcte. 2,8 + 1,8 est égal à ... | C48: 4,6 | D48: 3,16 | E48: 3,6 | F48: 3,8 | G48: SANS REPONSE | H48: =COUNTA('TEST AUTO'!A:A)-2 -> 3
B49: NOMBRE DE REPONSES | C49: =COUNTIF('TEST AUTO'!$W:$W,'TRAITEMENT AUTO'!C$48) -> 0 | D49: =COUNTIF('TEST AUTO'!$W:$W,'TRAITEMENT AUTO'!D$48) -> 1 | E49: =COUNTIF('TEST AUTO'!$W:$W,'TRAITEMENT AUTO'!E$48) -> 2 | F49: =COUNTIF('TEST AUTO'!$W:$W,'TRAITEMENT AUTO'!F$48) -> 0 | G49: =H48-H49 -> 0 | H49: =SUM(C49:F49) -> 3
B50: % DE REPONSES | C50: =C49/$H48 -> 0 | D50: =D49/$H48 -> 0.33333333 | E50: =E49/$H48 -> 0.66666667 | F50: =F49/$H48 -> 0 | G50: =G49/$H48 -> 0 | H50: =SUM(C50:G50) -> 1
A51: TYPE | B51: L’élève doit effectuer une addition de deux décimaux non entiers. Nombres décimaux. Calcul mental ou posé : addition. | D51: OUI : additionne les parties entières ensemble et les parties décimales ensemble. NON : considère les parties entière et décimale comme deux nombres distincts de part et d’autre de la virgule. | E51: OUI : mène l'opération correctement. NON : oublie la retenue. | F51: OUI : a additionné les parties entières ensemble. NON : n'a pas effectué de calcul sur la partie décimale. | G51: PROCEDURE
A53: 11 | B53: Cocher la réponse correcte. 525 : 5 = … | C53: 105 | D53: 15 | E53: 150 | F53: 11 | G53: SANS REPONSE | H53: =COUNTA('TEST AUTO'!A:A)-2 -> 3
B54: NOMBRE DE REPONSES | C54: =COUNTIF('TEST AUTO'!$Y:$Y,'TRAITEMENT AUTO'!C$53) -> 2 | D54: =COUNTIF('TEST AUTO'!$Y:$Y,'TRAITEMENT AUTO'!D$53) -> 1 | E54: =COUNTIF('TEST AUTO'!$Y:$Y,'TRAITEMENT AUTO'!E$53) -> 0 | F54: =COUNTIF('TEST AUTO'!$Y:$Y,'TRAITEMENT AUTO'!F$53) -> 0 | G54: =H53-H54 -> 0 | H54: =SUM(C54:F54) -> 3
B55: % DE REPONSES | C55: =C54/$H53 -> 0.66666667 | D55: =D54/$H53 -> 0.33333333 | E55: =E54/$H53 -> 0 | F55: =F54/$H53 -> 0 | G55: =G54/$H53 -> 0 | H55: =SUM(C55:G55) -> 1
A56: TYPE | B56: L’élève doit diviser un nombre entier par un entier. Nombres entiers. Calcul mental ou posé : division. | D56: OUI : a effectué une division. NON : oublie le chiffre des dizaines (0) dans le quotient. | E56: OUI : raisonne par décomposition 500 ÷ 5 = 100 et 25 ÷ 5 = 5. NON : positionne le 5 en chiffre des dizaines et non en chiffre des unités. | F56: OUI : divise par 5 du chiffre des centaines. NON : oublie le chiffre des dizaines et divise par 5 le chiffre des unités. | G56: PROCEDURE
A58: 12 | B58: Cocher la réponse correcte. 712/100 = … | C58: 7,12 | D58: 0.712 | E58: 712,100 | F58: 71 200 | G58: SANS REPONSE | H58: =COUNTA('TEST AUTO'!A:A)-2 -> 3
B59: NOMBRE DE REPONSES | C59: =COUNTIF('TEST AUTO'!$AA:$AA,'TRAITEMENT AUTO'!C$58) -> 3 | D59: =COUNTIF('TEST AUTO'!$AA:$AA,'TRAITEMENT AUTO'!D$58) -> 0 | E59: =COUNTIF('TEST AUTO'!$AA:$AA,'TRAITEMENT AUTO'!E$58) -> 0 | F59: =COUNTIF('TEST AUTO'!$AA:$AA,'TRAITEMENT AUTO'!F$58) -> 0 | G59: =H58-H59 -> 0 | H59: =SUM(C59:F59) -> 3
B60: % DE REPONSES | C60: =C59/$H58 -> 1 | D60: =D59/$H58 -> 0 | E60: =E59/$H58 -> 0 | F60: =F59/$H58 -> 0 | G60: =G59/$H58 -> 0 | H60: =SUM(C60:G60) -> 1
A61: TYPE | B61: L’élève doit déterminer un nombre décimal à partir d’une fraction décimale. Nombres décimaux. Fractions. Différentes écritures d'un nombre : fraction décimale à écriture décimale. | D61: NON : a divisé 712 par 1 000. Confond, centièmes et millièmes. | E61: NON : traduit le trait de fraction par une virgule. Les centièmes deviennent la partie décimale. | F61: NON : ne divise pas mais multiplie 712 par 100. | G61: PROCEDURE
A63: 13 | B63: Quel est le nombre indiqué par la flèche ? Cocher la réponse correcte. | C63: 14,6188 | D63: 14,69 | E63: 14,68 | F63: 14,6180 | G63: SANS REPONSE | H63: =COUNTA('TEST AUTO'!A:A)-2 -> 3
B64: NOMBRE DE REPONSES | C64: =COUNTIF('TEST AUTO'!$AC:$AC,'TRAITEMENT AUTO'!C$63) -> 2 | D64: =COUNTIF('TEST AUTO'!$AC:$AC,'TRAITEMENT AUTO'!D$63) -> 1 | E64: =COUNTIF('TEST AUTO'!$AC:$AC,'TRAITEMENT AUTO'!E$63) -> 0 | F64: =COUNTIF('TEST AUTO'!$AC:$AC,'TRAITEMENT AUTO'!F$63) -> 0 | G64: =H63-H64 -> 0 | H64: =SUM(C64:F64) -> 3
B65: % DE REPONSES | C65: =C64/$H63 -> 0.66666667 | D65: =D64/$H63 -> 0.33333333 | E65: =E64/$H63 -> 0 | F65: =F64/$H63 -> 0 | G65: =G64/$H63 -> 0 | H65: =SUM(C65:G65) -> 1
A66: TYPE | B66: L’élève doit déterminer quelle est l’abscisse d’un point A sur une droite graduée avec des graduations décimales. Nombres décimaux. Repérage sur une droite graduée : écriture décimale. | D66: NON : considère les deux parties du nombre comme deux nombres entiers et considère que 69 est plus petit que 619 et choisit 14,69 ou il part de 14,61 et ajoute la valeur des 8 graduations pour arriver à 14,69. | E66: NON : considère les deux parties du nombre comme deux nombres entiers et considère que 68 est plus petit que 619 et choisit 14,68. | F66: NON : identifie que le nombre recherché doit présenter 4 chiffres après la virgule mais ne tient pas compte de la valeur des graduations et ajoute un zéro. | G66: PROCEDURE
A68: 14 | B68: Quel nombre est le plus proche du résultat de cette multiplication. Cocher la réponse correcte. 9,8 × 9,78 ≈ … | C68: 100 | D68: 1 000 | E68: 10 000 | F68: 10 | G68: SANS REPONSE | H68: =COUNTA('TEST AUTO'!A:A)-2 -> 3
B69: NOMBRE DE REPONSES | C69: =COUNTIF('TEST AUTO'!$AE:$AE,'TRAITEMENT AUTO'!C$68) -> 2 | D69: =COUNTIF('TEST AUTO'!$AE:$AE,'TRAITEMENT AUTO'!D$68) -> 1 | E69: =COUNTIF('TEST AUTO'!$AE:$AE,'TRAITEMENT AUTO'!E$68) -> 0 | F69: =COUNTIF('TEST AUTO'!$AE:$AE,'TRAITEMENT AUTO'!F$68) -> 0 | G69: =H68-H69 -> 0 | H69: =SUM(C69:F69) -> 3
B70: % DE REPONSES | C70: =C69/$H68 -> 0.66666667 | D70: =D69/$H68 -> 0.33333333 | E70: =E69/$H68 -> 0 | F70: =F69/$H68 -> 0 | G70: =G69/$H68 -> 0 | H70: =SUM(C70:G70) -> 1
A71: TYPE | B71: L’élève doit donner l’ordre de grandeur d’un produit de deux nombres décimaux. Nombres décimaux. Calcul mental : approximation d'un résultat (produit). | D71: NON : fait une erreur sur l’ordre de grandeur du premier facteur en faisant abstraction de la virgule et associe 9,8 à 100. | E71: NON : fait une erreur sur l’ordre de grandeur du deuxième facteur en faisant abstraction de la virgule et associe 9,78 à 1000. | F71: NON : ne donne l’arrondi que d’un des facteurs en oubliant le reste du calcul. | G71: PROCEDURE
A73: 15 | B73: Ecrire le nombre qui correspond à 5 dizaines et 3 centièmes. | C73: 50,03 | D73: 50,300 | E73: 300,50 | F73: 350 | G73: SANS REPONSE | H73: =COUNTA('TEST AUTO'!A:A)-2 -> 3
B74: NOMBRE DE REPONSES | C74: =COUNTIF('TEST AUTO'!$AG:$AG,'TRAITEMENT AUTO'!C$73) -> 1 | D74: =COUNTIF('TEST AUTO'!$AG:$AG,'TRAITEMENT AUTO'!D$73) -> 1 | E74: =COUNTIF('TEST AUTO'!$AG:$AG,'TRAITEMENT AUTO'!E$73) -> 1 | F74: =COUNTIF('TEST AUTO'!$AG:$AG,'TRAITEMENT AUTO'!F$73) -> 0 | G74: =H73-H74 -> 0 | H74: =SUM(C74:F74) -> 3
B75: % DE REPONSES | C75: =C74/$H73 -> 0.33333333 | D75: =D74/$H73 -> 0.33333333 | E75: =E74/$H73 -> 0.33333333 | F75: =F74/$H73 -> 0 | G75: =G74/$H73 -> 0 | H75: =SUM(C75:G75) -> 1
A76: TYPE | B76: L’élève doit déterminer l’écriture décimale d’un nombre à partir de sa décomposition additive en langage naturel. Nombres décimaux. Différentes écritures d'un nombre : décomposition additive en langage naturel à écriture décimale. | D76: OUI : sait que 5 dizaines équivaut à 50. OUI : identification par l’élève du suffixe « ième » qui renvoie à la partie décimale. NON : associe 3 centièmes à 300 après la virgule. | E76: NON : confond « dixième » et « dizaine » et « centième » et « centaine ». | F76: NON : confond « centaine » et « centième ». | G76: CONNAISSANCE
A78: 16 | B78: Cocher la réponse correcte. 15,3-2,4 = … | C78: 12,9 | D78: 13,9 | E78: 13,1 | F78: 17,7 | G78: SANS REPONSE | H78: =COUNTA('TEST AUTO'!A:A)-2 -> 3
B79: NOMBRE DE REPONSES | C79: =COUNTIF('TEST AUTO'!$AI:$AI,'TRAITEMENT AUTO'!C$78) -> 0 | D79: =COUNTIF('TEST AUTO'!$AI:$AI,'TRAITEMENT AUTO'!D$78) -> 0 | E79: =COUNTIF('TEST AUTO'!$AI:$AI,'TRAITEMENT AUTO'!E$78) -> 2 | F79: =COUNTIF('TEST AUTO'!$AI:$AI,'TRAITEMENT AUTO'!F$78) -> 1 | G79: =H78-H79 -> 0 | H79: =SUM(C79:F79) -> 3
B80: % DE REPONSES | C80: =C79/$H78 -> 0 | D80: =D79/$H78 -> 0 | E80: =E79/$H78 -> 0.66666667 | F80: =F79/$H78 -> 0.33333333 | G80: =G79/$H78 -> 0 | H80: =SUM(C80:G80) -> 1
A81: TYPE | B81: L’élève doit soustraire deux nombres décimaux. Nombres décimaux. Calcul mental ou posé : soustraction. | D81: NON : n’a pas tenu compte de la retenue. | E81: NON : a inversé les parties décimales pour avoir un calcul sans retenue. | F81: NON : a additionné les deux nombres au lieu de les soustraire. | G81: PROCEDURE
A83: 17 | B83: Quel encadrement de 9,998 par deux nombres entiers est correct ? Cocher la réponse correcte. | C83: 9 < 9,998 < 10 | D83: 999 < 9,998 < 1 000 | E83: 9 999 < 9,998 < 10 000 | F83: 99 < 9,998 < 100 | G83: SANS REPONSE | H83: =COUNTA('TEST AUTO'!A:A)-2 -> 3
B84: NOMBRE DE REPONSES | C84: =COUNTIF('TEST AUTO'!$AK:$AK,'TRAITEMENT AUTO'!C$83) -> 0 | D84: =COUNTIF('TEST AUTO'!$AK:$AK,'TRAITEMENT AUTO'!D$83) -> 1 | E84: =COUNTIF('TEST AUTO'!$AK:$AK,'TRAITEMENT AUTO'!E$83) -> 1 | F84: =COUNTIF('TEST AUTO'!$AK:$AK,'TRAITEMENT AUTO'!F$83) -> 1 | G84: =H83-H84 -> 0 | H84: =SUM(C84:F84) -> 3
B85: % DE REPONSES | C85: =C84/$H83 -> 0 | D85: =D84/$H83 -> 0.33333333 | E85: =E84/$H83 -> 0.33333333 | F85: =F84/$H83 -> 0.33333333 | G85: =G84/$H83 -> 0 | H85: =SUM(C85:G85) -> 1
A86: TYPE | B86: L’élève doit encadrer un nombre en écriture décimale par deux entiers. Nombres décimaux. Comparaison (encadrement). | D86: NON : ne considère que les trois premiers chiffres du nombre sans tenir compte de la virgule. | E86: NON : ne comprend pas l’écriture décimale du nombre, prend tous les chiffres du nombre qu'il assimile à un entier. | F86: NON : ne considère que les deux premiers chiffres du nombre sans tenir compte de la virgule. | G86: CONNAISSANCE
A88: 18 | B88: Cocher la réponse correcte. Dans le nombre 1 735,842 2 est le chiffre des … | C88: millièmes. | D88: unités. | E88: centièmes. | F88: milliers. | G88: SANS REPONSE | H88: =COUNTA('TEST AUTO'!A:A)-2 -> 3
B89: NOMBRE DE REPONSES | C89: =COUNTIF('TEST AUTO'!$AM:$AM,'TRAITEMENT AUTO'!C$88) -> 0 | D89: =COUNTIF('TEST AUTO'!$AM:$AM,'TRAITEMENT AUTO'!D$88) -> 3 | E89: =COUNTIF('TEST AUTO'!$AM:$AM,'TRAITEMENT AUTO'!E$88) -> 0 | F89: =COUNTIF('TEST AUTO'!$AM:$AM,'TRAITEMENT AUTO'!F$88) -> 0 | G89: =H88-H89 -> 0 | H89: =SUM(C89:F89) -> 3
B90: % DE REPONSES | C90: =C89/$H88 -> 0 | D90: =D89/$H88 -> 1 | E90: =E89/$H88 -> 0 | F90: =F89/$H88 -> 0 | G90: =G89/$H88 -> 0 | H90: =SUM(C90:G90) -> 1
A91: TYPE | B91: L’élève doit définir le rang d’un chiffre dans une écriture décimale. Nombres décimaux. Différentes écritures d'un nombre : utilisation du langage naturel pour décrire un nombre décimal (aspect positionnel). | D91: NON : considère que le nombre ne comprend pas de partie décimale. | E91: NON : confond "centièmes" et "millièmes" OU oralise "huit-cent-trente-deux" et conclut « centièmes » en lisant la partie décimale. | F91: OUI : reconnait l’écart par rapport à l’unité. NON : confond "millier"et "millièmes". | G91: CONNAISSANCE
A93: 19 | B93: Cocher la réponse correcte. 3,6 × 100 = ... | C93: 360 | D93: 300,6 | E93: 3600 | F93: 3,600 | G93: SANS REPONSE | H93: =COUNTA('TEST AUTO'!A:A)-2 -> 3
B94: NOMBRE DE REPONSES | C94: =COUNTIF('TEST AUTO'!$AO:$AO,'TRAITEMENT AUTO'!C$93) -> 2 | D94: =COUNTIF('TEST AUTO'!$AO:$AO,'TRAITEMENT AUTO'!D$93) -> 1 | E94: =COUNTIF('TEST AUTO'!$AO:$AO,'TRAITEMENT AUTO'!E$93) -> 0 | F94: =COUNTIF('TEST AUTO'!$AO:$AO,'TRAITEMENT AUTO'!F$93) -> 0 | G94: =H93-H94 -> 0 | H94: =SUM(C94:F94) -> 3
B95: % DE REPONSES | C95: =C94/$H93 -> 0.66666667 | D95: =D94/$H93 -> 0.33333333 | E95: =E94/$H93 -> 0 | F95: =F94/$H93 -> 0 | G95: =G94/$H93 -> 0 | H95: =SUM(C95:G95) -> 1
A96: TYPE | B96: L’élève doit multiplier un nombre décimal par 100. Nombres décimaux. Calcul mental ou posé : multiplication (par 100). | D96: NON : multiplie par 100 uniquement la partie entière du nombre. | E96: NON : multiplie par 1 000 ou ajoute les deux zéros du facteur 100 et ôte la virgule. | F96: NON : multiplie par 100 uniquement la partie décimale en la considérant comme une partie entière OU rajoute deux « 0 ». | G96: PROCEDURE
A98: 20 | B98: Cocher la réponse correcte. 12 × 1/2 permet de calculer ... | C98: 50 % de 12. | D98: 1,5 % de 12. | E98: 25 % de 12. | F98: 1,2 % de 12. | G98: SANS REPONSE | H98: =COUNTA('TEST AUTO'!A:A)-2 -> 3
B99: NOMBRE DE REPONSES | C99: =COUNTIF('TEST AUTO'!$AQ:$AQ,'TRAITEMENT AUTO'!C$98) -> 1 | D99: =COUNTIF('TEST AUTO'!$AQ:$AQ,'TRAITEMENT AUTO'!D$98) -> 0 | E99: =COUNTIF('TEST AUTO'!$AQ:$AQ,'TRAITEMENT AUTO'!E$98) -> 0 | F99: =COUNTIF('TEST AUTO'!$AQ:$AQ,'TRAITEMENT AUTO'!F$98) -> 2 | G99: =H98-H99 -> 0 | H99: =SUM(C99:F99) -> 3
B100: % DE REPONSES | C100: =C99/$H98 -> 0.33333333 | D100: =D99/$H98 -> 0 | E100: =E99/$H98 -> 0 | F100: =F99/$H98 -> 0.66666667 | G100: =G99/$H98 -> 0 | H100: =SUM(C100:G100) -> 1
A101: TYPE | B101: L’élève doit changer de registre en passant du fractionnaire à la proportionnalité (faire le lien entre les deux écritures 1/2 et 50 % au sein d’un produit). Fractions. Différentes écritures d'un nombre : fraction simple à pourcentage. | D101: NON : pense que 1/2 est égal à 1,5. | E101: NON : fait la confusion entre la moitié et le quart dans l’écriture fractionnaire. | F101: NON : ne maitrise pas la notion de fraction et assimile 1/2 à 1,2. | G101: PROCEDURE
A103: 21 | B103: Cocher la réponse correcte. 4/10 + 8/100 = … | C103: 0,48 | D103: 408 | E103: 480 | F103: 0,84 | G103: SANS REPONSE | H103: =COUNTA('TEST AUTO'!A:A)-2 -> 3
B104: NOMBRE DE REPONSES | C104: =COUNTIF('TEST AUTO'!$AS:$AS,'TRAITEMENT AUTO'!C$103) -> 2 | D104: =COUNTIF('TEST AUTO'!$AS:$AS,'TRAITEMENT AUTO'!D$103) -> 1 | E104: =COUNTIF('TEST AUTO'!$AS:$AS,'TRAITEMENT AUTO'!E$103) -> 0 | F104: =COUNTIF('TEST AUTO'!$AS:$AS,'TRAITEMENT AUTO'!F$103) -> 0 | G104: =H103-H104 -> 0 | H104: =SUM(C104:F104) -> 3
B105: % DE REPONSES | C105: =C104/$H103 -> 0.66666667 | D105: =D104/$H103 -> 0.33333333 | E105: =E104/$H103 -> 0 | F105: =F104/$H103 -> 0 | G105: =G104/$H103 -> 0 | H105: =SUM(C105:G105) -> 1
A106: TYPE | B106: L’élève doit déterminer le nombre décimal à associer à une décomposition additive de fractions décimales. Nombres décimaux. Fractions. Différentes écritures d'un nombre : décomposition additive de fractions décimales à écriture décimale. | D106: OUI : met mis les fractions au même dénominateur (100). NON : puis a accolé les deux numérateurs et n’a pas tenu compte de l’écriture fractionnaire en supprimant les dénominateurs. | E106: OUI : met les fractions au même dénominateur (1000). NON : puis a accolé les deux numérateurs et n’a pas tenu compte de l’écriture fractionnaire en supprimant les dénominateurs. | F106: OUI : a voulu utiliser la numération de position. NON : mais a inversé dixième et centième. | G106: PROCEDURE
A108: 22 | B108: Voici un programme de calcul : •Je choisis le nombre 2. •Je lui ajoute 3,5. •Je multiplie le résultat par 0,1. Quel calcul permet de trouver le bon résultat ? Cocher la réponse correcte. | C108: ( 2 + 3,5 ) × 0,1 | D108: 2 + 3,5 × 0,1 | E108: 2 + ( 3,5 × 0,1 ) | F108: 2 × 0,1 + 3,5 | G108: SANS REPONSE | H108: =COUNTA('TEST AUTO'!A:A)-2 -> 3
B109: NOMBRE DE REPONSES | C109: =COUNTIF('TEST AUTO'!$AU:$AU,'TRAITEMENT AUTO'!C$108) -> 1 | D109: =COUNTIF('TEST AUTO'!$AU:$AU,'TRAITEMENT AUTO'!D$108) -> 1 | E109: =COUNTIF('TEST AUTO'!$AU:$AU,'TRAITEMENT AUTO'!E$108) -> 1 | F109: =COUNTIF('TEST AUTO'!$AU:$AU,'TRAITEMENT AUTO'!F$108) -> 0 | G109: =H108-H109 -> 0 | H109: =SUM(C109:F109) -> 3
B110: % DE REPONSES | C110: =C109/$H108 -> 0.33333333 | D110: =D109/$H108 -> 0.33333333 | E110: =E109/$H108 -> 0.33333333 | F110: =F109/$H108 -> 0 | G110: =G109/$H108 -> 0 | H110: =SUM(C110:G110) -> 1
A111: TYPE | B111: L’élève doit traduire le programme de calcul donné par une expression numérique en respectant les priorités. Nombres décimaux. Ecriture en ligne d'un calcul (respect des priorités). | D111: OUI : suit les étapes du programme de calcul dans l’ordre. NON : mais ne maitrise pas l’utilisation des parenthèses. | E111: OUI : suit les étapes du programme de calcul dans l’ordre. NON : mais n’identifie pas correctement la priorité opératoire et ne rend pas l’addition prioritaire. OU OUI : connait la règle « la multiplication est prioritaire ». NON : l'applique et donc ajoute des parenthèses autour du produit. | F111: NON : lit le programme de calcul à l'envers (en remontant). | G111: PROCEDURE
A113: 23 | B113: Cocher la réponse corecte. 6 + 4 × 2 = ... | C113: 14 | D113: 20 | E113: 16 | F113: 12 | G113: SANS REPONSE | H113: =COUNTA('TEST AUTO'!A:A)-2 -> 3
B114: NOMBRE DE REPONSES | C114: =COUNTIF('TEST AUTO'!$AW:$AW,'TRAITEMENT AUTO'!C$113) -> 1 | D114: =COUNTIF('TEST AUTO'!$AW:$AW,'TRAITEMENT AUTO'!D$113) -> 1 | E114: =COUNTIF('TEST AUTO'!$AW:$AW,'TRAITEMENT AUTO'!E$113) -> 0 | F114: =COUNTIF('TEST AUTO'!$AW:$AW,'TRAITEMENT AUTO'!F$113) -> 1 | G114: =H113-H114 -> 0 | H114: =SUM(C114:F114) -> 3
B115: % DE REPONSES | C115: =C114/$H113 -> 0.33333333 | D115: =D114/$H113 -> 0.33333333 | E115: =E114/$H113 -> 0 | F115: =F114/$H113 -> 0.33333333 | G115: =G114/$H113 -> 0 | H115: =SUM(C115:G115) -> 1
A116: TYPE | B116: L’élève doit savoir utiliser les priorités opératoires (repérer dans l’expression numérique que la multiplication est prioritaire et ensuite effectuer l’addition). Nombres entiers. Calcul mental ou posé : respect de la priorité de la multiplication sur l'addition. | D116: NON : ne respecte pas la priorité opératoire et effectue les calculs de gauche à droite. | E116: NON : intervertit les valeurs 4 et 6 dans le calcul et effectue 6 × 2 = 12 puis 12 + 4 = 16. | F116: NON : additionne toutes les valeurs données et fait abstraction de la multiplication : 6 + 4 + 2 = 12. | G116: PROCEDURE
A118: 24 | B118: Quel est le nombre désigné par la flèche ? Cocher la réponse correcte. | C118: 11/10 | D118: 101/100 | E118: 1/10 | F118: 11/100 | G118: SANS REPONSE | H118: =COUNTA('TEST AUTO'!A:A)-2 -> 3
B119: NOMBRE DE REPONSES | C119: =COUNTIF('TEST AUTO'!$AY:$AY,'TRAITEMENT AUTO'!C$118) -> 1 | D119: =COUNTIF('TEST AUTO'!$AY:$AY,'TRAITEMENT AUTO'!D$118) -> 0 | E119: =COUNTIF('TEST AUTO'!$AY:$AY,'TRAITEMENT AUTO'!E$118) -> 2 | F119: =COUNTIF('TEST AUTO'!$AY:$AY,'TRAITEMENT AUTO'!F$118) -> 0 | G119: =H118-H119 -> 0 | H119: =SUM(C119:F119) -> 3
B120: % DE REPONSES | C120: =C119/$H118 -> 0.33333333 | D120: =D119/$H118 -> 0 | E120: =E119/$H118 -> 0.66666667 | F120: =F119/$H118 -> 0 | G120: =G119/$H118 -> 0 | H120: =SUM(C120:G120) -> 1
A121: TYPE | B121: L’élève doit déterminer une fraction décimale correspondant à l’abscisse d’un point placé sur une droite graduée. Fractions. Repérage sur une droite graduée : fraction décimale. | D121: OUI : a identifié que la fraction doit être supérieure à 1. NON : ajoute une graduation en confondant dixième et centième. | E121: NON : ne prend pas en compte le fait que la flèche est positionnée un dixième après l’unité. | F121: NON : confond dixième et centième, en comptant les graduations en gras. | G121: PROCEDURE
A123: 25 | B123: 6,522 < … < 6,523 Quel nombre décimal peut-on écrire à la place des … ? Cocher la réponse correcte. | C123: 6,5224 | D123: 6,5201 | E123: 6,5220 | F123: 6,5230 | G123: SANS REPONSE | H123: =COUNTA('TEST AUTO'!A:A)-2 -> 3
B124: NOMBRE DE REPONSES | C124: =COUNTIF('TEST AUTO'!$BA:$BA,'TRAITEMENT AUTO'!C$123) -> 1 | D124: =COUNTIF('TEST AUTO'!$BA:$BA,'TRAITEMENT AUTO'!D$123) -> 2 | E124: =COUNTIF('TEST AUTO'!$BA:$BA,'TRAITEMENT AUTO'!E$123) -> 0 | F124: =COUNTIF('TEST AUTO'!$BA:$BA,'TRAITEMENT AUTO'!F$123) -> 0 | G124: =H123-H124 -> 0 | H124: =SUM(C124:F124) -> 3
...

Sheet TRAIT AUTO-pdf
A1: PAGE A IMPRIMER EN PDF POUR UN TRAVAIL CIBLE PAR ITEM (pour CEC, en équipe COLLEGE, etc.)
C9: 6/5 | D9: =COUNTIF('TEST AUTO'!$E:$E,C9) -> 3 | E9: =D9/D$14 -> 1
C10: 5/5 | D10: =COUNTIF('TEST AUTO'!$E:$E,C10) -> 0 | E10: =D10/D$14 -> 0 | F10: NON : a une représentation erronée des fractions (une fraction représente un nombre inférieur ou égal à 1). Choisit 5/5 qui est égal à 1.
C11: 1/5 | D11: =COUNTIF('TEST AUTO'!$E:$E,C11) -> 0 | E11: =D11/D$14 -> 0 | F11: NON : ne comprend pas ou ne lit pas correctement la consigne ; choisit le plus petit nombre au lieu du plus grand.
C12: 4/5 | D12: =COUNTIF('TEST AUTO'!$E:$E,C12) -> 0 | E12: =D12/D$14 -> 0 | F12: NON : n'a pas compris comment comparer des fractions de même dénominateur.
C13: Pas de réponse | D13: =D14-(D9+D10+D11+D12) -> 0 | E13: =D13/D$14 -> 0
C14: Total | D14: =COUNTA('TEST AUTO'!$C:$C)-1 -> 3 | E14: =SUM(E9:E13) -> 1
C21: 35 064 | D21: =COUNTIF('TEST AUTO'!$G:$G,C21) -> 2 | E21: =D21/D$14 -> 0.66666667
C22: 64 035 | D22: =COUNTIF('TEST AUTO'!$G:$G,C22) -> 0 | E22: =D22/D$14 -> 0 | F22: NON : inverse les opérations de multiplication et d’addition.
C23: 3 564 | D23: =COUNTIF('TEST AUTO'!$G:$G,C23) -> 1 | E23: =D23/D$14 -> 0.33333333 | F23: NON : commet une erreur d’une dizaine, confond 35 milliers avec 35 centaines.
C24: 6 435 | D24: =COUNTIF('TEST AUTO'!$G:$G,C24) -> 0 | E24: =D24/D$14 -> 0 | F24: NON : inverse les opérations de multiplication et d’addition. NON : commet une erreur d’une dizaine, confond de 35 milliers avec 35 centaines.
C25: Pas de réponse | D25: =D26-(D22+D23+D24+D21) -> 0 | E25: =D25/D$14 -> 0
C26: Total | D26: =COUNTA('TEST AUTO'!$C:$C)-1 -> 3 | E26: =SUM(E21:E25) -> 1
C32: Cent-dix-millions | D32: =COUNTIF('TEST AUTO'!$I:$I,C32) -> 1 | E32: =D32/D$14 -> 0.33333333
C33: Onze-millions | D33: =COUNTIF('TEST AUTO'!$I:$I,C33) -> 1 | E33: =D33/D$14 -> 0.33333333 | F33: OUI : interprète correctement la classe des millions. NON : oublie un zéro.
C34: Cent-dix-mille | D34: =COUNTIF('TEST AUTO'!$I:$I,C34) -> 0 | E34: =D34/D$14 -> 0 | F34: NON : place 110 dans la classe des milliers et non dans la classe des millions.
C35: Onze-milliards | D35: =COUNTIF('TEST AUTO'!$I:$I,C35) -> 1 | E35: =D35/D$14 -> 0.33333333 | F35: NON : confond la classe des millions et des milliards.
C36: Pas de réponse | D36: =D37-(D33+D32+D34+D35) -> 0 | E36: =D36/D$14 -> 0
C37: Total | D37: =COUNTA('TEST AUTO'!$C:$C)-1 -> 3 | E37: =SUM(E32:E36) -> 1
C44: 6 | D44: =COUNTIF('TEST AUTO'!$K:$K,C44) -> 3 | E44: =D44/D$14 -> 1
C45: 4 | D45: =COUNTIF('TEST AUTO'!$K:$K,C45) -> 0 | E45: =D45/D$14 -> 0 | F45: NON : utilise le nombre de dizaines du résultat afin de compléter l’égalité.
C46: 5 | D46: =COUNTIF('TEST AUTO'!$K:$K,C46) -> 0 | E46: =D46/D$14 -> 0 | F46: NON : ne connait pas la table de multiplication de 8.
C47: 7 | D47: =COUNTIF('TEST AUTO'!$K:$K,C47) -> 0 | E47: =D47/D$14 -> 0 | F47: NON : ne connait pas la table de multiplication de 8.
C48: Pas de réponse | D48: =D49-(D44+D45+D46+D47) -> 0 | E48: =D48/D$14 -> 0
C49: Total | D49: =COUNTA('TEST AUTO'!$C:$C)-1 -> 3 | E49: =SUM(E44:E48) -> 1
C55: 25 | D55: =COUNTIF('TEST AUTO'!$M:$M,C55) -> 2 | E55: =D55/D$14 -> 0.66666667
C56: 35 | D56: =COUNTIF('TEST AUTO'!$M:$M,C56) -> 0 | E56: =D56/D$14 -> 0 | F56: NON : ne connait pas le fait numérique. Fait une erreur de retenue.
C57: 30 | D57: =COUNTIF('TEST AUTO'!$M:$M,C57) -> 1 | E57: =D57/D$14 -> 0.33333333 | F57: NON : ne connait pas le fait numérique. OUI : a pu mobiliser le fait numérique 70 + 30 = 100.
C58: 40 | D58: =COUNTIF('TEST AUTO'!$M:$M,C58) -> 0 | E58: =D58/D$14 -> 0 | F58: NON : ne connait pas ou ne remobilise pas le fait numérique.
C59: Pas de réponse | D59: =D60-(D56+D55+D57+D58) -> 0 | E59: =D59/D$14 -> 0
C60: Total | D60: =COUNTA('TEST AUTO'!$C:$C)-1 -> 3 | E60: =SUM(E55:E59) -> 1
C70: 1/4 | D70: =COUNTIF('TEST AUTO'!$O:$O,C70) -> 1 | E70: =D70/D$14 -> 0.33333333
C71: 1/3 | D71: =COUNTIF('TEST AUTO'!$O:$O,C71) -> 1 | E71: =D71/D$14 -> 0.33333333 | F71: NON : confond proportion par rapport au total et par rapport au complémentaire.
C72: 3/4 | D72: =COUNTIF('TEST AUTO'!$O:$O,C72) -> 1 | E72: =D72/D$14 -> 0.33333333 | F72: NON : interprète mal la signification du mot « coloriée » (proportion de secteurs blancs par rapport au nombre total de secteurs).
C73: 1/2 | D73: =COUNTIF('TEST AUTO'!$O:$O,C73) -> 0 | E73: =D73/D$14 -> 0 | F73: NON : estime visuellement que la surface coloriée couvre la moitié du triangle ou considère qu'il y a des surfaces. une couleur sur deux, sans considérer les aires
C74: Pas de réponse | D74: =D75-(D70+D71+D72+D73) -> 0 | E74: =D74/D$14 -> 0
C75: Total | D75: =COUNTA('TEST AUTO'!$C:$C)-1 -> 3 | E75: =SUM(E70:E74) -> 1
C81: 225 | D81: =COUNTIF('TEST AUTO'!$Q:$Q,C81) -> 3 | E81: =D81/D$14 -> 1
C82: 226 | D82: =COUNTIF('TEST AUTO'!$Q:$Q,C82) -> 0 | E82: =D82/D$14 -> 0 | F82: OUI : ajoute 100. NON : oublie de soustraire 1.
C83: 115 | D83: =COUNTIF('TEST AUTO'!$Q:$Q,C83) -> 0 | E83: =D83/D$14 -> 0 | F83: OUI : additionne les chiffres des unités : 6 + 9 = 15. NON : en déduit que que la réponse correcte se termine par 15.
C84: 227 | D84: =COUNTIF('TEST AUTO'!$Q:$Q,C84) -> 0 | E84: =D84/D$14 -> 0 | F84: OUI : pense au complément : ajout de 100. NON : additionne 1 au lieu de le soustraire.
C85: Pas de réponse | D85: =D86-(D81+D82+D83+D84) -> 0 | E85: =D85/D$14 -> 0
C86: Total | D86: =COUNTA('TEST AUTO'!$C:$C)-1 -> 3 | E86: =SUM(E81:E85) -> 1
C93: 430 | D93: =COUNTIF('TEST AUTO'!$S:$S,C93) -> 1 | E93: =D93/D$14 -> 0.33333333
C94: 215 | D94: =COUNTIF('TEST AUTO'!$S:$S,C94) -> 0 | E94: =D94/D$14 -> 0 | F94: OUI : effectue la multiplication 5 × 43. NON : oublie un facteur.
C95: 86 | D95: =COUNTIF('TEST AUTO'!$S:$S,C95) -> 1 | E95: =D95/D$14 -> 0.33333333 | F95: OUI : effectue la multiplication 43 × 2. NON : oublie un facteur.
C96: 205 | D96: =COUNTIF('TEST AUTO'!$S:$S,C96) -> 1 | E96: =D96/D$14 -> 0.33333333 | F96: NON : effectue la soustraction entre 43 et 2. OUI : multiplie le résultat par 5 ensuite.
C97: Pas de réponse | D97: =D98-(D94+D95+D93+D96) -> 0 | E97: =D97/D$14 -> 0
C98: Total | D98: =COUNTA('TEST AUTO'!$C:$C)-1 -> 3 | E98: =SUM(E93:E97) -> 1
C104: 200 | D104: =COUNTIF('TEST AUTO'!$U:$U,C104) -> 3 | E104: =D104/D$14 -> 1
C105: 275 | D105: =COUNTIF('TEST AUTO'!$U:$U,C105) -> 0 | E105: =D105/D$14 -> 0 | F105: NON : confond multiple de 50 et multiple de 25 (ou de 5).
C106: 225 | D106: =COUNTIF('TEST AUTO'!$U:$U,C106) -> 0 | E106: =D106/D$14 -> 0 | F106: NON : pense que « 5 × 50 = 225 » (en voyant 5 × 5).
C107: 210 | D107: =COUNTIF('TEST AUTO'!$U:$U,C107) -> 0 | E107: =D107/D$14 -> 0 | F107: OUI : repère un multiple de 10, tout comme l’est 50. NON : sélectionne 210 en voyant 10 comme 5 × 2.
C108: Pas de réponse | D108: =D109-(D105+D104+D106+D107) -> 0 | E108: =D108/D$14 -> 0
C109: Total | D109: =COUNTA('TEST AUTO'!$C:$C)-1 -> 3 | E109: =SUM(E104:E108) -> 1
C115: 4.6 | D115: =COUNTIF('TEST AUTO'!$W:$W,C115) -> 0 | E115: =D115/D$14 -> 0
C116: 3.16 | D116: =COUNTIF('TEST AUTO'!$W:$W,C116) -> 1 | E116: =D116/D$14 -> 0.33333333 | F116: OUI : additionne les parties entières ensemble et les parties décimales ensemble. NON : considère les parties entière et décimale comme deux nombres distincts de part et d’autre de la virgule.
C117: 3.6 | D117: =COUNTIF('TEST AUTO'!$W:$W,C117) -> 2 | E117: =D117/D$14 -> 0.66666667 | F117: OUI : mène l'opération correctement. NON : oublie la retenue.
C118: 3.8 | D118: =COUNTIF('TEST AUTO'!$W:$W,C118) -> 0 | E118: =D118/D$14 -> 0 | F118: OUI : a additionné les parties entières ensemble. NON : n'a pas effectué de calcul sur la partie décimale.
C119: Pas de réponse | D119: =D120-(D115+D116+D117+D118) -> 0 | E119: =D119/D$14 -> 0
C120: Total | D120: =COUNTA('TEST AUTO'!$C:$C)-1 -> 3 | E120: =SUM(E115:E119) -> 1
C126: 105 | D126: =COUNTIF('TEST AUTO'!$Y:$Y,C126) -> 2 | E126: =D126/D$14 -> 0.66666667
C127: 15 | D127: =COUNTIF('TEST AUTO'!$Y:$Y,C127) -> 1 | E127: =D127/D$14 -> 0.33333333 | F127: OUI : a effectué une division. NON : oublie le chiffre des dizaines (0) dans le quotient.
C128: 150 | D128: =COUNTIF('TEST AUTO'!$Y:$Y,C128) -> 0 | E128: =D128/D$14 -> 0 | F128: OUI : raisonne par décomposition 500 ÷ 5 = 100 et 25 ÷ 5 = 5. NON : positionne le 5 en chiffre des dizaines et non en chiffre des unités.
C129: 11 | D129: =COUNTIF('TEST AUTO'!$Y:$Y,C129) -> 0 | E129: =D129/D$14 -> 0 | F129: OUI : divise par 5 du chiffre des centaines. NON : oublie le chiffre des dizaines et divise par 5 le chiffre des unités.
C130: Pas de réponse | D130: =D131-(D127+D126+D128+D129) -> 0 | E130: =D130/D$14 -> 0
C131: Total | D131: =COUNTA('TEST AUTO'!$C:$C)-1 -> 3 | E131: =SUM(E126:E130) -> 1
C138: 7.12 | D138: =COUNTIF('TEST AUTO'!$AA:$AA,C138) -> 3 | E138: =D138/D$14 -> 1
C139: 0.712 | D139: =COUNTIF('TEST AUTO'!$AA:$AA,C139) -> 0 | E139: =D139/D$14 -> 0 | F139: NON : a divisé 712 par 1 000. Confond, centièmes et millièmes.
C140: 712,100 | D140: =COUNTIF('TEST AUTO'!$AA:$AA,C140) -> 0 | E140: =D140/D$14 -> 0 | F140: NON : traduit le trait de fraction par une virgule. Les centièmes deviennent la partie décimale.
C141: 71200 | D141: =COUNTIF('TEST AUTO'!$AA:$AA,C141) -> 0 | E141: =D141/D$14 -> 0 | F141: NON : ne divise pas mais multiplie 712 par 100.
C142: Pas de réponse | D142: =D143-(D139+D140+D138+D141) -> 0 | E142: =D142/D$14 -> 0
C143: Total | D143: =COUNTA('TEST AUTO'!$C:$C)-1 -> 3 | E143: =SUM(E138:E142) -> 1
C150: 14,6188 | D150: =COUNTIF('TEST AUTO'!$AC:$AC,C150) -> 2 | E150: =D150/D$155 -> 0.66666667
C151: 14,69 | D151: =COUNTIF('TEST AUTO'!$AC:$AC,C151) -> 1 | E151: =D151/D$155 -> 0.33333333 | F151: NON : considère les deux parties du nombre comme deux nombres entiers et considère que 69 est plus petit que 619 et choisit 14,69 ou il part de 14,61 et ajoute la valeur des 8 graduations pour arriver à 14,69.
C152: 14,68 | D152: =COUNTIF('TEST AUTO'!$AC:$AC,C152) -> 0 | E152: =D152/D$155 -> 0 | F152: NON : considère les deux parties du nombre comme deux nombres entiers et considère que 68 est plus petit que 619 et choisit 14,68.
C153: 14,6180 | D153: =COUNTIF('TEST AUTO'!$AC:$AC,C153) -> 0 | E153: =D153/D$155 -> 0 | F153: NON : identifie que le nombre recherché doit présenter 4 chiffres après la virgule mais ne tient pas compte de la valeur des graduations et ajoute un zéro.
C154: Pas de réponse | D154: =D155-(D150+D151+D152+D153) -> 0 | E154: =D154/D$155 -> 0
C155: Total | D155: =COUNTA('TEST AUTO'!$C:$C)-1 -> 3 | E155: =SUM(E150:E154) -> 1
C163: 100 | D163: =COUNTIF('TEST AUTO'!$AE:$AE,C163) -> 2 | E163: =D163/D$14 -> 0.66666667
C164: 1 000 | D164: =COUNTIF('TEST AUTO'!$AE:$AE,C164) -> 1 | E164: =D164/D$14 -> 0.33333333 | F164: NON : fait une erreur sur l’ordre de grandeur du premier facteur en faisant abstraction de la virgule et associe 9,8 à 100.
C165: 10 000 | D165: =COUNTIF('TEST AUTO'!$AE:$AE,C165) -> 0 | E165: =D165/D$14 -> 0 | F165: NON : fait une erreur sur l’ordre de grandeur du deuxième facteur en faisant abstraction de la virgule et associe 9,78 à 1000.
C166: 10 | D166: =COUNTIF('TEST AUTO'!$AE:$AE,C166) -> 0 | E166: =D166/D$14 -> 0 | F166: NON : ne donne l’arrondi que d’un des facteurs en oubliant le reste du calcul.
C167: Pas de réponse | D167: =D168-(D164+D165+D163+D166) -> 0 | E167: =D167/D$14 -> 0
C168: Total | D168: =COUNTA('TEST AUTO'!$C:$C)-1 -> 3 | E168: =SUM(E163:E167) -> 1
C175: 50.03 | D175: =COUNTIF('TEST AUTO'!$AG:$AG,C175) -> 1 | E175: =D175/D$14 -> 0.33333333
C176: 50.3 | D176: =COUNTIF('TEST AUTO'!$AG:$AG,C176) -> 1 | E176: =D176/D$14 -> 0.33333333 | F176: OUI : sait que 5 dizaines équivaut à 50. OUI : identification par l’élève du suffixe « ième » qui renvoie à la partie décimale. NON : associe 3 centièmes à 300 après la virgule.
C177: 300.5 | D177: =COUNTIF('TEST AUTO'!$AG:$AG,C177) -> 1 | E177: =D177/D$14 -> 0.33333333 | F177: NON : confond « dixième » et « dizaine » et « centième » et « centaine ».
C178: 350 | D178: =COUNTIF('TEST AUTO'!$AG:$AG,C178) -> 0 | E178: =D178/D$14 -> 0 | F178: NON : confond « centaine » et « centième ».
C179: Pas de réponse | D179: =D180-(D176+D177+D175+D178) -> 0 | E179: =D179/D$14 -> 0
C180: Total | D180: =COUNTA('TEST AUTO'!$C:$C)-1 -> 3 | E180: =SUM(E175:E179) -> 1
C186: 12.9 | D186: =COUNTIF('TEST AUTO'!$AI:$AI,C186) -> 0 | E186: =D186/D$14 -> 0
C187: 13.9 | D187: =COUNTIF('TEST AUTO'!$AI:$AI,C187) -> 0 | E187: =D187/D$14 -> 0 | F187: NON : n’a pas tenu compte de la retenue.
C188: 13.1 | D188: =COUNTIF('TEST AUTO'!$AI:$AI,C188) -> 2 | E188: =D188/D$14 -> 0.66666667 | F188: NON : a inversé les parties décimales pour avoir un calcul sans retenue.
C189: 17.7 | D189: =COUNTIF('TEST AUTO'!$AI:$AI,C189) -> 1 | E189: =D189/D$14 -> 0.33333333 | F189: NON : a additionné les deux nombres au lieu de les soustraire.
C190: Pas de réponse | D190: =D191-(D186+D187+D188+D189) -> 0 | E190: =D190/D$14 -> 0
C191: Total | D191: =COUNTA('TEST AUTO'!$C:$C)-1 -> 3 | E191: =SUM(E186:E190) -> 1
C198: 9 < 9,998 < 10 | D198: =COUNTIF('TEST AUTO'!$AK:$AK,C198) -> 0 | E198: =D198/D$14 -> 0
C199: 999 < 9,998 < 1 000 | D199: =COUNTIF('TEST AUTO'!$AK:$AK,C199) -> 1 | E199: =D199/D$14 -> 0.33333333 | F199: NON : ne considère que les trois premiers chiffres du nombre sans tenir compte de la virgule.
C200: 9 999 < 9,998 < 10 000 | D200: =COUNTIF('TEST AUTO'!$AK:$AK,C200) -> 1 | E200: =D200/D$14 -> 0.33333333 | F200: NON : ne comprend pas l’écriture décimale du nombre, prend tous les chiffres du nombre qu'il assimile à un entier.
...

Sheet ANALYSE AUTO
A1: TABLEAU ET GRAPHIQUES GENERES AUTOMATIQUEMENT = ANALYSE DES REUSSITES PAR TYPE D'ITEMS, DE FAMILLE DE NOMBRES, DE TYPE DE TACHES -> PILOTAGE DIDACTIQUE SUR TOUT LE CYCLE 4
A2: TYPE DE TACHE FAMILLE DE NOMBRE (% DE REUSSITES) | B2: Repérage nombre sur graduation | C2: Comparaison | D2: Partage | E2: Différentes écritures d'un nombre : en français, en chiffres ; avec virgule, en fractions décimales ; par décomposition additive ou multiplicative | F2: Calcul mental ou posé : complément à 100 ; tables de multiplication ; les 4 opérations ; ordre de grandeur | G2: Respect des priorités opératoires | H2: GRANDEURS ET MESURES (connaissance d'une formule) | I2: TOTAL
A3: ENTIERS (entiers ; grands nombres) | E3: ITEMS : 2-3-30 | F3: ITEMS : 4-5-7-8-9-11-14-26 | G3: ITEMS : 2-23 | H3: ITEM : 26 | I3: =D80 -> 0.61111111
E4: =AVERAGE('TRAITEMENT AUTO'!C10,'TRAITEMENT AUTO'!C15,'TRAITEMENT AUTO'!C150) -> 0.44444444 | F4: =AVERAGE('TRAITEMENT AUTO'!C20,'TRAITEMENT AUTO'!C25,'TRAITEMENT AUTO'!C35,'TRAITEMENT AUTO'!C40,'TRAITEMENT AUTO'!C45,'TRAITEMENT AUTO'!C55,'TRAITEMENT AUTO'!C70,'TRAITEMENT AUTO'!C130) -> 0.70833333 | G4: =AVERAGE('TRAITEMENT AUTO'!C10,'TRAITEMENT AUTO'!C115) -> 0.5 | H4: ='TRAITEMENT AUTO'!C130 -> 0.33333333
A5: FRACTIONS (décimaux en écritures avec fractions décimales ; fractions ; proportion) | B5: ITEM : 24 | C5: ITEM : 1 | D5: ITEM : 6 | E5: ITEMS : 12-20-21 | F5: ITEMS : 27-29 | I5: =D92 -> 0.45833333
B6: ='TRAITEMENT AUTO'!C120 -> 0.33333333 | C6: ='TRAITEMENT AUTO'!C5 -> 1 | D6: ='TRAITEMENT AUTO'!C30 -> 0.33333333 | E6: =AVERAGE('TRAITEMENT AUTO'!C60,'TRAITEMENT AUTO'!C100,'TRAITEMENT AUTO'!C105) -> 0.66666667 | F6: =AVERAGE('TRAITEMENT AUTO'!C135,'TRAITEMENT AUTO'!C145) -> 0
A7: DECIMAUX (en écritures décimales) | B7: ITEM : 13 | C7: ITEMS : 17-25 | E7: ITEMS : 12-15-18 | F7: ITEMS : 10-14-16-19-28 | G7: ITEM : 22 | I7: =D100 -> 0.33333333
B8: ='TRAITEMENT AUTO'!C65 -> 0.66666667 | C8: =AVERAGE('TRAITEMENT AUTO'!C85,'TRAITEMENT AUTO'!C125) -> 0.16666667 | E8: =AVERAGE('TRAITEMENT AUTO'!C60,'TRAITEMENT AUTO'!C75,'TRAITEMENT AUTO'!C90) -> 0.44444444 | F8: =AVERAGE('TRAITEMENT AUTO'!C50,'TRAITEMENT AUTO'!C70,'TRAITEMENT AUTO'!C80,'TRAITEMENT AUTO'!C95,'TRAITEMENT AUTO'!C140) -> 0.26666667 | G8: ='TRAITEMENT AUTO'!C110 -> 0.33333333
A9: TOTAL | B9: =D46 -> 0.5 | C9: =D48 -> 0.44444444 | D9: =D51 -> 0.33333333 | E9: =D52 -> 0.45833333 | F9: =D60 -> 0.45238095 | G9: =D74 -> 0.44444444 | H9: =D77 -> 0.33333333 | K9: Voir ITEMS
K10: ↓↓↓↓
K11: ↓↓↓↓
K12: ↓↓↓↓
A13: Descriptif de la tâche | B13: ITEMS AUTO | C13: % DE REUSSITE
A14: Fractions. Comparaison. | B14: 1 | C14: ='TRAITEMENT AUTO'!C5 -> 1
A15: Nombres entiers. Décomposition additive à écriture décimale. Respect de la priorité de la multiplication sur l'addition. | B15: 2 | C15: ='TRAITEMENT AUTO'!C10 -> 0.66666667
A16: Nombres entiers. Ecriture décimale à langage naturel. | B16: 3 | C16: ='TRAITEMENT AUTO'!C15 -> 0.33333333
A17: Nombres entiers. Calcul mental : fait numérique (tables de multiplication). | B17: 4 | C17: ='TRAITEMENT AUTO'!C20 -> 1
A18: Nombres entiers. Calcul mental : fait numérique (compléments à 100). | B18: 5 | C18: ='TRAITEMENT AUTO'!C25 -> 0.66666667
A19: Fractions. Partage. | B19: 6 | C19: ='TRAITEMENT AUTO'!C30 -> 0.33333333
A20: Nombres entiers. Calcul mental ou posé : addition. | B20: 7 | C20: ='TRAITEMENT AUTO'!C35 -> 1
A21: Nombres entiers. Calcul mental ou posé : multiplication. | B21: 8 | C21: ='TRAITEMENT AUTO'!C40 -> 0.33333333
A22: Nombres entiers. Calcul mental : fait numérique (multiples de 50). | B22: 9 | C22: ='TRAITEMENT AUTO'!C45 -> 1
A23: Nombres décimaux. Calcul mental ou posé : addition. | B23: 10 | C23: ='TRAITEMENT AUTO'!C50 -> 0
A24: Nombres entiers. Calcul mental ou posé : division. | B24: 11 | C24: ='TRAITEMENT AUTO'!C55 -> 0.66666667
A25: Nombres décimaux. Fractions. Différentes écritures d'un nombre : fraction décimale à écriture décimale. | B25: 12 | C25: ='TRAITEMENT AUTO'!C60 -> 1
A26: Nombres décimaux. Repérage sur une droite graduée : écriture décimale. | B26: 13 | C26: ='TRAITEMENT AUTO'!C65 -> 0.66666667
A27: Nombres décimaux. Calcul mental : approximation d'un résultat (produit). | B27: 14 | C27: ='TRAITEMENT AUTO'!C70 -> 0.66666667
A28: Nombres décimaux. Différentes écritures d'un nombre : décomposition additive en langage naturel à écriture décimale. | B28: 15 | C28: ='TRAITEMENT AUTO'!C75 -> 0.33333333
A29: Nombres décimaux. Calcul mental ou posé : soustraction. | B29: 16 | C29: ='TRAITEMENT AUTO'!C80 -> 0
A30: Nombres décimaux. Comparaison (encadrement). | B30: 17 | C30: ='TRAITEMENT AUTO'!C85 -> 0
A31: Nombres décimaux. Différentes écritures d'un nombre : utilisation du langage naturel pour décrire un nombre décimal (aspect positionnel). | B31: 18 | C31: ='TRAITEMENT AUTO'!C90 -> 0
A32: Nombres décimaux. Calcul mental ou posé : multiplication (par 100). | B32: 19 | C32: ='TRAITEMENT AUTO'!C95 -> 0.66666667
A33: Fractions. Différentes écritures d'un nombre : fraction simple à pourcentage. | B33: 20 | C33: ='TRAITEMENT AUTO'!C100 -> 0.33333333
A34: Nombres décimaux. Fractions. Différentes écritures d'un nombre : décomposition additive de fractions décimales à écriture décimale. | B34: 21 | C34: ='TRAITEMENT AUTO'!C105 -> 0.66666667
A35: Nombres décimaux. Ecriture en ligne d'un calcul (respect des priorités). | B35: 22 | C35: ='TRAITEMENT AUTO'!C110 -> 0.33333333
A36: Nombres entiers. Calcul mental ou posé : respect de la priorité de la multiplication sur l'addition. | B36: 23 | C36: ='TRAITEMENT AUTO'!C115 -> 0.33333333
A37: Fractions. Repérage sur une droite graduée : fraction décimale. | B37: 24 | C37: ='TRAITEMENT AUTO'!C120 -> 0.33333333
A38: Nombres décimaux. Comparaison (encadrement). | B38: 25 | C38: ='TRAITEMENT AUTO'!C125 -> 0.33333333
A39: Grandeurs et mesures. Calcul d'un volume. | B39: 26 | C39: ='TRAITEMENT AUTO'!C130 -> 0.33333333
A40: Fractions. Calcul mental : addition. | B40: 27 | C40: ='TRAITEMENT AUTO'!C135 -> 0
A41: Nombres décimaux. Calcul mental : multiplier-diviser. | B41: 28 | C41: ='TRAITEMENT AUTO'!C140 -> 0
A42: Fractions. Calcul mental : multiplication. | B42: 29 | C42: ='TRAITEMENT AUTO'!C145 -> 0
A43: Nombres entiers (grands nombres). Différentes écritures d'un nombre : décomposition additive en langage naturel à écriture décimale. | B43: 30 | C43: ='TRAITEMENT AUTO'!C150 -> 0.33333333
A45: REGROUPEMENT PAR TYPE DE TACHE | B45: ITEMS AUTO | C45: % DE REUSSITE | D45: % DE REUSSITE
A46: Fractions. Repérage sur une droite graduée : fraction décimale. | B46: 24 | C46: ='TRAITEMENT AUTO'!C120 -> 0.33333333 | D46: =AVERAGE(C46:C47) -> 0.5
A47: Nombres décimaux. Repérage sur une droite graduée : écriture décimale. | B47: 13 | C47: ='TRAITEMENT AUTO'!C65 -> 0.66666667
A48: Fractions. Comparaison. | B48: 1 | C48: ='TRAITEMENT AUTO'!C5 -> 1 | D48: =AVERAGE(C48:C50) -> 0.44444444
A49: Nombres décimaux. Comparaison (encadrement). | B49: 17 | C49: ='TRAITEMENT AUTO'!C85 -> 0
A50: Nombres décimaux. Comparaison (encadrement). | B50: 25 | C50: ='TRAITEMENT AUTO'!C125 -> 0.33333333
A51: Fractions. Partage. | B51: 6 | C51: ='TRAITEMENT AUTO'!C30 -> 0.33333333 | D51: =C51 -> 0.33333333
A52: Nombres entiers. Décomposition additive à écriture décimale. Respect de la priorité de la multiplication sur l'addition. | B52: 2 | C52: ='TRAITEMENT AUTO'!C10 -> 0.66666667 | D52: =AVERAGE(C52:C59) -> 0.45833333
A53: Nombres entiers. Ecriture décimale à langage naturel. | B53: 3 | C53: ='TRAITEMENT AUTO'!C15 -> 0.33333333
A54: Nombres décimaux. Fractions. Différentes écritures d'un nombre : fraction décimale à écriture décimale. | B54: 12 | C54: ='TRAITEMENT AUTO'!C60 -> 1
A55: Nombres décimaux. Différentes écritures d'un nombre : décomposition additive en langage naturel à écriture décimale. | B55: 15 | C55: ='TRAITEMENT AUTO'!C75 -> 0.33333333
A56: Nombres décimaux. Différentes écritures d'un nombre : utilisation du langage naturel pour décrire un nombre décimal (aspect positionnel). | B56: 18 | C56: ='TRAITEMENT AUTO'!C90 -> 0
A57: Fractions. Différentes écritures d'un nombre : fraction simple à pourcentage. | B57: 20 | C57: ='TRAITEMENT AUTO'!C100 -> 0.33333333
A58: Nombres décimaux. Fractions. Différentes écritures d'un nombre : décomposition additive de fractions décimales à écriture décimale. | B58: 21 | C58: ='TRAITEMENT AUTO'!C105 -> 0.66666667
A59: Nombres entiers (grands nombres). Différentes écritures d'un nombre : décomposition additive en langage naturel à écriture décimale. | B59: 30 | C59: ='TRAITEMENT AUTO'!C150 -> 0.33333333
A60: Nombres entiers. Calcul mental : fait numérique (tables de multiplication). | B60: 4 | C60: ='TRAITEMENT AUTO'!C20 -> 1 | D60: =AVERAGE(C60:C73) -> 0.45238095
A61: Nombres entiers. Calcul mental : fait numérique (compléments à 100). | B61: 5 | C61: ='TRAITEMENT AUTO'!C25 -> 0.66666667
A62: Nombres entiers. Calcul mental ou posé : addition. | B62: 7 | C62: ='TRAITEMENT AUTO'!C35 -> 1
A63: Nombres entiers. Calcul mental ou posé : multiplication. | B63: 8 | C63: ='TRAITEMENT AUTO'!C40 -> 0.33333333
A64: Nombres entiers. Calcul mental : fait numérique (multiples de 50). | B64: 9 | C64: ='TRAITEMENT AUTO'!C45 -> 1
A65: Nombres décimaux. Calcul mental ou posé : addition. | B65: 10 | C65: ='TRAITEMENT AUTO'!C50 -> 0
A66: Nombres entiers. Calcul mental ou posé : division. | B66: 11 | C66: ='TRAITEMENT AUTO'!C55 -> 0.66666667
A67: Nombres décimaux. Calcul mental : approximation d'un résultat (produit). | B67: 14 | C67: ='TRAITEMENT AUTO'!C70 -> 0.66666667
A68: Nombres décimaux. Calcul mental ou posé : soustraction. | B68: 16 | C68: ='TRAITEMENT AUTO'!C80 -> 0
A69: Nombres décimaux. Calcul mental ou posé : multiplication (par 100). | B69: 19 | C69: ='TRAITEMENT AUTO'!C95 -> 0.66666667
A70: Grandeurs et mesures. Calcul d'un volume. | B70: 26 | C70: ='TRAITEMENT AUTO'!C130 -> 0.33333333
A71: Fractions. Calcul mental : addition. | B71: 27 | C71: ='TRAITEMENT AUTO'!C135 -> 0
A72: Nombres décimaux. Calcul mental : multiplier-diviser. | B72: 28 | C72: ='TRAITEMENT AUTO'!C140 -> 0
A73: Fractions. Calcul mental : multiplication. | B73: 29 | C73: ='TRAITEMENT AUTO'!C145 -> 0
A74: Nombres entiers. Décomposition additive à écriture décimale. Respect de la priorité de la multiplication sur l'addition. | B74: 2 | C74: ='TRAITEMENT AUTO'!C10 -> 0.66666667 | D74: =AVERAGE(C74:C76) -> 0.44444444
A75: Nombres décimaux. Ecriture en ligne d'un calcul (respect des priorités). | B75: 22 | C75: ='TRAITEMENT AUTO'!C110 -> 0.33333333
A76: Nombres entiers. Calcul mental ou posé : respect de la priorité de la multiplication sur l'addition. | B76: 23 | C76: ='TRAITEMENT AUTO'!C115 -> 0.33333333
A77: Grandeurs et mesures. Calcul d'un volume. | B77: 26 | C77: ='TRAITEMENT AUTO'!C130 -> 0.33333333 | D77: =C77 -> 0.33333333
A79: REGROUPEMENT PAR FAMILLE DE NOMBRES | B79: ITEMS AUTO | C79: % DE REUSSITE | D79: % DE REUSSITE
A80: Nombres entiers. Décomposition additive à écriture décimale. Respect de la priorité de la multiplication sur l'addition. | B80: 2 | C80: ='TRAITEMENT AUTO'!C10 -> 0.66666667 | D80: =AVERAGE(C80:C91) -> 0.61111111
A81: Nombres entiers. Ecriture décimale à langage naturel. | B81: 3 | C81: ='TRAITEMENT AUTO'!C15 -> 0.33333333
A82: Nombres entiers. Calcul mental : fait numérique (tables de multiplication). | B82: 4 | C82: ='TRAITEMENT AUTO'!C20 -> 1
A83: Nombres entiers. Calcul mental : fait numérique (compléments à 100). | B83: 5 | C83: ='TRAITEMENT AUTO'!C25 -> 0.66666667
A84: Nombres entiers. Calcul mental ou posé : addition. | B84: 7 | C84: ='TRAITEMENT AUTO'!C35 -> 1
A85: Nombres entiers. Calcul mental ou posé : multiplication. | B85: 8 | C85: ='TRAITEMENT AUTO'!C40 -> 0.33333333
A86: Nombres entiers. Calcul mental : fait numérique (multiples de 50). | B86: 9 | C86: ='TRAITEMENT AUTO'!C45 -> 1
A87: Nombres entiers. Calcul mental ou posé : division. | B87: 11 | C87: ='TRAITEMENT AUTO'!C55 -> 0.66666667
A88: Nombres décimaux. Calcul mental : approximation d'un résultat (produit). | B88: 14 | C88: ='TRAITEMENT AUTO'!C70 -> 0.66666667
A89: Nombres entiers. Calcul mental ou posé : respect de la priorité de la multiplication sur l'addition. | B89: 23 | C89: ='TRAITEMENT AUTO'!C115 -> 0.33333333
A90: Grandeurs et mesures. Calcul d'un volume. | B90: 26 | C90: ='TRAITEMENT AUTO'!C130 -> 0.33333333
A91: Nombres entiers (grands nombres). Différentes écritures d'un nombre : décomposition additive en langage naturel à écriture décimale. | B91: 30 | C91: ='TRAITEMENT AUTO'!C150 -> 0.33333333
A92: Fractions. Comparaison. | B92: 1 | C92: ='TRAITEMENT AUTO'!C5 -> 1 | D92: =AVERAGE(C92:C99) -> 0.45833333
A93: Fractions. Partage. | B93: 6 | C93: ='TRAITEMENT AUTO'!C30 -> 0.33333333
A94: Nombres décimaux. Fractions. Différentes écritures d'un nombre : fraction décimale à écriture décimale. | B94: 12 | C94: ='TRAITEMENT AUTO'!C60 -> 1
A95: Fractions. Différentes écritures d'un nombre : fraction simple à pourcentage. | B95: 20 | C95: ='TRAITEMENT AUTO'!C100 -> 0.33333333
A96: Nombres décimaux. Fractions. Différentes écritures d'un nombre : décomposition additive de fractions décimales à écriture décimale. | B96: 21 | C96: ='TRAITEMENT AUTO'!C105 -> 0.66666667
A97: Fractions. Repérage sur une droite graduée : fraction décimale. | B97: 24 | C97: ='TRAITEMENT AUTO'!C120 -> 0.33333333
A98: Fractions. Calcul mental : addition. | B98: 27 | C98: ='TRAITEMENT AUTO'!C135 -> 0
A99: Fractions. Calcul mental : multiplication. | B99: 29 | C99: ='TRAITEMENT AUTO'!C145 -> 0
A100: Nombres décimaux. Calcul mental ou posé : addition. | B100: 10 | C100: ='TRAITEMENT AUTO'!C50 -> 0 | D100: =AVERAGE(C100:C111) -> 0.33333333
A101: Nombres décimaux. Fractions. Différentes écritures d'un nombre : fraction décimale à écriture décimale. | B101: 12 | C101: ='TRAITEMENT AUTO'!C60 -> 1
A102: Nombres décimaux. Repérage sur une droite graduée : écriture décimale. | B102: 13 | C102: ='TRAITEMENT AUTO'!C65 -> 0.66666667
...

Sheet GROUPE D'ITEMS AUTO
A1: PAGE GENEREE AUTOMATIQUEMENT : % de réussite aux automatismes par groupe d'items
D2: Type de tâche | K2: Famille de nombres
A3: Classe | B3: NOM | C3: PRENOM | D3: Repérage : ITEMS 13-24 | E3: Comparaison : ITEMS 1-17-25 | F3: Partage : ITEM 6 | G3: Différentes écritures d'un nombre : ITEMS 2-3-12-15-18-20-21-30 | H3: Calcul mental : ITEMS 4-5-7-8-9-10-11-14-16-19-26-27-28-29 | I3: Respect des priorités opératoires : ITEMS 2-22-23 | J3: Grandeurs et mesures : ITEM 26 | K3: Entiers : ITEMS 2-3-4-5-7-8-9-11-14-23-26-30 | L3: Fractions : ITEMS 1-6-12-20-21-24-27-29 | M3: Décimaux : ITEMS 10-12-13-14-15-16-17-18-19-22-25-28
A4: ='TEST AUTO'!A3 -> 5ME4 | B4: ='TEST AUTO'!B3 -> 0 | C4: ='TEST AUTO'!C3 -> Hayley | D4: =('TEST AUTO'!AD3+'TEST AUTO'!AZ3)/2 -> 0 | E4: =('TEST AUTO'!F3+'TEST AUTO'!AL3+'TEST AUTO'!BB3)/3 -> 0.33333333 | F4: ='TEST AUTO'!P3 -> 1 | G4: =('TEST AUTO'!H3+'TEST AUTO'!J3+'TEST AUTO'!AB3+'TEST AUTO'!AH3+'TEST AUTO'!AN3+'TEST AUTO'!AR3+'TEST AUTO'!AT3+'TEST AUTO'!BL3)/8 -> 0.25 | H4: =('TEST AUTO'!L3+'TEST AUTO'!N3+'TEST AUTO'!R3+'TEST AUTO'!T3+'TEST AUTO'!V3+'TEST AUTO'!X3+'TEST AUTO'!Z3+'TEST AUTO'!AF3+'TEST AUTO'!AJ3+'TEST AUTO'!AP3+'TEST AUTO'!BD3+'TEST AUTO'!BF3+'TEST AUTO'!BH3+'TEST AUTO'!BJ3)/14 -> 0.5 | I4: =('TEST AUTO'!H3+'TEST AUTO'!AV3+'TEST AUTO'!AX3)/3 -> 1 | J4: ='TEST AUTO'!BD3 -> 1 | K4: =('TEST AUTO'!H3+'TEST AUTO'!J3+'TEST AUTO'!L3+'TEST AUTO'!N3+'TEST AUTO'!R3+'TEST AUTO'!T3+'TEST AUTO'!V3+'TEST AUTO'!Z3+'TEST AUTO'!AF3+'TEST AUTO'!AX3+'TEST AUTO'!BD3+'TEST AUTO'!BL3)/12 -> 0.75 | L4: =('TEST AUTO'!F3+'TEST AUTO'!P3+'TEST AUTO'!AB3+'TEST AUTO'!AR3+'TEST AUTO'!AT3+'TEST AUTO'!AZ3+'TEST AUTO'!BF3+'TEST AUTO'!BJ3)/8 -> 0.375 | M4: =('TEST AUTO'!X3+'TEST AUTO'!AB3+'TEST AUTO'!AD3+'TEST AUTO'!AF3+'TEST AUTO'!AH3+'TEST AUTO'!AJ3+'TEST AUTO'!AL3+'TEST AUTO'!AN3+'TEST AUTO'!AP3+'TEST AUTO'!AV3+'TEST AUTO'!BB3+'TEST AUTO'!BH3)/12 -> 0.25
A5: ='TEST AUTO'!A4 -> 5ME4 | B5: ='TEST AUTO'!B4 -> 0 | C5: ='TEST AUTO'!C4 -> Loukas | D5: =('TEST AUTO'!AD4+'TEST AUTO'!AZ4)/2 -> 1 | E5: =('TEST AUTO'!F4+'TEST AUTO'!AL4+'TEST AUTO'!BB4)/3 -> 0.66666667 | F5: ='TEST AUTO'!P4 -> 0 | G5: =('TEST AUTO'!H4+'TEST AUTO'!J4+'TEST AUTO'!AB4+'TEST AUTO'!AH4+'TEST AUTO'!AN4+'TEST AUTO'!AR4+'TEST AUTO'!AT4+'TEST AUTO'!BL4)/8 -> 0.5 | H5: =('TEST AUTO'!L4+'TEST AUTO'!N4+'TEST AUTO'!R4+'TEST AUTO'!T4+'TEST AUTO'!V4+'TEST AUTO'!X4+'TEST AUTO'!Z4+'TEST AUTO'!AF4+'TEST AUTO'!AJ4+'TEST AUTO'!AP4+'TEST AUTO'!BD4+'TEST AUTO'!BF4+'TEST AUTO'!BH4+'TEST AUTO'!BJ4)/14 -> 0.35714286 | I5: =('TEST AUTO'!H4+'TEST AUTO'!AV4+'TEST AUTO'!AX4)/3 -> 0 | J5: ='TEST AUTO'!BD4 -> 0 | K5: =('TEST AUTO'!H4+'TEST AUTO'!J4+'TEST AUTO'!L4+'TEST AUTO'!N4+'TEST AUTO'!R4+'TEST AUTO'!T4+'TEST AUTO'!V4+'TEST AUTO'!Z4+'TEST AUTO'!AF4+'TEST AUTO'!AX4+'TEST AUTO'!BD4+'TEST AUTO'!BL4)/12 -> 0.33333333 | L5: =('TEST AUTO'!F4+'TEST AUTO'!P4+'TEST AUTO'!AB4+'TEST AUTO'!AR4+'TEST AUTO'!AT4+'TEST AUTO'!AZ4+'TEST AUTO'!BF4+'TEST AUTO'!BJ4)/8 -> 0.625 | M5: =('TEST AUTO'!X4+'TEST AUTO'!AB4+'TEST AUTO'!AD4+'TEST AUTO'!AF4+'TEST AUTO'!AH4+'TEST AUTO'!AJ4+'TEST AUTO'!AL4+'TEST AUTO'!AN4+'TEST AUTO'!AP4+'TEST AUTO'!AV4+'TEST AUTO'!BB4+'TEST AUTO'!BH4)/12 -> 0.41666667
A6: ='TEST AUTO'!A5 -> 5ME4 | B6: ='TEST AUTO'!B5 -> 0 | C6: ='TEST AUTO'!C5 -> Eliott | D6: =('TEST AUTO'!AD5+'TEST AUTO'!AZ5)/2 -> 0.5 | E6: =('TEST AUTO'!F5+'TEST AUTO'!AL5+'TEST AUTO'!BB5)/3 -> 0.33333333 | F6: ='TEST AUTO'!P5 -> 0 | G6: =('TEST AUTO'!H5+'TEST AUTO'!J5+'TEST AUTO'!AB5+'TEST AUTO'!AH5+'TEST AUTO'!AN5+'TEST AUTO'!AR5+'TEST AUTO'!AT5+'TEST AUTO'!BL5)/8 -> 0.625 | H6: =('TEST AUTO'!L5+'TEST AUTO'!N5+'TEST AUTO'!R5+'TEST AUTO'!T5+'TEST AUTO'!V5+'TEST AUTO'!X5+'TEST AUTO'!Z5+'TEST AUTO'!AF5+'TEST AUTO'!AJ5+'TEST AUTO'!AP5+'TEST AUTO'!BD5+'TEST AUTO'!BF5+'TEST AUTO'!BH5+'TEST AUTO'!BJ5)/14 -> 0.5 | I6: =('TEST AUTO'!H5+'TEST AUTO'!AV5+'TEST AUTO'!AX5)/3 -> 0.33333333 | J6: ='TEST AUTO'!BD5 -> 0 | K6: =('TEST AUTO'!H5+'TEST AUTO'!J5+'TEST AUTO'!L5+'TEST AUTO'!N5+'TEST AUTO'!R5+'TEST AUTO'!T5+'TEST AUTO'!V5+'TEST AUTO'!Z5+'TEST AUTO'!AF5+'TEST AUTO'!AX5+'TEST AUTO'!BD5+'TEST AUTO'!BL5)/12 -> 0.75 | L6: =('TEST AUTO'!F5+'TEST AUTO'!P5+'TEST AUTO'!AB5+'TEST AUTO'!AR5+'TEST AUTO'!AT5+'TEST AUTO'!AZ5+'TEST AUTO'!BF5+'TEST AUTO'!BJ5)/8 -> 0.375 | M6: =('TEST AUTO'!X5+'TEST AUTO'!AB5+'TEST AUTO'!AD5+'TEST AUTO'!AF5+'TEST AUTO'!AH5+'TEST AUTO'!AJ5+'TEST AUTO'!AL5+'TEST AUTO'!AN5+'TEST AUTO'!AP5+'TEST AUTO'!AV5+'TEST AUTO'!BB5+'TEST AUTO'!BH5)/12 -> 0.33333333
A7: ='TEST AUTO'!A6 -> 0 | B7: ='TEST AUTO'!B6 -> 0 | C7: ='TEST AUTO'!C6 -> 0 | D7: =('TEST AUTO'!AD6+'TEST AUTO'!AZ6)/2 -> 0 | E7: =('TEST AUTO'!F6+'TEST AUTO'!AL6+'TEST AUTO'!BB6)/3 -> 0 | F7: ='TEST AUTO'!P6 -> 0 | G7: =('TEST AUTO'!H6+'TEST AUTO'!J6+'TEST AUTO'!AB6+'TEST AUTO'!AH6+'TEST AUTO'!AN6+'TEST AUTO'!AR6+'TEST AUTO'!AT6+'TEST AUTO'!BL6)/8 -> 0 | H7: =('TEST AUTO'!L6+'TEST AUTO'!N6+'TEST AUTO'!R6+'TEST AUTO'!T6+'TEST AUTO'!V6+'TEST AUTO'!X6+'TEST AUTO'!Z6+'TEST AUTO'!AF6+'TEST AUTO'!AJ6+'TEST AUTO'!AP6+'TEST AUTO'!BD6+'TEST AUTO'!BF6+'TEST AUTO'!BH6+'TEST AUTO'!BJ6)/14 -> 0 | I7: =('TEST AUTO'!H6+'TEST AUTO'!AV6+'TEST AUTO'!AX6)/3 -> 0 | J7: ='TEST AUTO'!BD6 -> 0 | K7: =('TEST AUTO'!H6+'TEST AUTO'!J6+'TEST AUTO'!L6+'TEST AUTO'!N6+'TEST AUTO'!R6+'TEST AUTO'!T6+'TEST AUTO'!V6+'TEST AUTO'!Z6+'TEST AUTO'!AF6+'TEST AUTO'!AX6+'TEST AUTO'!BD6+'TEST AUTO'!BL6)/12 -> 0 | L7: =('TEST AUTO'!F6+'TEST AUTO'!P6+'TEST AUTO'!AB6+'TEST AUTO'!AR6+'TEST AUTO'!AT6+'TEST AUTO'!AZ6+'TEST AUTO'!BF6+'TEST AUTO'!BJ6)/8 -> 0 | M7: =('TEST AUTO'!X6+'TEST AUTO'!AB6+'TEST AUTO'!AD6+'TEST AUTO'!AF6+'TEST AUTO'!AH6+'TEST AUTO'!AJ6+'TEST AUTO'!AL6+'TEST AUTO'!AN6+'TEST AUTO'!AP6+'TEST AUTO'!AV6+'TEST AUTO'!BB6+'TEST AUTO'!BH6)/12 -> 0
A8: ='TEST AUTO'!A7 -> 0 | B8: ='TEST AUTO'!B7 -> 0 | C8: ='TEST AUTO'!C7 -> 0 | D8: =('TEST AUTO'!AD7+'TEST AUTO'!AZ7)/2 -> 0 | E8: =('TEST AUTO'!F7+'TEST AUTO'!AL7+'TEST AUTO'!BB7)/3 -> 0 | F8: ='TEST AUTO'!P7 -> 0 | G8: =('TEST AUTO'!H7+'TEST AUTO'!J7+'TEST AUTO'!AB7+'TEST AUTO'!AH7+'TEST AUTO'!AN7+'TEST AUTO'!AR7+'TEST AUTO'!AT7+'TEST AUTO'!BL7)/8 -> 0 | H8: =('TEST AUTO'!L7+'TEST AUTO'!N7+'TEST AUTO'!R7+'TEST AUTO'!T7+'TEST AUTO'!V7+'TEST AUTO'!X7+'TEST AUTO'!Z7+'TEST AUTO'!AF7+'TEST AUTO'!AJ7+'TEST AUTO'!AP7+'TEST AUTO'!BD7+'TEST AUTO'!BF7+'TEST AUTO'!BH7+'TEST AUTO'!BJ7)/14 -> 0 | I8: =('TEST AUTO'!H7+'TEST AUTO'!AV7+'TEST AUTO'!AX7)/3 -> 0 | J8: ='TEST AUTO'!BD7 -> 0 | K8: =('TEST AUTO'!H7+'TEST AUTO'!J7+'TEST AUTO'!L7+'TEST AUTO'!N7+'TEST AUTO'!R7+'TEST AUTO'!T7+'TEST AUTO'!V7+'TEST AUTO'!Z7+'TEST AUTO'!AF7+'TEST AUTO'!AX7+'TEST AUTO'!BD7+'TEST AUTO'!BL7)/12 -> 0 | L8: =('TEST AUTO'!F7+'TEST AUTO'!P7+'TEST AUTO'!AB7+'TEST AUTO'!AR7+'TEST AUTO'!AT7+'TEST AUTO'!AZ7+'TEST AUTO'!BF7+'TEST AUTO'!BJ7)/8 -> 0 | M8: =('TEST AUTO'!X7+'TEST AUTO'!AB7+'TEST AUTO'!AD7+'TEST AUTO'!AF7+'TEST AUTO'!AH7+'TEST AUTO'!AJ7+'TEST AUTO'!AL7+'TEST AUTO'!AN7+'TEST AUTO'!AP7+'TEST AUTO'!AV7+'TEST AUTO'!BB7+'TEST AUTO'!BH7)/12 -> 0
A9: ='TEST AUTO'!A8 -> 0 | B9: ='TEST AUTO'!B8 -> 0 | C9: ='TEST AUTO'!C8 -> 0 | D9: =('TEST AUTO'!AD8+'TEST AUTO'!AZ8)/2 -> 0 | E9: =('TEST AUTO'!F8+'TEST AUTO'!AL8+'TEST AUTO'!BB8)/3 -> 0 | F9: ='TEST AUTO'!P8 -> 0 | G9: =('TEST AUTO'!H8+'TEST AUTO'!J8+'TEST AUTO'!AB8+'TEST AUTO'!AH8+'TEST AUTO'!AN8+'TEST AUTO'!AR8+'TEST AUTO'!AT8+'TEST AUTO'!BL8)/8 -> 0 | H9: =('TEST AUTO'!L8+'TEST AUTO'!N8+'TEST AUTO'!R8+'TEST AUTO'!T8+'TEST AUTO'!V8+'TEST AUTO'!X8+'TEST AUTO'!Z8+'TEST AUTO'!AF8+'TEST AUTO'!AJ8+'TEST AUTO'!AP8+'TEST AUTO'!BD8+'TEST AUTO'!BF8+'TEST AUTO'!BH8+'TEST AUTO'!BJ8)/14 -> 0 | I9: =('TEST AUTO'!H8+'TEST AUTO'!AV8+'TEST AUTO'!AX8)/3 -> 0 | J9: ='TEST AUTO'!BD8 -> 0 | K9: =('TEST AUTO'!H8+'TEST AUTO'!J8+'TEST AUTO'!L8+'TEST AUTO'!N8+'TEST AUTO'!R8+'TEST AUTO'!T8+'TEST AUTO'!V8+'TEST AUTO'!Z8+'TEST AUTO'!AF8+'TEST AUTO'!AX8+'TEST AUTO'!BD8+'TEST AUTO'!BL8)/12 -> 0 | L9: =('TEST AUTO'!F8+'TEST AUTO'!P8+'TEST AUTO'!AB8+'TEST AUTO'!AR8+'TEST AUTO'!AT8+'TEST AUTO'!AZ8+'TEST AUTO'!BF8+'TEST AUTO'!BJ8)/8 -> 0 | M9: =('TEST AUTO'!X8+'TEST AUTO'!AB8+'TEST AUTO'!AD8+'TEST AUTO'!AF8+'TEST AUTO'!AH8+'TEST AUTO'!AJ8+'TEST AUTO'!AL8+'TEST AUTO'!AN8+'TEST AUTO'!AP8+'TEST AUTO'!AV8+'TEST AUTO'!BB8+'TEST AUTO'!BH8)/12 -> 0
A10: ='TEST AUTO'!A9 -> 0 | B10: ='TEST AUTO'!B9 -> 0 | C10: ='TEST AUTO'!C9 -> 0 | D10: =('TEST AUTO'!AD9+'TEST AUTO'!AZ9)/2 -> 0 | E10: =('TEST AUTO'!F9+'TEST AUTO'!AL9+'TEST AUTO'!BB9)/3 -> 0 | F10: ='TEST AUTO'!P9 -> 0 | G10: =('TEST AUTO'!H9+'TEST AUTO'!J9+'TEST AUTO'!AB9+'TEST AUTO'!AH9+'TEST AUTO'!AN9+'TEST AUTO'!AR9+'TEST AUTO'!AT9+'TEST AUTO'!BL9)/8 -> 0 | H10: =('TEST AUTO'!L9+'TEST AUTO'!N9+'TEST AUTO'!R9+'TEST AUTO'!T9+'TEST AUTO'!V9+'TEST AUTO'!X9+'TEST AUTO'!Z9+'TEST AUTO'!AF9+'TEST AUTO'!AJ9+'TEST AUTO'!AP9+'TEST AUTO'!BD9+'TEST AUTO'!BF9+'TEST AUTO'!BH9+'TEST AUTO'!BJ9)/14 -> 0 | I10: =('TEST AUTO'!H9+'TEST AUTO'!AV9+'TEST AUTO'!AX9)/3 -> 0 | J10: ='TEST AUTO'!BD9 -> 0 | K10: =('TEST AUTO'!H9+'TEST AUTO'!J9+'TEST AUTO'!L9+'TEST AUTO'!N9+'TEST AUTO'!R9+'TEST AUTO'!T9+'TEST AUTO'!V9+'TEST AUTO'!Z9+'TEST AUTO'!AF9+'TEST AUTO'!AX9+'TEST AUTO'!BD9+'TEST AUTO'!BL9)/12 -> 0 | L10: =('TEST AUTO'!F9+'TEST AUTO'!P9+'TEST AUTO'!AB9+'TEST AUTO'!AR9+'TEST AUTO'!AT9+'TEST AUTO'!AZ9+'TEST AUTO'!BF9+'TEST AUTO'!BJ9)/8 -> 0 | M10: =('TEST AUTO'!X9+'TEST AUTO'!AB9+'TEST AUTO'!AD9+'TEST AUTO'!AF9+'TEST AUTO'!AH9+'TEST AUTO'!AJ9+'TEST AUTO'!AL9+'TEST AUTO'!AN9+'TEST AUTO'!AP9+'TEST AUTO'!AV9+'TEST AUTO'!BB9+'TEST AUTO'!BH9)/12 -> 0
A11: ='TEST AUTO'!A10 -> 0 | B11: ='TEST AUTO'!B10 -> 0 | C11: ='TEST AUTO'!C10 -> 0 | D11: =('TEST AUTO'!AD10+'TEST AUTO'!AZ10)/2 -> 0 | E11: =('TEST AUTO'!F10+'TEST AUTO'!AL10+'TEST AUTO'!BB10)/3 -> 0 | F11: ='TEST AUTO'!P10 -> 0 | G11: =('TEST AUTO'!H10+'TEST AUTO'!J10+'TEST AUTO'!AB10+'TEST AUTO'!AH10+'TEST AUTO'!AN10+'TEST AUTO'!AR10+'TEST AUTO'!AT10+'TEST AUTO'!BL10)/8 -> 0 | H11: =('TEST AUTO'!L10+'TEST AUTO'!N10+'TEST AUTO'!R10+'TEST AUTO'!T10+'TEST AUTO'!V10+'TEST AUTO'!X10+'TEST AUTO'!Z10+'TEST AUTO'!AF10+'TEST AUTO'!AJ10+'TEST AUTO'!AP10+'TEST AUTO'!BD10+'TEST AUTO'!BF10+'TEST AUTO'!BH10+'TEST AUTO'!BJ10)/14 -> 0 | I11: =('TEST AUTO'!H10+'TEST AUTO'!AV10+'TEST AUTO'!AX10)/3 -> 0 | J11: ='TEST AUTO'!BD10 -> 0 | K11: =('TEST AUTO'!H10+'TEST AUTO'!J10+'TEST AUTO'!L10+'TEST AUTO'!N10+'TEST AUTO'!R10+'TEST AUTO'!T10+'TEST AUTO'!V10+'TEST AUTO'!Z10+'TEST AUTO'!AF10+'TEST AUTO'!AX10+'TEST AUTO'!BD10+'TEST AUTO'!BL10)/12 -> 0 | L11: =('TEST AUTO'!F10+'TEST AUTO'!P10+'TEST AUTO'!AB10+'TEST AUTO'!AR10+'TEST AUTO'!AT10+'TEST AUTO'!AZ10+'TEST AUTO'!BF10+'TEST AUTO'!BJ10)/8 -> 0 | M11: =('TEST AUTO'!X10+'TEST AUTO'!AB10+'TEST AUTO'!AD10+'TEST AUTO'!AF10+'TEST AUTO'!AH10+'TEST AUTO'!AJ10+'TEST AUTO'!AL10+'TEST AUTO'!AN10+'TEST AUTO'!AP10+'TEST AUTO'!AV10+'TEST AUTO'!BB10+'TEST AUTO'!BH10)/12 -> 0
A12: ='TEST AUTO'!A11 -> 0 | B12: ='TEST AUTO'!B11 -> 0 | C12: ='TEST AUTO'!C11 -> 0 | D12: =('TEST AUTO'!AD11+'TEST AUTO'!AZ11)/2 -> 0 | E12: =('TEST AUTO'!F11+'TEST AUTO'!AL11+'TEST AUTO'!BB11)/3 -> 0 | F12: ='TEST AUTO'!P11 -> 0 | G12: =('TEST AUTO'!H11+'TEST AUTO'!J11+'TEST AUTO'!AB11+'TEST AUTO'!AH11+'TEST AUTO'!AN11+'TEST AUTO'!AR11+'TEST AUTO'!AT11+'TEST AUTO'!BL11)/8 -> 0 | H12: =('TEST AUTO'!L11+'TEST AUTO'!N11+'TEST AUTO'!R11+'TEST AUTO'!T11+'TEST AUTO'!V11+'TEST AUTO'!X11+'TEST AUTO'!Z11+'TEST AUTO'!AF11+'TEST AUTO'!AJ11+'TEST AUTO'!AP11+'TEST AUTO'!BD11+'TEST AUTO'!BF11+'TEST AUTO'!BH11+'TEST AUTO'!BJ11)/14 -> 0 | I12: =('TEST AUTO'!H11+'TEST AUTO'!AV11+'TEST AUTO'!AX11)/3 -> 0 | J12: ='TEST AUTO'!BD11 -> 0 | K12: =('TEST AUTO'!H11+'TEST AUTO'!J11+'TEST AUTO'!L11+'TEST AUTO'!N11+'TEST AUTO'!R11+'TEST AUTO'!T11+'TEST AUTO'!V11+'TEST AUTO'!Z11+'TEST AUTO'!AF11+'TEST AUTO'!AX11+'TEST AUTO'!BD11+'TEST AUTO'!BL11)/12 -> 0 | L12: =('TEST AUTO'!F11+'TEST AUTO'!P11+'TEST AUTO'!AB11+'TEST AUTO'!AR11+'TEST AUTO'!AT11+'TEST AUTO'!AZ11+'TEST AUTO'!BF11+'TEST AUTO'!BJ11)/8 -> 0 | M12: =('TEST AUTO'!X11+'TEST AUTO'!AB11+'TEST AUTO'!AD11+'TEST AUTO'!AF11+'TEST AUTO'!AH11+'TEST AUTO'!AJ11+'TEST AUTO'!AL11+'TEST AUTO'!AN11+'TEST AUTO'!AP11+'TEST AUTO'!AV11+'TEST AUTO'!BB11+'TEST AUTO'!BH11)/12 -> 0
A13: ='TEST AUTO'!A12 -> 0 | B13: ='TEST AUTO'!B12 -> 0 | C13: ='TEST AUTO'!C12 -> 0 | D13: =('TEST AUTO'!AD12+'TEST AUTO'!AZ12)/2 -> 0 | E13: =('TEST AUTO'!F12+'TEST AUTO'!AL12+'TEST AUTO'!BB12)/3 -> 0 | F13: ='TEST AUTO'!P12 -> 0 | G13: =('TEST AUTO'!H12+'TEST AUTO'!J12+'TEST AUTO'!AB12+'TEST AUTO'!AH12+'TEST AUTO'!AN12+'TEST AUTO'!AR12+'TEST AUTO'!AT12+'TEST AUTO'!BL12)/8 -> 0 | H13: =('TEST AUTO'!L12+'TEST AUTO'!N12+'TEST AUTO'!R12+'TEST AUTO'!T12+'TEST AUTO'!V12+'TEST AUTO'!X12+'TEST AUTO'!Z12+'TEST AUTO'!AF12+'TEST AUTO'!AJ12+'TEST AUTO'!AP12+'TEST AUTO'!BD12+'TEST AUTO'!BF12+'TEST AUTO'!BH12+'TEST AUTO'!BJ12)/14 -> 0 | I13: =('TEST AUTO'!H12+'TEST AUTO'!AV12+'TEST AUTO'!AX12)/3 -> 0 | J13: ='TEST AUTO'!BD12 -> 0 | K13: =('TEST AUTO'!H12+'TEST AUTO'!J12+'TEST AUTO'!L12+'TEST AUTO'!N12+'TEST AUTO'!R12+'TEST AUTO'!T12+'TEST AUTO'!V12+'TEST AUTO'!Z12+'TEST AUTO'!AF12+'TEST AUTO'!AX12+'TEST AUTO'!BD12+'TEST AUTO'!BL12)/12 -> 0 | L13: =('TEST AUTO'!F12+'TEST AUTO'!P12+'TEST AUTO'!AB12+'TEST AUTO'!AR12+'TEST AUTO'!AT12+'TEST AUTO'!AZ12+'TEST AUTO'!BF12+'TEST AUTO'!BJ12)/8 -> 0 | M13: =('TEST AUTO'!X12+'TEST AUTO'!AB12+'TEST AUTO'!AD12+'TEST AUTO'!AF12+'TEST AUTO'!AH12+'TEST AUTO'!AJ12+'TEST AUTO'!AL12+'TEST AUTO'!AN12+'TEST AUTO'!AP12+'TEST AUTO'!AV12+'TEST AUTO'!BB12+'TEST AUTO'!BH12)/12 -> 0
A14: ='TEST AUTO'!A13 -> 0 | B14: ='TEST AUTO'!B13 -> 0 | C14: ='TEST AUTO'!C13 -> 0 | D14: =('TEST AUTO'!AD13+'TEST AUTO'!AZ13)/2 -> 0 | E14: =('TEST AUTO'!F13+'TEST AUTO'!AL13+'TEST AUTO'!BB13)/3 -> 0 | F14: ='TEST AUTO'!P13 -> 0 | G14: =('TEST AUTO'!H13+'TEST AUTO'!J13+'TEST AUTO'!AB13+'TEST AUTO'!AH13+'TEST AUTO'!AN13+'TEST AUTO'!AR13+'TEST AUTO'!AT13+'TEST AUTO'!BL13)/8 -> 0 | H14: =('TEST AUTO'!L13+'TEST AUTO'!N13+'TEST AUTO'!R13+'TEST AUTO'!T13+'TEST AUTO'!V13+'TEST AUTO'!X13+'TEST AUTO'!Z13+'TEST AUTO'!AF13+'TEST AUTO'!AJ13+'TEST AUTO'!AP13+'TEST AUTO'!BD13+'TEST AUTO'!BF13+'TEST AUTO'!BH13+'TEST AUTO'!BJ13)/14 -> 0 | I14: =('TEST AUTO'!H13+'TEST AUTO'!AV13+'TEST AUTO'!AX13)/3 -> 0 | J14: ='TEST AUTO'!BD13 -> 0 | K14: =('TEST AUTO'!H13+'TEST AUTO'!J13+'TEST AUTO'!L13+'TEST AUTO'!N13+'TEST AUTO'!R13+'TEST AUTO'!T13+'TEST AUTO'!V13+'TEST AUTO'!Z13+'TEST AUTO'!AF13+'TEST AUTO'!AX13+'TEST AUTO'!BD13+'TEST AUTO'!BL13)/12 -> 0 | L14: =('TEST AUTO'!F13+'TEST AUTO'!P13+'TEST AUTO'!AB13+'TEST AUTO'!AR13+'TEST AUTO'!AT13+'TEST AUTO'!AZ13+'TEST AUTO'!BF13+'TEST AUTO'!BJ13)/8 -> 0 | M14: =('TEST AUTO'!X13+'TEST AUTO'!AB13+'TEST AUTO'!AD13+'TEST AUTO'!AF13+'TEST AUTO'!AH13+'TEST AUTO'!AJ13+'TEST AUTO'!AL13+'TEST AUTO'!AN13+'TEST AUTO'!AP13+'TEST AUTO'!AV13+'TEST AUTO'!BB13+'TEST AUTO'!BH13)/12 -> 0
A15: ='TEST AUTO'!A14 -> 0 | B15: ='TEST AUTO'!B14 -> 0 | C15: ='TEST AUTO'!C14 -> 0 | D15: =('TEST AUTO'!AD14+'TEST AUTO'!AZ14)/2 -> 0 | E15: =('TEST AUTO'!F14+'TEST AUTO'!AL14+'TEST AUTO'!BB14)/3 -> 0 | F15: ='TEST AUTO'!P14 -> 0 | G15: =('TEST AUTO'!H14+'TEST AUTO'!J14+'TEST AUTO'!AB14+'TEST AUTO'!AH14+'TEST AUTO'!AN14+'TEST AUTO'!AR14+'TEST AUTO'!AT14+'TEST AUTO'!BL14)/8 -> 0 | H15: =('TEST AUTO'!L14+'TEST AUTO'!N14+'TEST AUTO'!R14+'TEST AUTO'!T14+'TEST AUTO'!V14+'TEST AUTO'!X14+'TEST AUTO'!Z14+'TEST AUTO'!AF14+'TEST AUTO'!AJ14+'TEST AUTO'!AP14+'TEST AUTO'!BD14+'TEST AUTO'!BF14+'TEST AUTO'!BH14+'TEST AUTO'!BJ14)/14 -> 0 | I15: =('TEST AUTO'!H14+'TEST AUTO'!AV14+'TEST AUTO'!AX14)/3 -> 0 | J15: ='TEST AUTO'!BD14 -> 0 | K15: =('TEST AUTO'!H14+'TEST AUTO'!J14+'TEST AUTO'!L14+'TEST AUTO'!N14+'TEST AUTO'!R14+'TEST AUTO'!T14+'TEST AUTO'!V14+'TEST AUTO'!Z14+'TEST AUTO'!AF14+'TEST AUTO'!AX14+'TEST AUTO'!BD14+'TEST AUTO'!BL14)/12 -> 0 | L15: =('TEST AUTO'!F14+'TEST AUTO'!P14+'TEST AUTO'!AB14+'TEST AUTO'!AR14+'TEST AUTO'!AT14+'TEST AUTO'!AZ14+'TEST AUTO'!BF14+'TEST AUTO'!BJ14)/8 -> 0 | M15: =('TEST AUTO'!X14+'TEST AUTO'!AB14+'TEST AUTO'!AD14+'TEST AUTO'!AF14+'TEST AUTO'!AH14+'TEST AUTO'!AJ14+'TEST AUTO'!AL14+'TEST AUTO'!AN14+'TEST AUTO'!AP14+'TEST AUTO'!AV14+'TEST AUTO'!BB14+'TEST AUTO'!BH14)/12 -> 0
... A1000: ='TEST AUTO'!A999 -> 0 | B1000: ='TEST AUTO'!B999 -> 0 | C1000: ='TEST AUTO'!C999 -> 0 | D1000: =('TEST AUTO'!AD999+'TEST AUTO'!AZ999)/2 -> 0 | E1000: =('TEST AUTO'!F999+'TEST AUTO'!AL999+'TEST AUTO'!BB999)/3 -> 0 | F1000: ='TEST AUTO'!P999 -> 0 | G1000: =('TEST AUTO'!H999+'TEST AUTO'!J999+'TEST AUTO'!AB999+'TEST AUTO'!AH999+'TEST AUTO'!AN999+'TEST AUTO'!AR999+'TEST AUTO'!AT999+'TEST AUTO'!BL999)/8 -> 0 | H1000: =('TEST AUTO'!L999+'TEST AUTO'!N999+'TEST AUTO'!R999+'TEST AUTO'!T999+'TEST AUTO'!V999+'TEST AUTO'!X999+'TEST AUTO'!Z999+'TEST AUTO'!AF999+'TEST AUTO'!AJ999+'TEST AUTO'!AP999+'TEST AUTO'!BD999+'TEST AUTO'!BF999+'TEST AUTO'!BH999+'TEST AUTO'!BJ999)/14 -> 0 | I1000: =('TEST AUTO'!H999+'TEST AUTO'!AV999+'TEST AUTO'!AX999)/3 -> 0 | J1000: ='TEST AUTO'!BD999 -> 0 | K1000: =('TEST AUTO'!H999+'TEST AUTO'!J999+'TEST AUTO'!L999+'TEST AUTO'!N999+'TEST AUTO'!R999+'TEST AUTO'!T999+'TEST AUTO'!V999+'TEST AUTO'!Z999+'TEST AUTO'!AF999+'TEST AUTO'!AX999+'TEST AUTO'!BD999+'TEST AUTO'!BL999)/12 -> 0 | L1000: =('TEST AUTO'!F999+'TEST AUTO'!P999+'TEST AUTO'!AB999+'TEST AUTO'!AR999+'TEST AUTO'!AT999+'TEST AUTO'!AZ999+'TEST AUTO'!BF999+'TEST AUTO'!BJ999)/8 -> 0 | M1000: =('TEST AUTO'!X999+'TEST AUTO'!AB999+'TEST AUTO'!AD999+'TEST AUTO'!AF999+'TEST AUTO'!AH999+'TEST AUTO'!AJ999+'TEST AUTO'!AL999+'TEST AUTO'!AN999+'TEST AUTO'!AP999+'TEST AUTO'!AV999+'TEST AUTO'!BB999+'TEST AUTO'!BH999)/12 -> 0
