Workbook

Sheet TUTORIEL
A1: Le fichier EXCEL de "TRAITEMENT" des résultats | C1: Le document WORD de "ANALYSE" didactique et pédagogique, pour l'enseignement, le pilotage cycle 4 , la formation
A2: ETAPES | B2: FICHIER CONCERNE | C2: A FAIRE MANUELLEMENT (en rouge = ce qui est généré automatiquement)
A4: Etape 0 | B4: a) EXCEL : onglet "RESTITUTION" | C4: COPIER-COLLER LE FICHIER "RESTITUTION" DU COLLEGE
B5: b) EXCEL : onglet "TEST AUTO" | C5: COPIER-COLLER LE FICHIER "SPECIFIQUE AUTOMATISMES", POUR CHAQUE CLASSE, LES UNES A LA SUITE DES AUTRES
B6: c) EXCEL : onglet "TEST RDP" | C6: COPIER-COLLER LE FICHIER "SPECIFIQUE RESOLUTION DE PROBLEMES", POUR CHAQUE CLASSE, LES UNES A LA SUITE DES AUTRES
A8: Etape 1 | B8: a) EXCEL : onglet "BILANS" | C8: PAGE GENEREE AUTOMATIQUEMENT !
B9: b) WORD "2026 EVA6-5-4-2 MATHS ANALYSE" | C9: Y COPIER-COLLER LES 2 GRAPHIQUES DU FICHIER EXCEL ONGLET "BILANS" : en page 2 pour "THEMES MATHS" et en page 3 pour "TEST SPECIFIQUE"
A11: Etape 2 | B11: a) EXCEL : onglet "TRAITEMENT AUTO" | C11: PAGE GENEREE AUTOMATIQUEMENT = ANALYSE DIDACTIQUE PAR TYPE D'ERREURS ---> remédiation ciblée sur groupes d'élèves de 4e
B12: b) EXCEL : onglet "ANALYSE AUTO" | C12: TABLEAU ET GRAPHIQUE GENERES AUTOMATIQUEMENT = ANALYSE DES REUSSITES PAR TYPE D'ITEMS, DE FAMILLES DE NOMBRES, D'AUTOMATISMES -> pilotage didactique cycle 4
B13: c) WORD "2026 EVA6-5-4-2 MATHS ANALYSE" | C13: Y COPIER-COLLER LES 2 GRAPHIQUES (TABLEAU ET DIAGRAMME EN BARRES) DU FICHIER EXCEL ONGLET "ANALYSE AUTO" : en page 3 pour TABLEAU et 4-5 pour BARRES
A15: Etape 3 | B15: a) EXCEL : onglet "TRAITEMENT RDP" | C15: PAGE GENERE AUTOMATIQUEMENT = ANALYSE DIDACTIQUE PAR TYPE D'ERREURS ---> remédiation ciblée sur groupes d'élèves de 4e
B16: b) EXCEL : onglet "ANALYSE RDP" | C16: TABLEAU ET GRAPHIQUE GENERES AUTOMATIQUEMENT = ANALYSE DES REUSSITES PAR TYPE DE TACHE CIBLEE, DE TYPE DE PROBLEME, DE CATEGORIES DE PROBLEMES -> pilotage didactique cycle 4
B17: c) WORD "2026 EVA6-5-4-2 MATHS ANALYSE" | C17: Y COPIER-COLLER LES 2 GRAPHIQUES (TABLEAU ET DIAGRAMME EN BARRES) DU FICHIER EXCEL ONGLET "ANALYSE RDP" : en page 6 pour TABLEAU et 7-8 pour BARRES
A19: Etape 4 | B19: a) EXCEL : onglet "GROUPES THEMES" | C19: PAGE GENEREE AUTOMATIQUEMENT ! Filtrer le groupe de maîtrise étudié dans chaque thème + Si besoin, filtrer en fonction du nombre de thèmes dans lesquels l'élève est en difficulté (cellule J2).
B20: b) WORD "2026 EVA6-5-4-2 MATHS ANALYSE" | C20: Y COPIER-COLLER LES GROUPES D'ELEVES TRIES SELON LE BESOIN : (Calcul, Grandeurs, Géométrie, Automatismes, Résolution de problèmes) ou le nombre de difficultés en page 10
A22: Etape 5 | B22: a) EXCEL : onglet "GROUPES D'ITEMS AUTO" | C22: PAGE GENEREE AUTOMATIQUEMENT ! Trier le % de réussite dans le groupe d'items souhaité.
B23: b) EXCEL : onglet "GROUPES D'ITEMS RDP" | C23: PAGE GENEREE AUTOMATIQUEMENT ! Trier le % de réussite dans le groupe d'items souhaité.
B24: c) WORD "2026 EVA6-5-4-2 MATHS ANALYSE" | C24: Y COPIER-COLLER LES GROUPES D'ELEVES TRIES SELON LE BESOIN IDENTIFIE (Groupes d'items d'automatismes ou Résolution de problèmes) en page 11

Sheet RESTITUTION
A1: COPIER-COLLER LE FICHIER "RESTITUTION" DU COLLEGE
A2: Classe | B2: NOM élève | C2: Prénom élève | D2: Test spécifique en automatismes : Mobiliser directement des procédures et des connaissances | E2: Test spécifique en résolution de problèmes : Résoudre des problèmes en utilisant des nombres, des données et des grandeurs | F2: Espace et géométrie : Connaître et utiliser des notions de géométrie | G2: Grandeurs et mesures : Connaître des grandeurs et utiliser des unités de mesure | H2: Nombres et calculs : Connaître les nombres et les utiliser dans des calculs | I2: Organisation et gestion de données, fonctions : Connaître et utiliser des données et la notion de fonction
A3: 4A | C3: Theo | D3: Satisfaisant | E3: Fragile | F3: Fragile | G3: Satisfaisant | H3: Fragile | I3: Satisfaisant
A4: 4A | C4: Felix | D4: Satisfaisant | E4: Satisfaisant | F4: Satisfaisant | G4: Satisfaisant | H4: Satisfaisant | I4: Satisfaisant
A5: 4A | C5: Nathan | D5: Fragile | E5: Fragile | F5: À besoins | G5: Fragile | H5: Fragile | I5: Fragile

Sheet TEST AUTO
A1: COPIER-COLLER LE FICHIER "SPECIFIQUE AUTOMATISMES", DE CHAQUE CLASSE, POUR TOUTES LES CLASSES LES UNES A LA SUITE DES AUTRES (après avoir effacé les données servant ici d'exemple)
A2: Classe | B2: NOM | C2: PRENOM | D2: Score du test spécifique | E2: Automatismes Q1 - réponse | F2: Automatismes Q1 - score | G2: Automatismes Q2 - réponse | H2: Automatismes Q2 - score | I2: Automatismes Q3 - réponse | J2: Automatismes Q3 - score | K2: Automatismes Q4 - réponse | L2: Automatismes Q4 - score | M2: Automatismes Q5 - réponse | N2: Automatismes Q5 - score | O2: Automatismes Q6 - réponse | P2: Automatismes Q6 - score | Q2: Automatismes Q7 - réponse | R2: Automatismes Q7 - score | S2: Automatismes Q8 - réponse | T2: Automatismes Q8 - score | U2: Automatismes Q9 - réponse | V2: Automatismes Q9 - score | W2: Automatismes Q10 - réponse | X2: Automatismes Q10 - score | Y2: Automatismes Q11 - réponse | Z2: Automatismes Q11 - score | AA2: Automatismes Q12 - réponse | AB2: Automatismes Q12 - score | AC2: Automatismes Q13 - réponse | AD2: Automatismes Q13 - score | AE2: Automatismes Q14 - réponse | AF2: Automatismes Q14 - score | AG2: Automatismes Q15 - réponse | AH2: Automatismes Q15 - score | AI2: Automatismes Q16 - réponse | AJ2: Automatismes Q16 - score | AK2: Automatismes Q17 - réponse | AL2: Automatismes Q17 - score | AM2: Automatismes Q18 - réponse | AN2: Automatismes Q18 - score | AO2: Automatismes Q19 - réponse | AP2: Automatismes Q19 - score
A3: 4A | C3: Zoé | D3: 9 | E3: 10 fois plus grand. | F3: 0 | G3: 35 | H3: 1 | I3: 5/8 | J3: 1 | K3: 186 | L3: 1 | M3: 12 | N3: 0 | O3: 2a + a3 + 7 | P3: 0 | Q3: 1h 35 min | R3: 0 | S3: 120 | T3: 1 | U3: 70° | V3: 0 | W3: 1 462 | X3: 0 | Y3: 18 km | Z3: 0 | AA3: 4 300 | AB3: 1 | AD3: 0 | AE3: 12 | AF3: 1 | AG3: 3/4 | AH3: 1 | AI3: 3/10 | AJ3: 1 | AK3: 32 | AL3: 0 | AM3: 7 500 | AN3: 1 | AO3: 30 | AP3: 0 | AQ3: le point A | AR3: 0 | AS3: 13 × 14 × 15 | AT3: 0 | AU3: 55 < 56/10 < 57 | AV3: 0
A4: 4A | C4: Noé | D4: 8 | E4: 10 fois plus grand. | F4: 0 | G4: 35 | H4: 1 | I4: 3/8 | J4: 0 | K4: 186 | L4: 1 | M4: 2 | N4: 1 | O4: a² + 3a + 7 | P4: 1 | Q4: 2h 15 min | R4: 1 | S4: 240 | T4: 0 | U4: 70° | V4: 0 | W4: 1 462 | X4: 0 | Y4: 18 km | Z4: 0 | AA4: 4,3 | AB4: 0 | AC4: Image G | AD4: 0 | AE4: 12 | AF4: 1 | AG4: 3/4 | AH4: 1 | AI4: 3/100 | AJ4: 0 | AK4: 48 | AL4: 0 | AM4: 750 | AN4: 0 | AO4: 17 | AP4: 0 | AQ4: le point C | AR4: 0 | AS4: 13 × 14 × 15 | AT4: 0 | AU4: 5 < 56/10 < 6 | AV4: 1
A5: 4A | C5: Adrien | D5: 5 | E5: 100 fois plus grand. | F5: 0 | G5: 35 | H5: 1 | I5: 5/3 | J5: 0 | K5: 186 | L5: 1 | M5: 2 | N5: 1 | O5: 2a + a3 + 7 | P5: 0 | Q5: 2h 15 min | R5: 1 | S5: 240 | T5: 0 | U5: 70° | V5: 0 | W5: 14,602 | X5: 1 | Y5: 36 km | Z5: 0 | AA5: 430 | AB5: 0 | AC5: Image G | AD5: 0 | AE5: – 12 | AF5: 0 | AG5: 4/3 | AH5: 0 | AI5: 0/3 | AJ5: 0 | AK5: 48 | AL5: 0 | AM5: 7,5 | AN5: 0 | AO5: 3 | AP5: 0 | AQ5: le point C | AR5: 0 | AS5: 13 × 14 × 15 | AT5: 0 | AU5: 0 < 56/10 < 1 | AV5: 0

Sheet TEST RDP
A1: COPIER-COLLER LE FICHIER "SPECIFIQUE RESOLUTION DE PROBLEMES", DE CHAQUE CLASSE, POUR TOUTES LES CLASSES LES UNES A LA SUITE DES AUTRES (après avoir effacé les données servant ici d'exemple)
A2: Classe | B2: NOM | C2: PRENOM | D2: Score du test spécifique | E2: Problèmes Q1 - réponse | F2: Problèmes Q1 - score | G2: Problèmes Q2 - réponse | H2: Problèmes Q2 - score | I2: Problèmes Q3 - réponse | J2: Problèmes Q3 - score | K2: Problèmes Q4 - réponse | L2: Problèmes Q4 - score | M2: Problèmes Q5 - réponse | N2: Problèmes Q5 - score | O2: Problèmes Q6 - réponse | P2: Problèmes Q6 - score | Q2: Problèmes Q7 - réponse | R2: Problèmes Q7 - score | S2: Problèmes Q8 - réponse | T2: Problèmes Q8 - score | U2: Problèmes Q9 - réponse | V2: Problèmes Q9 - score | W2: Problèmes Q10 - réponse | X2: Problèmes Q10 - score | Y2: Problèmes Q11 - réponse | Z2: Problèmes Q11 - score | AA2: Problèmes Q12 - réponse | AB2: Problèmes Q12 - score | AC2: Problèmes Q13 - réponse | AD2: Problèmes Q13 - score | AE2: Problèmes Q14 - réponse | AF2: Problèmes Q14 - score | AG2: Problèmes Q15 - réponse | AH2: Problèmes Q15 - score | AI2: Problèmes Q16 - réponse | AJ2: Problèmes Q16 - score | AK2: Problèmes Q17 - réponse | AL2: Problèmes Q17 - score | AM2: Problèmes Q18 - réponse | AN2: Problèmes Q18 - score | AO2: Problèmes Q19 - réponse | AP2: Problèmes Q19 - score
A3: 4A | C3: Zoé | D3: 8 | E3: 10 € | F3: 1 | G3: 30 m | H3: 0 | I3: 15 min | J3: 0 | K3: 7,20 € | L3: 1 | M3: 33 € | N3: 1 | O3: 20 km | P3: 1 | Q3: 9 km² | R3: 1 | S3: au chocolat. | T3: 0 | U3: 20 m | V3: 1 | W3: 2/4 | X3: 0 | Y3: 20 cL | Z3: 0 | AA3: 120 L | AB3: 0 | AC3: 3(b + a) | AD3: 0 | AE3: 7 m | AF3: 1 | AG3: OUI. Il pourra fabriquer douze figurines. | AH3: 0 | AI3: 70 pages | AJ3: 0 | AK3: 80 g | AL3: 0 | AM3: 80 % | AN3: 1 | AO3: Image HH | AP3: 0
A4: 4A | C4: Noé | D4: 7 | E4: 10 € | F4: 1 | G4: 40 m | H4: 1 | I4: 4 min | J4: 1 | K4: 7,30 € | L4: 0 | M4: 33 € | N4: 1 | O4: 15 km | P4: 0 | Q4: 60 km² | R4: 0 | S4: au chocolat. | T4: 0 | U4: 40 m | V4: 0 | W4: 2/6 | X4: 0 | Y4: 2 000 L | Z4: 0 | AA4: 120 L | AB4: 0 | AC4: 3(b – a) | AD4: 1 | AE4: 48 m | AF4: 0 | AG4: NON. Il lui manquera sept minutes. | AH4: 1 | AI4: 10 pages | AJ4: 0 | AK4: 80 kg | AL4: 0 | AM4: 80 % | AN4: 1 | AO4: Image HH | AP4: 0
A5: 4A | C5: Adrien | D5: 4 | E5: 10 € | F5: 1 | G5: 170 m | H5: 0 | I5: 15 min | J5: 0 | K5: 7,10 € | L5: 0 | M5: 33 € | N5: 1 | O5: 15 km | P5: 0 | Q5: 36 km² | R5: 0 | S5: à la fraise. | T5: 0 | U5: 40 m | V5: 0 | W5: 2/6 | X5: 0 | Y5: 2 000 L | Z5: 0 | AA5: 160 L | AB5: 0 | AC5: 3(b – a) | AD5: 1 | AE5: 64 m | AF5: 0 | AG5: OUI. Il pourra fabriquer douze figurines. | AH5: 0 | AI5: 70 pages | AJ5: 0 | AK5: 80 kg | AL5: 0 | AM5: 80 % | AN5: 1 | AO5: Image HH | AP5: 0

Sheet BILANS
A1: PAGE GENEREE AUTOMATIQUEMENT !
A3: Quels THEMES DU PROGRAMME sont à renforcer ? (vision cohorte de 4e ; par classe : effacer les autres données)
A4: THEMES MATHS | B4: À besoins | C4: Fragile | D4: Satisfaisant
A5: =RESTITUTION!F2 -> Espace et géométrie : Connaître et utiliser des notions de géométrie | B5: =(COUNTIF(RESTITUTION!$F:$F,BILANS!B$4)+COUNTIF(RESTITUTION!$F:$F,"pas de restitution"))/(COUNTA(RESTITUTION!$A:$A)-2) -> 0.33333333 | C5: =COUNTIF(RESTITUTION!$F:$F,BILANS!C$4)/(COUNTA(RESTITUTION!$A:$A)-2) -> 0.33333333 | D5: =COUNTIF(RESTITUTION!$F:$F,BILANS!D$4)/(COUNTA(RESTITUTION!$A:$A)-2) -> 0.33333333
A6: =RESTITUTION!G2 -> Grandeurs et mesures : Connaître des grandeurs et utiliser des unités de mesure | B6: =(COUNTIF(RESTITUTION!$G:$G,BILANS!B$4)+COUNTIF(RESTITUTION!$G:$G,"pas de restitution"))/(COUNTA(RESTITUTION!$A:$A)-2) -> 0 | C6: =COUNTIF(RESTITUTION!$G:$G,BILANS!C$4)/(COUNTA(RESTITUTION!$A:$A)-2) -> 0.33333333 | D6: =COUNTIF(RESTITUTION!$G:$G,BILANS!D$4)/(COUNTA(RESTITUTION!$A:$A)-2) -> 0.66666667
A7: =RESTITUTION!H2 -> Nombres et calculs : Connaître les nombres et les utiliser dans des calculs | B7: =(COUNTIF(RESTITUTION!$H:$H,BILANS!B$4)+COUNTIF(RESTITUTION!$H:$H,"pas de restitution"))/(COUNTA(RESTITUTION!$A:$A)-2) -> 0 | C7: =COUNTIF(RESTITUTION!$H:$H,BILANS!C$4)/(COUNTA(RESTITUTION!$A:$A)-2) -> 0.66666667 | D7: =COUNTIF(RESTITUTION!$H:$H,BILANS!D$4)/(COUNTA(RESTITUTION!$A:$A)-2) -> 0.33333333
A8: =RESTITUTION!I2 -> Organisation et gestion de données, fonctions : Connaître et utiliser des données et la notion de fonction | B8: =(COUNTIF(RESTITUTION!$I:$I,BILANS!B$4)+COUNTIF(RESTITUTION!$I:$I,"pas de restitution"))/(COUNTA(RESTITUTION!$A:$A)-2) -> 0 | C8: =COUNTIF(RESTITUTION!$I:$I,BILANS!C$4)/(COUNTA(RESTITUTION!$A:$A)-2) -> 0.33333333 | D8: =COUNTIF(RESTITUTION!$I:$I,BILANS!D$4)/(COUNTA(RESTITUTION!$A:$A)-2) -> 0.66666667
A16: Quelles priorités SPECIFIQUES D'ACCOMPAGNEMENT ? (vision cohorte de 4e ; par classe : effacer les autres données)
A17: TESTS SPECIFIQUES | B17: À besoins | C17: Fragile | D17: Satisfaisant
A18: =RESTITUTION!D2 -> Test spécifique en automatismes : Mobiliser directement des procédures et des connaissances | B18: =(COUNTIF(RESTITUTION!$D:$D,BILANS!B$17)+COUNTIF(RESTITUTION!$D:$D,"pas de restitution"))/(COUNTA(RESTITUTION!$A:$A)-2) -> 0 | C18: =COUNTIF(RESTITUTION!$D:$D,BILANS!C$17)/(COUNTA(RESTITUTION!$A:$A)-2) -> 0.33333333 | D18: =COUNTIF(RESTITUTION!$D:$D,BILANS!D$17)/(COUNTA(RESTITUTION!$A:$A)-2) -> 0.66666667
A19: =RESTITUTION!E2 -> Test spécifique en résolution de problèmes : Résoudre des problèmes en utilisant des nombres, des données et des grandeurs | B19: =(COUNTIF(RESTITUTION!$E:$E,BILANS!B$17)+COUNTIF(RESTITUTION!$E:$E,"pas de restitution"))/(COUNTA(RESTITUTION!$A:$A)-2) -> 0 | C19: =COUNTIF(RESTITUTION!$E:$E,BILANS!C$17)/(COUNTA(RESTITUTION!$A:$A)-2) -> 0.66666667 | D19: =COUNTIF(RESTITUTION!$E:$E,BILANS!D$17)/(COUNTA(RESTITUTION!$A:$A)-2) -> 0.33333333

Sheet TRAITEMENT AUTO
B1: PAGE GENEREE AUTOMATIQUEMENT = ANALYSE DIDACTIQUE PAR TYPE D'ERREURS ---> CREATION DE GROUPES DE REMEDIATION CIBLES PORTANT SUR LES ERREURS (par classe ou interclasses)
A2: Item | B2: PROBLEME : énoncé, % par réponse, descriptif du type de problème | C2: réponse 1 | D2: réponse 2 | E2: réponse 3 | F2: réponse 4 | G2: réponse 5
A3: 1 | B3: Lorsqu'on multiplie un nombre par 0,1 le nombre obtenu est … | C3: 10 fois plus petit. | D3: 10 fois plus grand. | E3: 100 fois plus petit. | F3: 100 fois plus grand. | G3: SANS REPONSE | H3: =COUNTA('TEST AUTO'!A:A)-2 -> 3
B4: NOMBRE DE REPONSES | C4: =COUNTIF('TEST AUTO'!$E:$E,'TRAITEMENT AUTO'!C$3) -> 0 | D4: =COUNTIF('TEST AUTO'!$E:$E,'TRAITEMENT AUTO'!D$3) -> 2 | E4: =COUNTIF('TEST AUTO'!$E:$E,'TRAITEMENT AUTO'!E$3) -> 0 | F4: =COUNTIF('TEST AUTO'!$E:$E,'TRAITEMENT AUTO'!F$3) -> 1 | G4: =H3-H4 -> 0 | H4: =SUM(C4:F4) -> 3
B5: % DE REPONSES | C5: =C4/$H3 -> 0 | D5: =D4/$H3 -> 0.66666667 | E5: =E4/$H3 -> 0 | F5: =F4/$H3 -> 0.33333333 | G5: =G4/$H3 -> 0 | H5: =SUM(C5:G5) -> 1
A6: TYPE | B6: L’élève doit caractériser le produit d'un nombre par 0,1. Calcul numérique. Entiers positifs. | D6: NON : pense que multiplier agrandit nécessairement. | E6: NON : confond "diviser par 10" avec "diviser par 100" du fait de la présence de deux chiffres (0 et 1) dans 0,1. | F6: NON : pense que multiplier agrandit nécessairement et confond "par 10" avec " par 100" du fait de la présence de deux chiffres dans 0,1. | G6: CONNAISSANCE ET PROCEDURE
A8: 2 | B8: Combien vaut la moitié de 70 ? | C8: 35 | D8: 45 | E8: 30 | F8: 40 | G8: SANS REPONSE | H8: =COUNTA('TEST AUTO'!A:A)-2 -> 3
B9: NOMBRE DE REPONSES | C9: =COUNTIF('TEST AUTO'!$G:$G,'TRAITEMENT AUTO'!C$8) -> 3 | D9: =COUNTIF('TEST AUTO'!$G:$G,'TRAITEMENT AUTO'!D$8) -> 0 | E9: =COUNTIF('TEST AUTO'!$G:$G,'TRAITEMENT AUTO'!E$8) -> 0 | F9: =COUNTIF('TEST AUTO'!$G:$G,'TRAITEMENT AUTO'!F$8) -> 0 | G9: =H8-H9 -> 0 | H9: =SUM(C9:F9) -> 3
B10: % DE REPONSES | C10: =C9/$H8 -> 1 | D10: =D9/$H8 -> 0 | E10: =E9/$H8 -> 0 | F10: =F9/$H8 -> 0 | G10: =G9/$H8 -> 0 | H10: =SUM(C10:G10) -> 1
A11: TYPE | B11: L’élève doit trouver la moitié d’un entier pair inférieur à 100. Calcul numérique. Entiers positifs. | D11: NON : confond avec la moitié de 90. | E11: NON : confond avec la moitié de 60. | F11: NON : confond avec la moitié de 80. | G11: CONNAISSANCE ET PROCEDURE
A13: 3 | B13: Quelle fraction de la surface est coloriée ? | C13: 5/8 | D13: 3/8 | E13: 3/5 | F13: 5/3 | G13: SANS REPONSE | H13: =COUNTA('TEST AUTO'!A:A)-2 -> 3
B14: NOMBRE DE REPONSES | C14: =COUNTIF('TEST AUTO'!$I:$I,'TRAITEMENT AUTO'!C$13) -> 1 | D14: =COUNTIF('TEST AUTO'!$I:$I,'TRAITEMENT AUTO'!D$13) -> 1 | E14: =COUNTIF('TEST AUTO'!$I:$I,'TRAITEMENT AUTO'!E$13) -> 0 | F14: =COUNTIF('TEST AUTO'!$I:$I,'TRAITEMENT AUTO'!F$13) -> 1 | G14: =H13-H14 -> 0 | H14: =SUM(C14:F14) -> 3
B15: % DE REPONSES | C15: =C14/$H13 -> 0.33333333 | D15: =D14/$H13 -> 0.33333333 | E15: =E14/$H13 -> 0 | F15: =F14/$H13 -> 0.33333333 | G15: =G14/$H13 -> 0 | H15: =SUM(C15:G15) -> 1
A16: TYPE | B16: L’élève doit déterminer la fraction d’une surface. Fraction. Partage. | D16: NON : interprète mal le mot « coloriée ». Il indique la proportion de secteurs blancs par rapport au nombre total de secteurs. | E16: NON : confond la proportion par rapport au total et par rapport au complémentaire. Il indique la proportion de secteurs blancs par rapport au nombre de secteurs bleus. | F16: NON : confond proportion par rapport au total et par rapport au complémentaire. Il indique la proportion de secteurs bleus par rapport au nombre de secteurs blancs. | G16: PROCEDURE
A18: 4 | B18: 168 + 18 = … | C18: 186 | D18: 176 | E18: 188 | F18: 190 | G18: SANS REPONSE | H18: =COUNTA('TEST AUTO'!A:A)-2 -> 3
B19: NOMBRE DE REPONSES | C19: =COUNTIF('TEST AUTO'!$K:$K,'TRAITEMENT AUTO'!C$18) -> 3 | D19: =COUNTIF('TEST AUTO'!$K:$K,'TRAITEMENT AUTO'!D$18) -> 0 | E19: =COUNTIF('TEST AUTO'!$K:$K,'TRAITEMENT AUTO'!E$18) -> 0 | F19: =COUNTIF('TEST AUTO'!$K:$K,'TRAITEMENT AUTO'!F$18) -> 0 | G19: =H18-H19 -> 0 | H19: =SUM(C19:F19) -> 3
B20: % DE REPONSES | C20: =C19/$H18 -> 1 | D20: =D19/$H18 -> 0 | E20: =E19/$H18 -> 0 | F20: =F19/$H18 -> 0 | G20: =G19/$H18 -> 0 | H20: =SUM(C20:G20) -> 1
A21: TYPE | B21: L’élève doit additionner des nombres entiers. Calcul numérique. Entiers positifs. | D21: NON : 168 + 20 à erreur de calcul ou méconnaissance des tables d’addition. OUI : débute la procédure « Ajouter 20 puis soustraire 2 » NON : oublie la seconde étape. | E21: NON : à 168 + 22 erreur de calcul ou méconnaissance des tables d’addition. OUI : débute la procédure « Ajouter 20 puis soustraire 2 » NON : additionne 2 au lieu de soustraire. | F21: NON : 168 + 8 à erreur de retenue ou oublie d‘ajouter 10 dans la procédure « Ajouter 10 puis 2 puis 6 ». | G21: CONNAISSANCE ET PROCEDURE
A23: 5 | B23: − 5 + 7 = … | C23: 2 | D23: – 12 | E23: 12 | F23: – 2 | G23: SANS REPONSE | H23: =COUNTA('TEST AUTO'!A:A)-2 -> 3
B24: NOMBRE DE REPONSES | C24: =COUNTIF('TEST AUTO'!$M:$M,'TRAITEMENT AUTO'!C$23) -> 2 | D24: =COUNTIF('TEST AUTO'!$M:$M,'TRAITEMENT AUTO'!D$23) -> 0 | E24: =COUNTIF('TEST AUTO'!$M:$M,'TRAITEMENT AUTO'!E$23) -> 1 | F24: =COUNTIF('TEST AUTO'!$M:$M,'TRAITEMENT AUTO'!F$23) -> 0 | G24: =H23-H24 -> 0 | H24: =SUM(C24:F24) -> 3
B25: % DE REPONSES | C25: =C24/$H23 -> 0.66666667 | D25: =D24/$H23 -> 0 | E25: =E24/$H23 -> 0.33333333 | F25: =F24/$H23 -> 0 | G25: =G24/$H23 -> 0 | H25: =SUM(C25:G25) -> 1
A26: TYPE | B26: L’élève doit additionner des nombres entiers relatifs. Calcul numérique. Relatifs. | D26: Méconnaissance des règles de calcul de la somme de deux nombres relatifs, en particulier de la gestion du signe –. NON : 5 + 7 et résultat négatif. | E26: Méconnaissance des règles de calcul de la somme de deux nombres relatifs, en particulier de la gestion du signe -. OUI : résultat positif. NON : 5 + 7. | F26: Méconnaissance des règles de calcul de la somme de deux nombres relatifs, en particulier de la gestion du signe -. OUI : 7 – 5. NON : résultat négatif | G26: CONNAISSANCE ET PROCEDURE
A28: 6 | B28: a × a + a × 3 + 7 = … | C28: a² + 3a + 7 | D28: a² + 10a | E28: 2a + a3 + 7 | F28: 11a | G28: SANS REPONSE | H28: =COUNTA('TEST AUTO'!A:A)-2 -> 3
B29: NOMBRE DE REPONSES | C29: =COUNTIF('TEST AUTO'!$O:$O,'TRAITEMENT AUTO'!C$28) -> 1 | D29: =COUNTIF('TEST AUTO'!$O:$O,'TRAITEMENT AUTO'!D$28) -> 0 | E29: =COUNTIF('TEST AUTO'!$O:$O,'TRAITEMENT AUTO'!E$28) -> 2 | F29: =COUNTIF('TEST AUTO'!$O:$O,'TRAITEMENT AUTO'!F$28) -> 0 | G29: =H28-H29 -> 0 | H29: =SUM(C29:F29) -> 3
B30: % DE REPONSES | C30: =C29/$H28 -> 0.33333333 | D30: =D29/$H28 -> 0 | E30: =E29/$H28 -> 0.66666667 | F30: =F29/$H28 -> 0 | G30: =G29/$H28 -> 0 | H30: =SUM(C30:G30) -> 1
A31: TYPE | B31: L’élève doit simplifier l'écrture d'une expression littérale. Calcul littéral. Entiers positifs. | D31: OUI : simplifie correctement le premier terme a × a. NON : ne maîtrise pas les priorités opératoires. Réduction erronée de 3a + 7 en 10a. | E31: NON : confond carré et double et ne sait pas simplifier a × 3 (conventions d'écriture non maîtrisées). | F31: NON : ne prend pas en compte le degré de chaque terme de l'expression littérale et additionne les coefficients avec le terme constant. | G31: CONNAISSANCE ET PROCEDURE
A33: 7 | B33: Max assiste à un spectacle qui dure 135 minutes. Comment cette durée peut-elle s’écrire autrement ? | C33: 2h 15 min | D33: 2h 35 min | E33: 1h 15 min | F33: 1h 35 min | G33: SANS REPONSE | H33: =COUNTA('TEST AUTO'!A:A)-2 -> 3
B34: NOMBRE DE REPONSES | C34: =COUNTIF('TEST AUTO'!$Q:$Q,'TRAITEMENT AUTO'!C$33) -> 2 | D34: =COUNTIF('TEST AUTO'!$Q:$Q,'TRAITEMENT AUTO'!D$33) -> 0 | E34: =COUNTIF('TEST AUTO'!$Q:$Q,'TRAITEMENT AUTO'!E$33) -> 0 | F34: =COUNTIF('TEST AUTO'!$Q:$Q,'TRAITEMENT AUTO'!F$33) -> 1 | G34: =H33-H34 -> 0 | H34: =SUM(C34:F34) -> 3
B35: % DE REPONSES | C35: =C34/$H33 -> 0.66666667 | D35: =D34/$H33 -> 0 | E35: =E34/$H33 -> 0 | F35: =F34/$H33 -> 0.33333333 | G35: =G34/$H33 -> 0 | H35: =SUM(C35:G35) -> 1
A36: TYPE | B36: L’élève doit convertir des durées en heures et minutes. Entiers positifs. Conversion. | D36: OUI : repère bien que 135 min est supérieur à 120 min, donc à 2h. NON : reprend les 35 min dans le résultat. | E36: OUI : décompose 135 min en 120 min + 15 min. NON : oublie de convertir 120 min en 2h. | F36: NON : convertit 1h en 100 min (confond avec le système décimal). | G36: CONNAISSANCE ET PROCEDURE
A38: 8 | B38: 12 × 7 + 12 × 3 = … | C38: 120 | D38: 36 | E38: 84 | F38: 240 | G38: SANS REPONSE | H38: =COUNTA('TEST AUTO'!A:A)-2 -> 3
B39: NOMBRE DE REPONSES | C39: =COUNTIF('TEST AUTO'!$S:$S,'TRAITEMENT AUTO'!C$38) -> 1 | D39: =COUNTIF('TEST AUTO'!$S:$S,'TRAITEMENT AUTO'!D$38) -> 0 | E39: =COUNTIF('TEST AUTO'!$S:$S,'TRAITEMENT AUTO'!E$38) -> 0 | F39: =COUNTIF('TEST AUTO'!$S:$S,'TRAITEMENT AUTO'!F$38) -> 2 | G39: =H38-H39 -> 0 | H39: =SUM(C39:F39) -> 3
B40: % DE REPONSES | C40: =C39/$H38 -> 0.33333333 | D40: =D39/$H38 -> 0 | E40: =E39/$H38 -> 0 | F40: =F39/$H38 -> 0.66666667 | G40: =G39/$H38 -> 0 | H40: =SUM(C40:G40) -> 1
A41: TYPE | B41: L’élève doit factoriser une expression numérique pour la calculer mentalement. Calcul numérique. Entiers positifs. | D41: OUI : priorités de calcul respectées. NON : seul le second terme a été calculé. Ne factorise pas. | E41: OUI : priorités de calcul respectées. NON : seul le premier terme a été calculé. Ne factorise pas. | F41: OUI : connaissance partielle de la factorisation. NON : met autant de fois 12 en facteur qu’il apparait dans l’expression de départ. | G41: CONNAISSANCE ET PROCEDURE
A43: 9 | B43: La mesure de l’angle est égale à … | C43: 110° | D43: 20° | E43: 50° | F43: 70° | G43: SANS REPONSE | H43: =COUNTA('TEST AUTO'!A:A)-2 -> 3
B44: NOMBRE DE REPONSES | C44: =COUNTIF('TEST AUTO'!$U:$U,'TRAITEMENT AUTO'!C$43) -> 0 | D44: =COUNTIF('TEST AUTO'!$U:$U,'TRAITEMENT AUTO'!D$43) -> 0 | E44: =COUNTIF('TEST AUTO'!$U:$U,'TRAITEMENT AUTO'!E$43) -> 0 | F44: =COUNTIF('TEST AUTO'!$U:$U,'TRAITEMENT AUTO'!F$43) -> 3 | G44: =H43-H44 -> 0 | H44: =SUM(C44:F44) -> 3
B45: % DE REPONSES | C45: =C44/$H43 -> 0 | D45: =D44/$H43 -> 0 | E45: =E44/$H43 -> 0 | F45: =F44/$H43 -> 1 | G45: =G44/$H43 -> 0 | H45: =SUM(C45:G45) -> 1
A46: TYPE | B46: L’élève doit calculer un angle dans un triangle connaissant les deux autres. Application d'une propriété ou d'une formule (géométrie). Entiers positifs. | D46: NON : associe la notation de l'angle à l’angle de sommet K et non celui de sommet J. | E46: NON : associe la notation de l'angle à l’angle de sommet I et non celui de sommet J. | F46: OUI : effectue le calcul intermédiaire 20° + 50°. NON : ne soustrait pas le résultat à 180°. | G46: CONNAISSANCE ET PROCEDURE
A48: 10 | C48: 14,602 | D48: 14,62 | E48: 140,62 | F48: 1 462 | G48: SANS REPONSE | H48: =COUNTA('TEST AUTO'!A:A)-2 -> 3
B49: NOMBRE DE REPONSES | C49: =COUNTIF('TEST AUTO'!$W:$W,'TRAITEMENT AUTO'!C$48) -> 1 | D49: =COUNTIF('TEST AUTO'!$W:$W,'TRAITEMENT AUTO'!D$48) -> 0 | E49: =COUNTIF('TEST AUTO'!$W:$W,'TRAITEMENT AUTO'!E$48) -> 0 | F49: =COUNTIF('TEST AUTO'!$W:$W,'TRAITEMENT AUTO'!F$48) -> 2 | G49: =H48-H49 -> 0 | H49: =SUM(C49:F49) -> 3
B50: % DE REPONSES | C50: =C49/$H48 -> 0.33333333 | D50: =D49/$H48 -> 0 | E50: =E49/$H48 -> 0 | F50: =F49/$H48 -> 0.66666667 | G50: =G49/$H48 -> 0 | H50: =SUM(C50:G50) -> 1
A51: TYPE | B51: L’élève doit associer différentes écritures d’un nombre décimal. Différentes écritures d'un nombre. Décimaux positifs. Fractions. | D51: NON : confond centième et millième. | E51: NON : confond centième et millième. NON : voit 14 comme 14 dizaines et non 14 unités. | F51: NON : ne tient pas compte des dénominateurs des fractions. | G51: PROCEDURE
A53: 11 | B53: Un cycliste roule pendant 30 min à la vitesse moyenne de 18 km/h. Quelle distance parcourt-il ? | C53: 9 km | D53: 18 km | E53: 5,4 km | F53: 36 km | G53: SANS REPONSE | H53: =COUNTA('TEST AUTO'!A:A)-2 -> 3
B54: NOMBRE DE REPONSES | C54: =COUNTIF('TEST AUTO'!$Y:$Y,'TRAITEMENT AUTO'!C53) -> 0 | D54: =COUNTIF('TEST AUTO'!$Y:$Y,'TRAITEMENT AUTO'!D$53) -> 2 | E54: =COUNTIF('TEST AUTO'!$Y:$Y,'TRAITEMENT AUTO'!E$53) -> 0 | F54: =COUNTIF('TEST AUTO'!$Y:$Y,'TRAITEMENT AUTO'!F$53) -> 1 | G54: =H53-H54 -> 0 | H54: =SUM(C54:F54) -> 3
B55: % DE REPONSES | C55: =C54/$H53 -> 0 | D55: =D54/$H53 -> 0.66666667 | E55: =E54/$H53 -> 0 | F55: =F54/$H53 -> 0.33333333 | G55: =G54/$H53 -> 0 | H55: =SUM(C55:G55) -> 1
A56: TYPE | B56: L’élève doit calculer une distance à partir d’une vitesse et d’un temps. Calcul numérique. Proportionnalité. Conversion. Entiers et décimaux positifs. | D56: NON : reprend simplement 18 km dans 18 km/h. | E56: NON : confond avec le système décimal. | F56: OUI : sait que 30 min=12h NON : multiplie par 2 au lieu de diviser. | G56: CONNAISSANCE ET PROCEDURE
A58: 12 | B58: Compléter par le nombre qui convient : 43 milliers = … dizaines | C58: 4 300 | D58: 43 | E58: 4.3 | F58: 430 | G58: SANS REPONSE | H58: =COUNTA('TEST AUTO'!A:A)-2 -> 3
B59: NOMBRE DE REPONSES | C59: =COUNTIF('TEST AUTO'!$AA:$AA,'TRAITEMENT AUTO'!C$58) -> 1 | D59: =COUNTIF('TEST AUTO'!$AA:$AA,'TRAITEMENT AUTO'!D$58) -> 0 | E59: =COUNTIF('TEST AUTO'!$AA:$AA,'TRAITEMENT AUTO'!E$58) -> 1 | F59: =COUNTIF('TEST AUTO'!$AA:$AA,'TRAITEMENT AUTO'!F$58) -> 1 | G59: =H58-H59 -> 0 | H59: =SUM(C59:F59) -> 3
B60: % DE REPONSES | C60: =C59/$H58 -> 0.33333333 | D60: =D59/$H58 -> 0 | E60: =E59/$H58 -> 0.33333333 | F60: =F59/$H58 -> 0.33333333 | G60: =G59/$H58 -> 0 | H60: =SUM(C60:G60) -> 1
A61: TYPE | B61: L’élève doit compléter une égalité utilisant des unités de numération décimale. Différentes écritures d'un nombre. Entiers positifs. | D61: NON : reprend le nombre 43 de l’énoncé. | E61: NON : considère 43 unités. Divise 43 par 10. | F61: NON : place le chiffre 4 dans la colonne des unités de mille. OUI : multiplie 43 par 10. Connaissance du lien enrre centaine et dizaine. | G61: CONNAISSANCE ET PROCEDURE
C63: Image G | D63: Image GG | E63: Image D | F63: Image DD
A64: 13 | G64: SANS REPONSE | H64: =COUNTA('TEST AUTO'!A:A)-2 -> 3
B65: NOMBRE DE REPONSES | C65: =COUNTIF('TEST AUTO'!$AC:$AC,'TRAITEMENT AUTO'!C$63) -> 2 | D65: =COUNTIF('TEST AUTO'!$AC:$AC,'TRAITEMENT AUTO'!D$63) -> 0 | E65: =COUNTIF('TEST AUTO'!$AC:$AC,'TRAITEMENT AUTO'!E$63) -> 0 | F65: =COUNTIF('TEST AUTO'!$AC:$AC,'TRAITEMENT AUTO'!F$63) -> 0 | G65: =H64-H65 -> 1 | H65: =SUM(C65:F65) -> 2
B66: % DE REPONSES | C66: =C65/$H64 -> 0.66666667 | D66: =D65/$H64 -> 0 | E66: =E65/$H64 -> 0 | F66: =F65/$H64 -> 0 | G66: =G65/$H64 -> 0.33333333 | H66: =SUM(C66:G66) -> 1
A67: TYPE | B67: L’élève doit déterminer le partage d’une surface correspondant à une fraction. Partage. Fraction. | D67: NON : compare le nombre de parts bleues au nombre total de parts sans tenir compte de la taille des parts. | G67: PROCEDURE
A69: 14 | B69: 7 − (−5) = ... | C69: 12 | D69: – 12 | E69: 2 | F69: – 2 | G69: SANS REPONSE | H69: =COUNTA('TEST AUTO'!A:A)-2 -> 3
B70: NOMBRE DE REPONSES | C70: =COUNTIF('TEST AUTO'!$AE:$AE,'TRAITEMENT AUTO'!C$69) -> 2 | D70: =COUNTIF('TEST AUTO'!$AE:$AE,'TRAITEMENT AUTO'!D$69) -> 1 | E70: =COUNTIF('TEST AUTO'!$AE:$AE,'TRAITEMENT AUTO'!E$69) -> 0 | F70: =COUNTIF('TEST AUTO'!$AE:$AE,'TRAITEMENT AUTO'!F$69) -> 0 | G70: =H69-H70 -> 0 | H70: =SUM(C70:F70) -> 3
B71: % DE REPONSES | C71: =C70/$H69 -> 0.66666667 | D71: =D70/$H69 -> 0.33333333 | E71: =E70/$H69 -> 0 | F71: =F70/$H69 -> 0 | G71: =G70/$H69 -> 0 | H71: =SUM(C71:G71) -> 1
A72: TYPE | B72: L’élève doit soustraire deux nombres relatifs. Calcul numérique. Relatifs. | D72: Méconnaissance des règles de calcul de la différence de deux nombres relatifs. | G72: CONNAISSANCE ET PROCEDURE
A74: 15 | B74: Quelle est l’abscisse du point A ? | C74: 3/4 | D74: 0,3 | E74: 4/3 | F74: 3 | G74: SANS REPONSE | H74: =COUNTA('TEST AUTO'!A:A)-2 -> 3
B75: NOMBRE DE REPONSES | C75: =COUNTIF('TEST AUTO'!$AG:$AG,'TRAITEMENT AUTO'!C$74) -> 2 | D75: =COUNTIF('TEST AUTO'!$AG:$AG,'TRAITEMENT AUTO'!D$74) -> 0 | E75: =COUNTIF('TEST AUTO'!$AG:$AG,'TRAITEMENT AUTO'!E$74) -> 1 | F75: =COUNTIF('TEST AUTO'!$AG:$AG,'TRAITEMENT AUTO'!F$74) -> 0 | G75: =H74-H75 -> 0 | H75: =SUM(C75:F75) -> 3
B76: % DE REPONSES | C76: =C75/$H74 -> 0.66666667 | D76: =D75/$H74 -> 0 | E76: =E75/$H74 -> 0.33333333 | F76: =F75/$H74 -> 0 | G76: =G75/$H74 -> 0 | H76: =SUM(C76:G76) -> 1
A77: TYPE | B77: L’élève doit repérer une fraction sur droite graduée. Repérage sur une droite graduée. Fraction. | D77: NON : ne compte que le nombre de parts séparant l’origine du point A et répond en base 10 sans tenir compte du fractionnement de l’unité. | E77: OUI : procédure de détermination du numérateur et du dénominateur correcte. NON : inverse l’écriture de la fraction. | F77: NON : ne compte que le nombre de parts séparant l’origine du point A et répond comme si la droite était graduée de 1 en 1. | G77: PROCEDURE
A79: 16 | B79: 0,3 s’écrit aussi … | C79: 3/10 | D79: 1/3 | E79: 3/100 | F79: 0/3 | G79: SANS REPONSE | H79: =COUNTA('TEST AUTO'!A:A)-2 -> 3
B80: NOMBRE DE REPONSES | C80: =COUNTIF('TEST AUTO'!$AI:$AI,'TRAITEMENT AUTO'!C$79) -> 1 | D80: =COUNTIF('TEST AUTO'!$AI:$AI,'TRAITEMENT AUTO'!D$79) -> 0 | E80: =COUNTIF('TEST AUTO'!$AI:$AI,'TRAITEMENT AUTO'!E$79) -> 1 | F80: =COUNTIF('TEST AUTO'!$AI:$AI,'TRAITEMENT AUTO'!F$79) -> 1 | G80: =H79-H80 -> 0 | H80: =SUM(C80:F80) -> 3
B81: % DE REPONSES | C81: =C80/$H79 -> 0.33333333 | D81: =D80/H79 -> 0 | E81: =E80/H79 -> 0.33333333 | F81: =F80/H79 -> 0.33333333 | G81: =G80/H79 -> 0 | H81: =SUM(C81:G81) -> 1
A82: TYPE | B82: L’élève doit déterminer une fraction égale à un nombre écrit sous forme décimale. Différentes écritures d'un nombre. Entiers et décimaux positifs. | D82: NON : associe 0,3 à « tiers » ou une valeur approchée. OU pense que le 3 est le dénominateur et que le 1 indique qu’il est en première position après la virgule. | E82: OUI : procédure peut-être correcte. NON : confond « centième » et « dixième ». | F82: NON : remplace la virgule par la barre de fraction. | G82: PROCEDURE
A84: 17 | B84: On donne l’expression A = 1 + 3x. Quelle est la valeur de A pour x = 8 ? | C84: 25 | D84: 32 | E84: 39 | F84: 48 | G84: SANS REPONSE | H84: =COUNTA('TEST AUTO'!A:A)-2 -> 3
B85: NOMBRE DE REPONSES | C85: =COUNTIF('TEST AUTO'!$AK:$AK,'TRAITEMENT AUTO'!C$84) -> 0 | D85: =COUNTIF('TEST AUTO'!$AK:$AK,'TRAITEMENT AUTO'!D$84) -> 1 | E85: =COUNTIF('TEST AUTO'!$AK:$AK,'TRAITEMENT AUTO'!E$84) -> 0 | F85: =COUNTIF('TEST AUTO'!$AK:$AK,'TRAITEMENT AUTO'!F$84) -> 2 | G85: =H84-H85 -> 0 | H85: =SUM(C85:F85) -> 3
B86: % DE REPONSES | C86: =C85/$H84 -> 0 | D86: =D85/$H84 -> 0.33333333 | E86: =E85/$H84 -> 0 | F86: =F85/$H84 -> 0.66666667 | G86: =G85/$H84 -> 0 | H86: =SUM(C86:G86) -> 1
A87: TYPE | B87: L’élève doit substituer dans une expression littérale. Calcul littéral. Entiers positifs. | D87: OUI : substitue correctement. NON : ne respecte pas les priorités de calcul (calcule de gauche à droite). | E87: NON : voit 3x est comme le nombre composé des chiffres 3 et x. | F87: NON : ne respecte pas les priorités de calcul et voit 4x comme le nombre composé des chiffres 4 et x. | G87: CONNAISSANCE ET PROCEDURE
A89: 18 | B89: Compléter l’égalité. 75 L = ... cL | C89: 7 500 | D89: 0,75 | E89: 7,5 | F89: 750 | G89: SANS REPONSE | H89: =COUNTA('TEST AUTO'!A:A)-2 -> 3
B90: NOMBRE DE REPONSES | C90: =COUNTIF('TEST AUTO'!$AM:$AM,'TRAITEMENT AUTO'!C$89) -> 1 | D90: =COUNTIF('TEST AUTO'!$AM:$AM,'TRAITEMENT AUTO'!D$89) -> 0 | E90: =COUNTIF('TEST AUTO'!$AM:$AM,'TRAITEMENT AUTO'!E$89) -> 1 | F90: =COUNTIF('TEST AUTO'!$AM:$AM,'TRAITEMENT AUTO'!F$89) -> 1 | G90: =H89-H90 -> 0 | H90: =SUM(C90:F90) -> 3
B91: % DE REPONSES | C91: =C90/$H89 -> 0.33333333 | D91: =D90/$H89 -> 0 | E91: =E90/$H89 -> 0.33333333 | F91: =F90/$H89 -> 0.33333333 | G91: =G90/$H89 -> 0 | H91: =SUM(C91:G91) -> 1
A92: TYPE | B92: L’élève doit convertir une capacité d'une unité dans une autre. Conversion. Entierset décimaux positifs. | D92: NON : conversion en hL. | E92: NON : conversion en daL. | F92: NON : conversion en dL. | G92: CONNAISSANCE ET PROCEDURE
A94: 19 | B94: Le tableau suivant est un tableau de proportionnalité : Quel nombre doit-on placer dans la case vide ? | C94: 27 | D94: 17 | E94: 30 | F94: 3 | G94: SANS REPONSE | H94: =COUNTA('TEST AUTO'!A:A)-2 -> 3
B95: NOMBRE DE REPONSES | C95: =COUNTIF('TEST AUTO'!$AO:$AO,'TRAITEMENT AUTO'!C$94) -> 0 | D95: =COUNTIF('TEST AUTO'!$AO:$AO,'TRAITEMENT AUTO'!D$94) -> 1 | E95: =COUNTIF('TEST AUTO'!$AO:$AO,'TRAITEMENT AUTO'!E$94) -> 1 | F95: =COUNTIF('TEST AUTO'!$AO:$AO,'TRAITEMENT AUTO'!F$94) -> 1 | G95: =H94-H95 -> 0 | H95: =SUM(C95:F95) -> 3
B96: % DE REPONSES | C96: =C95/$H94 -> 0 | D96: =D95/$H94 -> 0.33333333 | E96: =E95/$H94 -> 0.33333333 | F96: =F95/$H94 -> 0.33333333 | G96: =G95/$H94 -> 0 | H96: =SUM(C96:G96) -> 1
A97: TYPE | B97: L'élève doit compléter un tableau de proportionnalité. Proportionnalité. Entiers positifs. | D97: OUI : propriétés utilisées correctes. NON : raisonne par arrondi. | E97: NON : ne respecte pas l'ordre des axes. | F97: NON : n’ordonne pas correctement ses calculs. | G97: CONNAISSANCE ET PROCEDURE
A99: 20 | B99: On considère quatre points A, B, C et D dans le plan rapporté au repère ci-contre : Quel point a pour coordonnées (3 ; 5) ? | C99: le point D | D99: le point A | E99: le point B | F99: le point C | G99: SANS REPONSE | H99: =COUNTA('TEST AUTO'!A:A)-2 -> 3
B100: NOMBRE DE REPONSES | C100: =COUNTIF('TEST AUTO'!$AQ:$AQ,'TRAITEMENT AUTO'!C$99) -> 0 | D100: =COUNTIF('TEST AUTO'!$AQ:$AQ,'TRAITEMENT AUTO'!D$99) -> 1 | E100: =COUNTIF('TEST AUTO'!$AQ:$AQ,'TRAITEMENT AUTO'!E$99) -> 0 | F100: =COUNTIF('TEST AUTO'!$AQ:$AQ,'TRAITEMENT AUTO'!F$99) -> 2 | G100: =H99-H100 -> 0 | H100: =SUM(C100:F100) -> 3
B101: % DE REPONSES | C101: =C100/$H99 -> 0 | D101: =D100/$H99 -> 0.33333333 | E101: =E100/$H99 -> 0 | F101: =F100/$H99 -> 0.66666667 | G101: =G100/$H99 -> 0 | H101: =SUM(C101:G101) -> 1
A102: TYPE | B102: L’élève doit repérer un point dans un repère orthonormé. Repérage dans le plan. Entiers positifs. | D102: NON : inverse l’abscisse et l’ordonnée. | E102: NON : confond 3 ; 5 et le nombre 3,5 et positionne ce nombre sur l’axe des abscisses. | F102: NON : confond 3 ; 5 et le nombre 3,5 et positionne ce nombre sur l’axe des ordonnées. | G102: PROCEDURE
A104: 21 | B104: On considère le triangle ABC représenté ci-dessous : Quel Quel calcul donne son aire ? | C104: (14x12)/2 | D104: 14x12 | E104: (15x12)/2 | F104: 13x14x15 | G104: SANS REPONSE | H104: =COUNTA('TEST AUTO'!A:A)-2 -> 3
B105: NOMBRE DE REPONSES | C105: =COUNTIF('TEST AUTO'!$AM:$AM,'TRAITEMENT AUTO'!C$89) -> 1 | D105: =COUNTIF('TEST AUTO'!$AM:$AM,'TRAITEMENT AUTO'!D$89) -> 0 | E105: =COUNTIF('TEST AUTO'!$AM:$AM,'TRAITEMENT AUTO'!E$89) -> 1 | F105: =COUNTIF('TEST AUTO'!$AM:$AM,'TRAITEMENT AUTO'!F$89) -> 1 | G105: =H104-H105 -> 0 | H105: =SUM(C105:F105) -> 3
B106: % DE REPONSES | C106: =C105/$H104 -> 0.33333333 | D106: =D105/$H104 -> 0 | E106: =E105/$H104 -> 0.33333333 | F106: =F105/$H104 -> 0.33333333 | G106: =G105/$H104 -> 0 | H106: =SUM(C106:G106) -> 1
A107: TYPE | B107: L’élève doit trouver le calcul donnant la mesure de l’aire d’un triangle. Application d'une formule (grandeurs et mesures). Entiers positifs. | D107: OUI : repère bien le côté et la hauteur qui lui est associée. NON : ne divise par 2. | E107: OUI : divise par 2. NON : ne repère pas correctement le côté et la hauteur qui lui est associée. | F107: NON : confond avec le périmètre ou avec le volume d’un pavé. | G107: PROCEDURE
A109: 22 | C109: 5 < 56/10 < 6 | D109: 4 < 56/10 < 5 | E109: 55 < 56/10 < 57 | F109: 0 < 56/10 < 1 | G109: SANS REPONSE | H109: =COUNTA('TEST AUTO'!A:A)-2 -> 3
B110: NOMBRE DE REPONSES | C110: =COUNTIF('TEST AUTO'!$AU:$AU,'TRAITEMENT AUTO'!C$109) -> 1 | D110: =COUNTIF('TEST AUTO'!$AU:$AU,'TRAITEMENT AUTO'!D$109) -> 0 | E110: =COUNTIF('TEST AUTO'!$AU:$AU,'TRAITEMENT AUTO'!E$109) -> 1 | F110: =COUNTIF('TEST AUTO'!$AU:$AU,'TRAITEMENT AUTO'!F$109) -> 1 | G110: =H109-H110 -> 0 | H110: =SUM(C110:F110) -> 3
B111: % DE REPONSES | C111: =C110/$H109 -> 0.33333333 | D111: =D110/$H109 -> 0 | E111: =E110/$H109 -> 0.33333333 | F111: =F110/$H109 -> 0.33333333 | G111: =G110/$H109 -> 0 | H111: =SUM(C111:G111) -> 1
A112: TYPE | B112: L'élève doit encadrer une fraction décimale entre deux nombres entiers consécutifs. Différentes écritures d'un nombre. Décimaux positifs. Fraction. | D112: NON : considère 5 comme une borne supérieure et non inférieure. | E112: NON : ne tient pas compte du dénominateur. | F112: NON : considère le nombre 56/10 comme étant égal à 0,56. OUI : encadre alors correctement. | G112: PROCEDURE

Sheet TRAIT AUTO-pdf
A1: PAGE A IMPRIMER EN PDF POUR UN TRAVAIL CIBLE PAR ITEM (pour liaison cycle 4, en équipe COLLEGE, etc.)
C9: 10 fois plus petit. | D9: ='TRAITEMENT AUTO'!C$4 -> 0 | E9: =D9/D$14 -> 0
C10: 10 fois plus grand. | D10: ='TRAITEMENT AUTO'!D$4 -> 2 | E10: =D10/D$14 -> 0.66666667 | F10: NON : pense que multiplier agrandit nécessairement.
C11: 100 fois plus petit. | D11: ='TRAITEMENT AUTO'!E$4 -> 0 | E11: =D11/D$14 -> 0 | F11: NON : confond "diviser par 10" avec "diviser par 100" du fait de la présence de deux chiffres (0 et 1) dans 0,1.
C12: 100 fois plus grand. | D12: ='TRAITEMENT AUTO'!F$4 -> 1 | E12: =D12/D$14 -> 0.33333333 | F12: NON : pense que multiplier agrandit nécessairement et confond "par 10" avec " par 100" du fait de la présence de deux chiffres dans 0,1.
C13: Pas de réponse | D13: =D14-(D9+D10+D11+D12) -> 0 | E13: =D13/D$14 -> 0
C14: Total | D14: =COUNTA('TEST AUTO'!$C:$C)-1 -> 3 | E14: =SUM(E9:E13) -> 1
C20: 35 | D20: ='TRAITEMENT AUTO'!C$9 -> 3 | E20: =D20/D$14 -> 1
C21: 45 | D21: ='TRAITEMENT AUTO'!D$9 -> 0 | E21: =D21/D$14 -> 0 | F21: NON : confond avec la moitié de 90.
C22: 30 | D22: ='TRAITEMENT AUTO'!E$9 -> 0 | E22: =D22/D$14 -> 0 | F22: NON : confond avec la moitié de 60.
C23: 40 | D23: ='TRAITEMENT AUTO'!F$9 -> 0 | E23: =D23/D$14 -> 0 | F23: NON : confond avec la moitié de 80.
C24: Pas de réponse | D24: =D25-(D20+D21+D22+D23) -> 0 | E24: =D24/D$14 -> 0
C25: Total | D25: =COUNTA('TEST AUTO'!$C:$C)-1 -> 3 | E25: =SUM(E20:E24) -> 1
C31: 5/8 | D31: ='TRAITEMENT AUTO'!C$14 -> 1 | E31: =D31/D$14 -> 0.33333333
C32: 3/8 | D32: ='TRAITEMENT AUTO'!D$14 -> 1 | E32: =D32/D$14 -> 0.33333333 | F32: NON : interprète mal le mot « coloriée ». Il indique la proportion de secteurs blancs par rapport au nombre total de secteurs.
C33: 3/5 | D33: ='TRAITEMENT AUTO'!E$14 -> 0 | E33: =D33/D$14 -> 0 | F33: NON : confond la proportion par rapport au total et par rapport au complémentaire. Il indique la proportion de secteurs blancs par rapport au nombre de secteurs bleus.
C34: 5/3 | D34: ='TRAITEMENT AUTO'!F$14 -> 1 | E34: =D34/D$14 -> 0.33333333 | F34: NON : confond proportion par rapport au total et par rapport au complémentaire. Il indique la proportion de secteurs bleus par rapport au nombre de secteurs blancs.
C35: Pas de réponse | D35: =D36-(D31+D32+D33+D34) -> 0 | E35: =D35/D$14 -> 0
C36: Total | D36: =COUNTA('TEST AUTO'!$C:$C)-1 -> 3 | E36: =SUM(E31:E35) -> 1
C42: 186 | D42: ='TRAITEMENT AUTO'!C$19 -> 3 | E42: =D42/D$14 -> 1
C43: 176 | D43: ='TRAITEMENT AUTO'!D$19 -> 0 | E43: =D43/D$14 -> 0 | F43: NON : 168 + 20 à erreur de calcul ou méconnaissance des tables d’addition. OUI : débute la procédure « Ajouter 20 puis soustraire 2 » NON : oublie la seconde étape.
C44: 188 | D44: ='TRAITEMENT AUTO'!E$19 -> 0 | E44: =D44/D$14 -> 0 | F44: NON : à 168 + 22 erreur de calcul ou méconnaissance des tables d’addition. OUI : débute la procédure « Ajouter 20 puis soustraire 2 » NON : additionne 2 au lieu de soustraire.
C45: 190 | D45: ='TRAITEMENT AUTO'!F$19 -> 0 | E45: =D45/D$14 -> 0 | F45: NON : 168 + 8 à erreur de retenue ou oublie d‘ajouter 10 dans la procédure « Ajouter 10 puis 2 puis 6 ».
C46: Pas de réponse | D46: =D47-(D42+D43+D44+D45) -> 0 | E46: =D46/D$14 -> 0
C47: Total | D47: =COUNTA('TEST AUTO'!$C:$C)-1 -> 3 | E47: =SUM(E42:E46) -> 1
C53: 2 | D53: ='TRAITEMENT AUTO'!C$24 -> 2 | E53: =D53/D$14 -> 0.66666667
C54: – 12 | D54: ='TRAITEMENT AUTO'!D$24 -> 0 | E54: =D54/D$14 -> 0 | F54: Méconnaissance des règles de calcul de la somme de deux nombres relatifs, en particulier de la gestion du signe –. NON : 5 + 7 et résultat négatif.
C55: 12 | D55: ='TRAITEMENT AUTO'!E$24 -> 1 | E55: =D55/D$14 -> 0.33333333 | F55: Méconnaissance des règles de calcul de la somme de deux nombres relatifs, en particulier de la gestion du signe -. OUI : résultat positif. NON : 5 + 7.
C56: – 2 | D56: ='TRAITEMENT AUTO'!F$24 -> 0 | E56: =D56/D$14 -> 0 | F56: Méconnaissance des règles de calcul de la somme de deux nombres relatifs, en particulier de la gestion du signe -. OUI : 7 – 5. NON : résultat négatif
C57: Pas de réponse | D57: =D58-(D53+D54+D55+D56) -> 0 | E57: =D57/D$14 -> 0
C58: Total | D58: =COUNTA('TEST AUTO'!$C:$C)-1 -> 3 | E58: =SUM(E53:E57) -> 1
C64: a² + 3a + 7 | D64: ='TRAITEMENT AUTO'!C$29 -> 1 | E64: =D64/D$14 -> 0.33333333
C65: a² + 10a | D65: ='TRAITEMENT AUTO'!D$29 -> 0 | E65: =D65/D$14 -> 0 | F65: OUI : simplifie correctement le premier terme a × a. NON : ne maîtrise pas les priorités opératoires. Réduction erronée de 3a + 7 en 10a.
C66: 2a + a3 + 7 | D66: ='TRAITEMENT AUTO'!E$29 -> 2 | E66: =D66/D$14 -> 0.66666667 | F66: NON : confond carré et double et ne sait pas simplifier a × 3 (conventions d'écriture non maîtrisées).
C67: 11a | D67: ='TRAITEMENT AUTO'!F$29 -> 0 | E67: =D67/D$14 -> 0 | F67: NON : ne prend pas en compte le degré de chaque terme de l'expression littérale et additionne les coefficients avec le terme constant.
C68: Pas de réponse | D68: =D69-(D64+D65+D66+D67) -> 0 | E68: =D68/D$14 -> 0
C69: Total | D69: =COUNTA('TEST AUTO'!$C:$C)-1 -> 3 | E69: =SUM(E64:F68) -> 1
C74: 2 h 15 min | D74: ='TRAITEMENT AUTO'!C$34 -> 2 | E74: =D74/D$14 -> 0.66666667
C75: 2 h 35 min | D75: ='TRAITEMENT AUTO'!D$34 -> 0 | E75: =D75/D$14 -> 0 | F75: OUI : repère bien que 135 min est supérieur à 120 min, donc à 2h. NON : reprend les 35 min dans le résultat.
C76: 1 h 15 min | D76: ='TRAITEMENT AUTO'!E$34 -> 0 | E76: =D76/D$14 -> 0 | F76: OUI : décompose 135 min en 120 min + 15 min. NON : oublie de convertir 120 min en 2h.
C77: 1 h 35 min | D77: ='TRAITEMENT AUTO'!F$34 -> 1 | E77: =D77/D$14 -> 0.33333333 | F77: NON : convertit 1h en 100 min (confond avec le système décimal).
C78: Pas de réponse | D78: ='TRAITEMENT AUTO'!G$34 -> 0 | E78: =D78/D$14 -> 0
C79: Total | D79: =COUNTA('TEST AUTO'!$C:$C)-1 -> 3 | E79: =SUM(E74:E78) -> 1
C85: 120 | D85: ='TRAITEMENT AUTO'!C39 -> 1 | E85: =D85/D$14 -> 0.33333333
C86: 36 | D86: ='TRAITEMENT AUTO'!D$39 -> 0 | E86: =D86/D$14 -> 0 | F86: OUI : priorités de calcul respectées. NON : seul le second terme a été calculé. Ne factorise pas.
C87: 84 | D87: ='TRAITEMENT AUTO'!E$39 -> 0 | E87: =D87/D$14 -> 0 | F87: OUI : priorités de calcul respectées. NON : seul le premier terme a été calculé. Ne factorise pas.
C88: 240 | D88: ='TRAITEMENT AUTO'!F$39 -> 2 | E88: =D88/D$14 -> 0.66666667 | F88: OUI : connaissance partielle de la factorisation. NON : met autant de fois 12 en facteur qu’il apparait dans l’expression de départ.
C89: Pas de réponse | D89: =D90-(D85+D86+D87+D88) -> 0 | E89: =D89/D$14 -> 0
C90: Total | D90: =COUNTA('TEST AUTO'!$C:$C)-1 -> 3 | E90: =SUM(E85:E89) -> 1
C96: 110° | D96: ='TRAITEMENT AUTO'!C44 -> 0 | E96: =D96/D$14 -> 0
C97: 20° | D97: ='TRAITEMENT AUTO'!D44 -> 0 | E97: =D97/D$14 -> 0 | F97: NON : associe la notation de l'angle à l’angle de sommet K et non celui de sommet J.
C98: 50° | D98: ='TRAITEMENT AUTO'!E44 -> 0 | E98: =D98/D$14 -> 0 | F98: NON : associe la notation de l'angle à l’angle de sommet I et non celui de sommet J.
C99: 70° | D99: ='TRAITEMENT AUTO'!F44 -> 3 | E99: =D99/D$14 -> 1 | F99: OUI : effectue le calcul intermédiaire 20° + 50°. NON : ne soustrait pas le résultat à 180°.
C100: Pas de réponse | D100: =D101-(D96+D97+D98+D99) -> 0 | E100: =D100/D$14 -> 0
C101: Total | D101: =COUNTA('TEST AUTO'!$C:$C)-1 -> 3 | E101: =SUM(E96:E100) -> 1
C107: 14.602 | D107: ='TRAITEMENT AUTO'!C$49 -> 1 | E107: =D107/D$14 -> 0.33333333
C108: 14.62 | D108: ='TRAITEMENT AUTO'!D$49 -> 0 | E108: =D108/D$14 -> 0 | F108: NON : confond centième et millième.
C109: 140.62 | D109: ='TRAITEMENT AUTO'!E$49 -> 0 | E109: =D109/D$14 -> 0 | F109: NON : confond centième et millième. NON : voit 14 comme 14 dizaines et non 14 unités.
C110: 1462 | D110: ='TRAITEMENT AUTO'!F$49 -> 2 | E110: =D110/D$14 -> 0.66666667 | F110: NON : ne tient pas compte des dénominateurs des fractions.
C111: Pas de réponse | D111: =D112-(D107+D108+D109+D110) -> 0 | E111: =D111/D$14 -> 0
C112: Total | D112: =COUNTA('TEST AUTO'!$C:$C)-1 -> 3 | E112: =SUM(E107:E111) -> 1
C119: 9 km | D119: ='TRAITEMENT AUTO'!C$54 -> 0 | E119: =D119/D$14 -> 0
C120: 18 km | D120: ='TRAITEMENT AUTO'!D$54 -> 2 | E120: =D120/D$14 -> 0.66666667 | F120: NON : reprend simplement 18 km dans 18 km/h.
C121: 5,4 km | D121: ='TRAITEMENT AUTO'!E$54 -> 0 | E121: =D121/D$14 -> 0 | F121: NON : confond avec le système décimal.
C122: 36 km | D122: ='TRAITEMENT AUTO'!F$54 -> 1 | E122: =D122/D$14 -> 0.33333333 | F122: OUI : sait que 30 min=12h NON : multiplie par 2 au lieu de diviser.
C123: Pas de réponse | D123: =D124-(D119+D120+D121+D122) -> 0 | E123: =D123/D$14 -> 0
C124: Total | D124: =COUNTA('TEST AUTO'!$C:$C)-1 -> 3 | E124: =SUM(E119:E123) -> 1
C130: 4300 | D130: ='TRAITEMENT AUTO'!C$59 -> 1 | E130: =D130/D$14 -> 0.33333333
C131: 43 | D131: ='TRAITEMENT AUTO'!D$59 -> 0 | E131: =D131/D$14 -> 0 | F131: NON : reprend le nombre 43 de l’énoncé.
C132: 4.3 | D132: ='TRAITEMENT AUTO'!E$59 -> 1 | E132: =D132/D$14 -> 0.33333333 | F132: NON : considère 43 unités. Divise 43 par 10.
C133: 430 | D133: ='TRAITEMENT AUTO'!F$59 -> 1 | E133: =D133/D$14 -> 0.33333333 | F133: NON : place le chiffre 4 dans la colonne des unités de mille. OUI : multiplie 43 par 10. Connaissance du lien enrre centaine et dizaine.
C134: Pas de réponse | D134: =D135-(D130+D131+D132+D133) -> 0 | E134: =D134/D$14 -> 0
C135: Total | D135: =COUNTA('TEST AUTO'!$C:$C)-1 -> 3 | E135: =D135/D$14 -> 1
D141: ='TRAITEMENT AUTO'!C$65 -> 2 | E141: =D141/D$146 -> 0.66666667
D142: ='TRAITEMENT AUTO'!D$65 -> 0 | E142: =D142/D$146 -> 0 | F142: NON : compare le nombre de parts bleues au nombre total de parts sans tenir compte de la taille des parts.
D143: ='TRAITEMENT AUTO'!E$65 -> 0 | E143: =D143/D$146 -> 0
D144: ='TRAITEMENT AUTO'!F$65 -> 0 | E144: =D144/D$146 -> 0
C145: Pas de réponse | D145: =D146-(D141+D142+D143+D144) -> 1 | E145: =D145/D$146 -> 0.33333333
C146: Total | D146: =COUNTA('TEST AUTO'!$C:$C)-1 -> 3 | E146: =SUM(E141:E145) -> 1
C152: 12 | D152: ='TRAITEMENT AUTO'!C$70 -> 2 | E152: =D152/D$14 -> 0.66666667
C153: – 12 | D153: ='TRAITEMENT AUTO'!D$70 -> 1 | E153: =D153/D$14 -> 0.33333333 | F153: Méconnaissance des règles de calcul de la différence de deux nombres relatifs.
C154: 2 | D154: ='TRAITEMENT AUTO'!E$70 -> 0 | E154: =D154/D$14 -> 0
C155: – 2 | D155: ='TRAITEMENT AUTO'!F$70 -> 0 | E155: =D155/D$14 -> 0
C156: Pas de réponse | D156: =D157-(D152+D153+D155+D154) -> 0 | E156: =D156/D$14 -> 0
C157: Total | D157: =COUNTA('TEST AUTO'!$C:$C)-1 -> 3 | E157: =SUM(E152:E156) -> 1
C164: 3/4 | D164: ='TRAITEMENT AUTO'!C$75 -> 2 | E164: =D164/D$14 -> 0.66666667
C165: 0.3 | D165: ='TRAITEMENT AUTO'!D$75 -> 0 | E165: =D165/D$14 -> 0 | F165: NON : ne compte que le nombre de parts séparant l’origine du point A et répond en base 10 sans tenir compte du fractionnement de l’unité.
C166: 4/3 | D166: ='TRAITEMENT AUTO'!E$75 -> 1 | E166: =D166/D$14 -> 0.33333333 | F166: OUI : procédure de détermination du numérateur et du dénominateur correcte. NON : inverse l’écriture de la fraction.
C167: 3 | D167: ='TRAITEMENT AUTO'!F$75 -> 0 | E167: =D167/D$14 -> 0 | F167: NON : ne compte que le nombre de parts séparant l’origine du point A et répond comme si la droite était graduée de 1 en 1.
C168: Pas de réponse | D168: =D169-(D164+D165+D166+D167) -> 0 | E168: =D168/D$14 -> 0
C169: Total | D169: =COUNTA('TEST AUTO'!$C:$C)-1 -> 3 | E169: =SUM(E164:E168) -> 1
C174: 3/10 | D174: ='TRAITEMENT AUTO'!C80 -> 1 | E174: =D174/D$14 -> 0.33333333
C175: 1/3 | D175: ='TRAITEMENT AUTO'!D80 -> 0 | E175: =D175/D$14 -> 0 | F175: NON : associe 0,3 à « tiers » ou une valeur approchée. OU pense que le 3 est le dénominateur et que le 1 indique qu’il est en première position après la virgule.
C176: 3/100 | D176: ='TRAITEMENT AUTO'!E80 -> 1 | E176: =D176/D$14 -> 0.33333333 | F176: OUI : procédure peut-être correcte. NON : confond « centième » et "dixième".
C177: 0/3 | D177: ='TRAITEMENT AUTO'!F80 -> 1 | E177: =D177/D$14 -> 0.33333333 | F177: NON : remplace la virgule par la barre de fraction.
C178: Pas de réponse | D178: ='TRAITEMENT AUTO'!G80 -> 0 | E178: =D178/D$14 -> 0
C179: Total | D179: =COUNTA('TEST AUTO'!$C:$C)-1 -> 3 | E179: =SUM(E174:E178) -> 1
C186: 25 | D186: ='TRAITEMENT AUTO'!C85 -> 0 | E186: =D186/D$14 -> 0
C187: 32 | D187: ='TRAITEMENT AUTO'!D85 -> 1 | E187: =D187/D$14 -> 0.33333333 | F187: OUI : substitue correctement. NON : ne respecte pas les priorités de calcul (calcule de gauche à droite).
C188: 39 | D188: ='TRAITEMENT AUTO'!E85 -> 0 | E188: =D188/D$14 -> 0 | F188: NON : voit 3x est comme le nombre composé des chiffres 3 et x.
...

Sheet ANALYSE AUTO
A1: TABLEAU ET GRAPHIQUES GENERES AUTOMATIQUEMENT = ANALYSE DES REUSSITES PAR TYPE D'ITEMS, DE FAMILLES DE NOMBRES, DE TACHES -> PILOTAGE DIDACTIQUE SUR TOUT LE CYCLE 4
A2: TYPE DE TACHE FAMILLE DE NOMBRES (% de REUSSITES) | B2: Calcul numérique | C2: Calcul littéral | D2: Partage | E2: Différentes écritures d'un nombre | F2: Conversion | G2: Repérage (sur une droite, dans le plan) | H2: Proportionnalité | I2: Application d'une propriété ou d'une formule (géométrie, grandeurs et mesures) | J2: TOTAL
A3: ENTIERS ET DECIMAUX (en écriture décimale) POSITIFS | B3: ITEMS : 1-2-4-8-11-17-19 | C3: ITEMS : 6-17 | E3: ITEMS : 10-12-16-22 | F3: ITEMS : 7-11-18 | G3: ITEM : 20 | H3: ITEMS : 11-19 | I3: ITEMS : 9-21 | J3: =D39 -> 0.31372549
B4: =AVERAGE('TRAITEMENT AUTO'!C5,'TRAITEMENT AUTO'!C10,'TRAITEMENT AUTO'!C20,'TRAITEMENT AUTO'!C40,'TRAITEMENT AUTO'!C55,'TRAITEMENT AUTO'!C86,'TRAITEMENT AUTO'!C96) -> 0.33333333 | C4: =AVERAGE('TRAITEMENT AUTO'!C30,'TRAITEMENT AUTO'!C86) -> 0.16666667 | E4: =AVERAGE('TRAITEMENT AUTO'!C50,'TRAITEMENT AUTO'!C60,'TRAITEMENT AUTO'!C81,'TRAITEMENT AUTO'!C111) -> 0.33333333 | F4: =AVERAGE('TRAITEMENT AUTO'!C35,'TRAITEMENT AUTO'!C55,'TRAITEMENT AUTO'!C91) -> 0.33333333 | G4: ='TRAITEMENT AUTO'!C101 -> 0 | H4: =AVERAGE('TRAITEMENT AUTO'!C55,'TRAITEMENT AUTO'!C96) -> 0 | I4: =AVERAGE('TRAITEMENT AUTO'!C45,'TRAITEMENT AUTO'!C106) -> 0.16666667
A5: FRACTIONS | D5: ITEM : 3-13 | E5: ITEMS : 10-16-22 | G5: ITEM : 15 | J5: =D56 -> 0.44444444
D6: =AVERAGE('TRAITEMENT AUTO'!C15,'TRAITEMENT AUTO'!C66) -> 0.5 | E6: =AVERAGE('TRAITEMENT AUTO'!C50,'TRAITEMENT AUTO'!C81,'TRAITEMENT AUTO'!C111) -> 0.33333333 | G6: ='TRAITEMENT AUTO'!C76 -> 0.66666667
A7: RELATIFS | B7: ITEMS : 5-14 | J7: =D62 -> 0.66666667
B8: =AVERAGE('TRAITEMENT AUTO'!C25,'TRAITEMENT AUTO'!C71) -> 0.66666667
A9: TOTAL | B9: =D66 -> 0.40740741 | C9: =D75 -> 0.16666667 | D9: =D77 -> 0.5 | E9: =D79 -> 0.33333333 | F9: =D83 -> 0.33333333 | G9: =D86 -> 0.33333333 | H9: =D88 -> 0 | I9: =D90 -> 0.16666667
K13: ↓↓↓↓
A14: Descriptif de la tâche | B14: ITEMS AUTO | C14: % DE REUSSITE
A15: Multiplication par 0,1. | B15: 1 | C15: ='TRAITEMENT AUTO'!C5 -> 0
A16: Calcul de la moitié d'un entier positif pair. | B16: 2 | C16: ='TRAITEMENT AUTO'!C10 -> 1
A17: Détermination de la fraction d'une surface. | B17: 3 | C17: ='TRAITEMENT AUTO'!C15 -> 0.33333333
A18: Addition de deux entiers positifs. | B18: 4 | C18: ='TRAITEMENT AUTO'!C20 -> 1
A19: Addition de deux entiers relatifs. | B19: 5 | C19: ='TRAITEMENT AUTO'!C25 -> 0.66666667
A20: Simplification de l'écriture d'une expression littérale. | B20: 6 | C20: ='TRAITEMENT AUTO'!C30 -> 0.33333333
A21: Conversion d'une durée en h min. | B21: 7 | C21: ='TRAITEMENT AUTO'!C35 -> 0.66666667
A22: Calcul mental à l'aide d'une factorisation. | B22: 8 | C22: ='TRAITEMENT AUTO'!C40 -> 0.33333333
A23: Calcul d'un angle dans un triangle connaissant les deux autres. | B23: 9 | C23: ='TRAITEMENT AUTO'!C45 -> 0
A24: Décomposition additive à l'aide de fractions décimales à écriture décimale. | B24: 10 | C24: ='TRAITEMENT AUTO'!C50 -> 0.33333333
A25: Calcul d'une distance à partir d'une vitesse et d'un temps. | B25: 11 | C25: ='TRAITEMENT AUTO'!C55 -> 0
A26: Correspondance entre unités de numération. | B26: 12 | C26: ='TRAITEMENT AUTO'!C60 -> 0.33333333
A27: Correspondance fraction / partage d'une surface. | B27: 13 | C27: ='TRAITEMENT AUTO'!C66 -> 0.66666667
A28: Soustraction de deux entiers relatifs. | B28: 14 | C28: ='TRAITEMENT AUTO'!C71 -> 0.66666667
A29: Repérage sur une droite graduée. | B29: 15 | C29: ='TRAITEMENT AUTO'!C76 -> 0.66666667
A30: Association d'un nombre écrit sous forme décimale à une fraction. | B30: 16 | C30: ='TRAITEMENT AUTO'!C81 -> 0.33333333
A31: Substitution dans une expression littérale. | B31: 17 | C31: ='TRAITEMENT AUTO'!C86 -> 0
A32: Conversion d'une capacité. | B32: 18 | C32: ='TRAITEMENT AUTO'!C91 -> 0.33333333
A33: Calcul d'une 4e proportionnelle (dans un tableau). | B33: 19 | C33: ='TRAITEMENT AUTO'!C96 -> 0
A34: Repérage dans le plan. | B34: 20 | C34: ='TRAITEMENT AUTO'!C101 -> 0
A35: Détermination du calcul de l'aire d'un triangle. | B35: 21 | C35: ='TRAITEMENT AUTO'!C106 -> 0.33333333
A36: Encadrement d'une fractionn décimale par deux entiers consécutifs. | B36: 22 | C36: ='TRAITEMENT AUTO'!C111 -> 0.33333333
A38: REGROUPEMENTS PAR FAMILLES DE NOMBRES | B38: ITEMS AUTO | C38: % DE REUSSITE | D38: % DE REUSSITE
A39: Multiplication par 0,1. | B39: 1 | C39: ='TRAITEMENT AUTO'!C5 -> 0 | D39: =AVERAGE(C39:C55) -> 0.31372549
A40: Calcul de la moitié d'un entier positif pair. | B40: 2 | C40: ='TRAITEMENT AUTO'!C10 -> 1
A41: Addition de deux entiers positifs. | B41: 4 | C41: ='TRAITEMENT AUTO'!C20 -> 1
A42: Simplification de l'écriture d'une expression littérale. | B42: 6 | C42: ='TRAITEMENT AUTO'!C30 -> 0.33333333
A43: Conversion d'une durée en h min. | B43: 7 | C43: ='TRAITEMENT AUTO'!C35 -> 0.66666667
A44: Calcul mental à l'aide d'une factorisation. | B44: 8 | C44: ='TRAITEMENT AUTO'!C40 -> 0.33333333
A45: Calcul d'un angle dans un triangle connaissant les deux autres. | B45: 9 | C45: =+'TRAITEMENT AUTO'!C45 -> 0
A46: Décomposition additive à l'aide de fractions décimales à écriture décimale. | B46: 10 | C46: ='TRAITEMENT AUTO'!C50 -> 0.33333333
A47: Calcul d'une distance à partir d'une vitesse et d'un temps. | B47: 11 | C47: ='TRAITEMENT AUTO'!C55 -> 0
A48: Correspondance entre unités de numération. | B48: 12 | C48: ='TRAITEMENT AUTO'!C60 -> 0.33333333
A49: Association d'un nombre écrit sous forme décimale à une fraction. | B49: 16 | C49: ='TRAITEMENT AUTO'!C81 -> 0.33333333
A50: Substitution dans une expression littérale. | B50: 17 | C50: ='TRAITEMENT AUTO'!C86 -> 0
A51: Conversion d'une capacité. | B51: 18 | C51: ='TRAITEMENT AUTO'!C91 -> 0.33333333
A52: Calcul d'une 4e proportionnelle (dans un tableau). | B52: 19 | C52: ='TRAITEMENT AUTO'!C96 -> 0
A53: Repérage dans le plan. | B53: 20 | C53: ='TRAITEMENT AUTO'!C101 -> 0
A54: Détermination du calcul de l'aire d'un triangle. | B54: 21 | C54: ='TRAITEMENT AUTO'!C106 -> 0.33333333
A55: Encadrement d'une fractionn décimale par deux entiers consécutifs. | B55: 22 | C55: ='TRAITEMENT AUTO'!C111 -> 0.33333333
A56: Détermination de la fraction d'une surface. | B56: 3 | C56: ='TRAITEMENT AUTO'!C15 -> 0.33333333 | D56: =AVERAGE(C56:C61) -> 0.44444444
A57: Décomposition additive à l'aide de fractions décimales à écriture décimale. | B57: 10 | C57: ='TRAITEMENT AUTO'!C50 -> 0.33333333
A58: Correspondance fraction / partage d'une surface. | B58: 13 | C58: ='TRAITEMENT AUTO'!C66 -> 0.66666667
A59: Repérage sur une droite graduée. | B59: 15 | C59: ='TRAITEMENT AUTO'!C76 -> 0.66666667
A60: Association d'un nombre écrit sous forme décimale à une fraction. | B60: 16 | C60: ='TRAITEMENT AUTO'!C81 -> 0.33333333
A61: Encadrement d'une fraction décimale par deux entiers consécutifs. | B61: 22 | C61: ='TRAITEMENT AUTO'!C111 -> 0.33333333
A62: Addition de deux entiers relatifs. | B62: 5 | C62: ='TRAITEMENT AUTO'!C25 -> 0.66666667 | D62: =AVERAGE(C62:C63) -> 0.66666667
A63: Soustraction de deux entiers relatifs. | B63: 14 | C63: ='TRAITEMENT AUTO'!C71 -> 0.66666667
A65: REGROUPEMENTS PAR TYPE DE TACHES | B65: ITEMS AUTO | C65: % DE REUSSITE | D65: % DE REUSSITE
A66: Multiplication par 0,1. | B66: 1 | C66: ='TRAITEMENT AUTO'!C5 -> 0 | D66: =AVERAGE(C66:C74) -> 0.40740741
A67: Calcul de la moitié d'un entier positif pair. | B67: 2 | C67: ='TRAITEMENT AUTO'!C10 -> 1
A68: Addition de deux entiers positifs. | B68: 4 | C68: ='TRAITEMENT AUTO'!C20 -> 1
A69: Addition de deux entiers relatifs. | B69: 5 | C69: ='TRAITEMENT AUTO'!C25 -> 0.66666667
A70: Calcul mental à l'aide d'une factorisation. | B70: 8 | C70: ='TRAITEMENT AUTO'!C40 -> 0.33333333
A71: Calcul d'une distance à partir d'une vitesse et d'un temps. | B71: 11 | C71: ='TRAITEMENT AUTO'!C55 -> 0
A72: Soustraction de deux entiers relatifs. | B72: 14 | C72: ='TRAITEMENT AUTO'!C71 -> 0.66666667
A73: Substitution dans une expression littérale. | B73: 17 | C73: ='TRAITEMENT AUTO'!C86 -> 0
A74: Calcul d'une 4e proportionnelle (dans un tableau). | B74: 19 | C74: ='TRAITEMENT AUTO'!C96 -> 0
A75: Simplification de l'écriture d'une expression littérale. | B75: 6 | C75: ='TRAITEMENT AUTO'!C30 -> 0.33333333 | D75: =AVERAGE(C75:C76) -> 0.16666667
A76: Substitution dans une expression littérale. | B76: 17 | C76: ='TRAITEMENT AUTO'!C86 -> 0
A77: Détermination de la fraction d'une surface. | B77: 3 | C77: ='TRAITEMENT AUTO'!C15 -> 0.33333333 | D77: =AVERAGE(C77:C78) -> 0.5
A78: Correspondance fraction / partage d'une surface. | B78: 13 | C78: ='TRAITEMENT AUTO'!C66 -> 0.66666667
A79: Décomposition additive à l'aide de fractions décimales à écriture décimale. | B79: 10 | C79: ='TRAITEMENT AUTO'!C50 -> 0.33333333 | D79: =AVERAGE(C79:C82) -> 0.33333333
A80: Correspondance entre unités de numération. | B80: 12 | C80: ='TRAITEMENT AUTO'!C60 -> 0.33333333
A81: Association d'un nombre écrit sous forme décimale à une fraction. | B81: 16 | C81: ='TRAITEMENT AUTO'!C81 -> 0.33333333
A82: Encadrement d'une fractionn décimale par deux entiers consécutifs. | B82: 22 | C82: ='TRAITEMENT AUTO'!C111 -> 0.33333333
A83: Conversion d'une durée en h min. | B83: 7 | C83: ='TRAITEMENT AUTO'!C35 -> 0.66666667 | D83: =AVERAGE(C83:C85) -> 0.33333333
A84: Calcul d'une distance à partir d'une vitesse et d'un temps. | B84: 11 | C84: ='TRAITEMENT AUTO'!C55 -> 0
A85: Conversion d'une capacité. | B85: 18 | C85: ='TRAITEMENT AUTO'!C91 -> 0.33333333
A86: Repérage sur une droite graduée. | B86: 15 | C86: ='TRAITEMENT AUTO'!C76 -> 0.66666667 | D86: =AVERAGE(C86:C87) -> 0.33333333
A87: Repérage dans le plan. | B87: 20 | C87: ='TRAITEMENT AUTO'!C101 -> 0
A88: Calcul d'une distance à partir d'une vitesse et d'un temps. | B88: 11 | C88: ='TRAITEMENT AUTO'!C55 -> 0 | D88: =AVERAGE(C88:C89) -> 0
A89: Calcul d'une 4e proportionnelle (dans un tableau). | B89: 19 | C89: ='TRAITEMENT AUTO'!C96 -> 0
A90: Calcul d'un angle dans un triangle connaissant les deux autres. | B90: 9 | C90: ='TRAITEMENT AUTO'!C45 -> 0 | D90: =AVERAGE(C90:C91) -> 0.16666667
A91: Détermination du calcul de l'aire d'un triangle. | B91: 21 | C91: ='TRAITEMENT AUTO'!C106 -> 0.33333333

Sheet TRAITEMENT RDP
B1: PAGE GENEREE AUTOMATIQUEMENT = ANALYSE DIDACTIQUE PAR TYPE D'ERREURS ---> CREATION DE GROUPES DE REMEDIATION CIBLES PORTANT SUR LES ERREURS (par classe ou interclasses)
A2: Item | B2: PROBLEME : énoncé, % par réponse, descriptif du type de problème | C2: réponse 1 | D2: réponse 2 | E2: réponse 3 | F2: réponse 4 | G2: réponse 5
A3: 1 | B3: Dans un supermarché, les fraises sont à 2 € le kilogramme. Combien vais-je payer pour acheter 5 kg de fraises dans ce supermarché ? | C3: 10 | D3: 5 | E3: 6 | F3: 7 | G3: SANS REPONSE | H3: =COUNTA('TEST RDP'!A:A)-2 -> 3
B4: NOMBRE DE REPONSES | C4: =COUNTIF('TEST RDP'!$E:$E,'TRAITEMENT RDP'!C$3) -> 3 | D4: =COUNTIF('TEST RDP'!$E:$E,'TRAITEMENT RDP'!D$3) -> 0 | E4: =COUNTIF('TEST RDP'!$E:$E,'TRAITEMENT RDP'!E$3) -> 0 | F4: =COUNTIF('TEST RDP'!$E:$E,'TRAITEMENT RDP'!F$3) -> 0 | G4: =H3-H4 -> 0 | H4: =SUM(C4:F4) -> 3
B5: % DE REPONSES | C5: =C4/$H3 -> 1 | D5: =D4/$H3 -> 0 | E5: =E4/$H3 -> 0 | F5: =F4/$H3 -> 0 | G5: =G4/$H3 -> 0 | H5: =SUM(C5:G5) -> 1
A6: TYPE | B6: L’élève doit déterminer un prix en euro (multiplier le prix à l’unité par la masse). Problème à une étape. Problème multiplicatif – proportionnalité simple avec référence à l’unité. | D6: NON : reprend uniquement le 5 de 5 kg sans calculer. | E6: NON : champ additif. NON : considère que la masse augmentant de 4, le prix augmente aussi de 4. | F6: NON : champ additif. | G6: Contexte familier.
A8: 2 | B8: Le dessin ci-dessous représente le plan d’un terrain clos. On connait la longueur de quatre des côtés du terrain. Le périmètre de ce terrain est de 210 m. Quelle est la longueur du cinquième côté ? | C8: 40 m | D8: 170 m | E8: 30 m | F8: 210 m | G8: SANS REPONSE | H8: =COUNTA('TEST RDP'!A:A)-2 -> 3
B9: NOMBRE DE REPONSES | C9: =COUNTIF('TEST RDP'!$G:$G,'TRAITEMENT RDP'!C$8) -> 1 | D9: =COUNTIF('TEST RDP'!$G:$G,'TRAITEMENT RDP'!D$8) -> 1 | E9: =COUNTIF('TEST RDP'!$G:$G,'TRAITEMENT RDP'!E$8) -> 1 | F9: =COUNTIF('TEST RDP'!$G:$G,'TRAITEMENT RDP'!F$8) -> 0 | G9: =H8-H9 -> 0 | H9: =SUM(C9:F9) -> 3
B10: % DE REPONSES | C10: =C9/$H8 -> 0.33333333 | D10: =D9/$H8 -> 0.33333333 | E10: =E9/$H8 -> 0.33333333 | F10: =F9/$H8 -> 0 | G10: =G9/$H8 -> 0 | H10: =SUM(C10:G10) -> 1
A11: TYPE | B11: L’élève doit déterminer une longueur en mètre (soustraire les côtés connus au périmètre). Problème à plusieurs étapes. Problème additif – recherche d’une partie d’un tout. Peut nécessiter une représentation ou une modélisation. | D11: OUI : connaissance de la notion de périmètre. NON : pense que la somme des deux derniers doit être égale à 50 m (les trois autres côtés étant égaux à 50 m). | E11: OUI : calcule la somme des longueurs des côtés indiqués. NON : oublie de soustraire ce résultat au périmètre. | F11: NON : reprend le périmètre du terrain. | G11: Contexte familier. Nécessite la mise en relation d’un texte et d’une figure.
A13: 3 | B13: César et Romain habitent à la même distance du collège. Romain vient au collège à pied. Sa vitesse est de 5 km/h. César vient à vélo. Il est trois fois plus rapide. Le trajet de Romain dure 12 minutes. Combien dure le trajet de César ? | C13: 4 min | D13: 36 min | E13: 15 min | F13: 3 min | G13: SANS REPONSE | H13: =COUNTA('TEST RDP'!A:A)-2 -> 3
B14: NOMBRE DE REPONSES | C14: =COUNTIF('TEST RDP'!$I:$I,'TRAITEMENT RDP'!C$13) -> 1 | D14: =COUNTIF('TEST RDP'!$I:$I,'TRAITEMENT RDP'!D$13) -> 0 | E14: =COUNTIF('TEST RDP'!$I:$I,'TRAITEMENT RDP'!E$13) -> 2 | F14: =COUNTIF('TEST RDP'!$I:$I,'TRAITEMENT RDP'!F$13) -> 0 | G14: =H13-H14 -> 0 | H14: =SUM(C14:F14) -> 3
B15: % DE REPONSES | C15: =C14/$H13 -> 0.33333333 | D15: =D14/$H13 -> 0 | E15: =E14/$H13 -> 0.66666667 | F15: =F14/$H13 -> 0 | G15: =G14/$H13 -> 0 | H15: =SUM(C15:G15) -> 1
A16: TYPE | B16: L’élève doit doit déterminer la durée d’un trajet. Présence d'une donnée inutile. Problème à une étape. Problème multiplicatif – comparaison multiplicative de grandeurs « fois plus » avec recherche du résultat. Peut nécessiter une représentation ou une modélisation. | D16: OUI : comprend bien que 3 est un coefficient - champ multiplicatif. NON : multiplie au lieu de diviser (erreur sur le référent). | E16: NON : additif. | F16: NON : comprend "3 fois plus rapide" comme étant 3 min. | G16: Contexte familier.
A18: 4 | B18: Dans une même boulangerie, Lucas achète 7 pains au chocolat et paie 6,30 €, Enzo achète 9 pains au chocolat et paie 8,10 €. Combien paierait Camillia pour 8 pains au chocolat ? | C18: 7.2 | D18: 0.9 | E18: 7.1 | F18: 7.3 | G18: SANS REPONSE | H18: =COUNTA('TEST RDP'!A:A)-2 -> 3
B19: NOMBRE DE REPONSES | C19: =COUNTIF('TEST RDP'!$K:$K,'TRAITEMENT RDP'!C$18) -> 1 | D19: =COUNTIF('TEST RDP'!$K:$K,'TRAITEMENT RDP'!D$18) -> 0 | E19: =COUNTIF('TEST RDP'!$K:$K,'TRAITEMENT RDP'!E$18) -> 1 | F19: =COUNTIF('TEST RDP'!$K:$K,'TRAITEMENT RDP'!F$18) -> 1 | G19: =H18-H19 -> 0 | H19: =SUM(C19:F19) -> 3
B20: % DE REPONSES | C20: =C19/$H18 -> 0.33333333 | D20: =D19/$H18 -> 0 | E20: =E19/$H18 -> 0.33333333 | F20: =F19/$H18 -> 0.33333333 | G20: =G19/$H18 -> 0 | H20: =SUM(C20:G20) -> 1
A21: TYPE | B21: L’élève doit calculer un prix. Problème à plusieurs étapes. Problème multiplicatif – proportionnalité simple sans référence à l’unité. | D21: OUI : calcule correctement le prix d’un pain. NON : s’arrête à cette première étape. | E21: NON : soustrait 1 au nombre de pains donc soustrait 1 au prix. | F21: NON : ajoute 1 au nombre de pains donc ajoute 1 au prix. | G21: Contexte familier.
A23: 5 | B23: Louise a acheté 10 objets identiques pour 22 €. Combien coûtent 15 de ces objets ? | C23: 33 | D23: 27 | E23: 15 | F23: 47 | G23: SANS REPONSE | H23: =COUNTA('TEST RDP'!A:A)-2 -> 3
B24: NOMBRE DE REPONSES | C24: =COUNTIF('TEST RDP'!$M:$M,'TRAITEMENT RDP'!C$23) -> 3 | D24: =COUNTIF('TEST RDP'!$M:$M,'TRAITEMENT RDP'!D$23) -> 0 | E24: =COUNTIF('TEST RDP'!$M:$M,'TRAITEMENT RDP'!E$23) -> 0 | F24: =COUNTIF('TEST RDP'!$M:$M,'TRAITEMENT RDP'!F$23) -> 0 | G24: =H23-H24 -> 0 | H24: =SUM(C24:F24) -> 3
B25: % DE REPONSES | C25: =C24/$H23 -> 1 | D25: =D24/$H23 -> 0 | E25: =E24/$H23 -> 0 | F25: =F24/$H23 -> 0 | G25: =G24/$H23 -> 0 | H25: =SUM(C25:G25) -> 1
A26: TYPE | B26: L’élève doit calculer un prix. Problème à plusieurs étapes. Problème multiplicatif – proportionnalité simple sans référence à l’unité. | D26: NON : ajoute 5 au nombre d'objets donc ajoute 5 au prix. | E26: NON : reprend le nombre d’objets pour lequel il faut calculer le prix. | F26: NON : additionne les trois nombres de l’énoncé. | G26: Contexte familier.
A28: 6 | B28: Une randonnée cyclotouriste est organisée sur un parcours de 60 km. Un arrêt est prévu au tiers de ce parcours. Quelle est la distance parcourue avant cet arrêt ? | C28: 20 km | D28: 10 km | E28: 12 km | F28: 15 km | G28: SANS REPONSE | H28: =COUNTA('TEST RDP'!A:A)-2 -> 3
B29: NOMBRE DE REPONSES | C29: =COUNTIF('TEST RDP'!$O:$O,'TRAITEMENT RDP'!C$28) -> 1 | D29: =COUNTIF('TEST RDP'!$O:$O,'TRAITEMENT RDP'!D$28) -> 0 | E29: =COUNTIF('TEST RDP'!$O:$O,'TRAITEMENT RDP'!E$28) -> 0 | F29: =COUNTIF('TEST RDP'!$O:$O,'TRAITEMENT RDP'!F$28) -> 2 | G29: =H28-H29 -> 0 | H29: =SUM(C29:F29) -> 3
B30: % DE REPONSES | C30: =C29/$H28 -> 0.33333333 | D30: =D29/$H28 -> 0 | E30: =E29/$H28 -> 0 | F30: =F29/$H28 -> 0.66666667 | G30: =G29/$H28 -> 0 | H30: =SUM(C30:G30) -> 1
A31: TYPE | B31: L’élève doit calculer le tiers d'une distance. Problème à une étape. Problème multiplicatif – fraction d’une grandeur. Peut nécessiter une représentation ou une modélisation. | D31: NON : calcule le sixième. | E31: NON : calcule le cinquième. | F31: NON : calcule le quart. | G31: Contexte familier.
A33: 7 | B33: Le plan de ce terrain indique une zone boisée. La superficie de la zone boisée est de : | C33: 9 km² | D33: 36 km² | E33: 60 km² | F33: 4 km² | G33: SANS REPONSE | H33: =COUNTA('TEST RDP'!A:A)-2 -> 3
B34: NOMBRE DE REPONSES | C34: =COUNTIF('TEST RDP'!$Q:$Q,'TRAITEMENT RDP'!C$33) -> 1 | D34: =COUNTIF('TEST RDP'!$Q:$Q,'TRAITEMENT RDP'!D$33) -> 1 | E34: =COUNTIF('TEST RDP'!$Q:$Q,'TRAITEMENT RDP'!E$33) -> 1 | F34: =COUNTIF('TEST RDP'!$Q:$Q,'TRAITEMENT RDP'!F$33) -> 0 | G34: =H33-H34 -> 0 | H34: =SUM(C34:F34) -> 3
B35: % DE REPONSES | C35: =C34/$H33 -> 0.33333333 | D35: =D34/$H33 -> 0.33333333 | E35: =E34/$H33 -> 0.33333333 | F35: =F34/$H33 -> 0 | G35: =G34/$H33 -> 0 | H35: =SUM(C35:G35) -> 1
A36: TYPE | B36: L’élève doit trouver une superficie à partir d’un plan et d’une légende. Problème à plusieurs étapes. Problème mixte : additif – recherche d’une partie – et multiplicatif –comparaison multiplicative de grandeurs. Nécessite la mise en relation d’un texte et d’une figure. | D36: OUI : compte les 36 carreaux de la zone boisée. NON : ne prend pas en compte la légende. | E36: NON : ne prend en compte aucun élément de la légende et compte tous les carreaux dans le rectangle de la figure. | F36: NON : indique l’unité dans la légende. | G36: Contexte familier.
A38: 8 | B38: Une boîte de macarons (biscuits fourrés) contient 3 macarons au café, 3 à la fraise, 6 au chocolat et 4 à la pomme. On prend un macaron les yeux fermés, sans avoir vu la boîte auparavant. On a 25 % de chances d’attraper un macaron... | C38: à la pomme. | D38: au café. | E38: à la fraise. | F38: au chocolat. | G38: SANS REPONSE | H38: =COUNTA('TEST RDP'!A:A)-2 -> 3
B39: NOMBRE DE REPONSES | C39: =COUNTIF('TEST RDP'!$S:$S,'TRAITEMENT RDP'!C$38) -> 0 | D39: =COUNTIF('TEST RDP'!$S:$S,'TRAITEMENT RDP'!D$38) -> 0 | E39: =COUNTIF('TEST RDP'!$S:$S,'TRAITEMENT RDP'!E$38) -> 1 | F39: =COUNTIF('TEST RDP'!$S:$S,'TRAITEMENT RDP'!F$38) -> 2 | G39: =H38-H39 -> 0 | H39: =SUM(C39:F39) -> 3
B40: % DE REPONSES | C40: =C39/$H38 -> 0 | D40: =D39/$H38 -> 0 | E40: =E39/$H38 -> 0.33333333 | F40: =F39/$H38 -> 0.66666667 | G40: =G39/$H38 -> 0 | H40: =SUM(C40:G40) -> 1
A41: TYPE | B41: L’élève doit déterminer quel évènement a une probabilité de 25 %. Problème à plusieurs étapes. Problème mixte : additif – recherche d’un tout –et multiplicatif – proportionnalité simple : déterminer un pourcentage. Peut nécessiter une représentation ou une modélisation. | D41: OUI : associe 25 % à une chance sur 4. NON : confond nombre de parfums différents et nombre de macarons. | E41: NON : confond nombre de parfums différents et nombre de macarons. | F41: NON : indique le parfum le plus représenté. OU : OUI : associe 25 % à une chance sur 4. NON : confond nombre de parfums différents et nombre de macarons. | G41: Contexte familier.
A43: 9 | B43: Anna marche 100 m pour faire le tour de son jardin rectangulaire. La longueur de ce jardin est de 30 m. Quelle est la largeur ? | C43: 20 m | D43: 40 m | E43: 25 m | F43: 35 m | G43: SANS REPONSE | H43: =COUNTA('TEST RDP'!A:A)-2 -> 3
B44: NOMBRE DE REPONSES | C44: =COUNTIF('TEST RDP'!$U:$U,'TRAITEMENT RDP'!C$43) -> 1 | D44: =COUNTIF('TEST RDP'!$U:$U,'TRAITEMENT RDP'!D$43) -> 2 | E44: =COUNTIF('TEST RDP'!$U:$U,'TRAITEMENT RDP'!E$43) -> 0 | F44: =COUNTIF('TEST RDP'!$U:$U,'TRAITEMENT RDP'!F$43) -> 0 | G44: =H43-H44 -> 0 | H44: =SUM(C44:F44) -> 3
B45: % DE REPONSES | C45: =C44/$H43 -> 0.33333333 | D45: =D44/$H43 -> 0.66666667 | E45: =E44/$H43 -> 0 | F45: =F44/$H43 -> 0 | G45: =G44/$H43 -> 0 | H45: =SUM(C45:G45) -> 1
A46: TYPE | B46: L’élève doit déterminer la largeur d’un jardin rectangulaire connaissant son périmètre et sa longueur. Problème à plusieurs étapes. Problème mixte : additif recherche d’une partie –et multiplicatif –recherche de la valeur d'une part. Peut nécessiter une représentation ou une modélisation. | D46: OUI : soustraction de 2 fois la longueur. NON : oublie qu’il y a deux largeurs dans un rectangle et ne divise donc pas par 2. | E46: NON : raisonne comme si la figure était un carré. | F46: NON : pas prise en compte des 2 longueurs dans la soustraction. OUI : divise par 2 pour avoir une largeur. | G46: Contexte familier.
A48: 10 | B48: Tom a mangé 1/2 gâteau. Jean a mangé 1/4 du même gâteau. À eux deux, quelle fraction du gâteau ont-ils mangée ? | C48: 3/4 | D48: 1/6 | E48: 2/6 | F48: 2/4 | G48: SANS REPONSE | H48: =COUNTA('TEST RDP'!A:A)-2 -> 3
B49: NOMBRE DE REPONSES | C49: =COUNTIF('TEST RDP'!$W:$W,'TRAITEMENT RDP'!C$48) -> 0 | D49: =COUNTIF('TEST RDP'!$W:$W,'TRAITEMENT RDP'!D$48) -> 0 | E49: =COUNTIF('TEST RDP'!$W:$W,'TRAITEMENT RDP'!E$48) -> 2 | F49: =COUNTIF('TEST RDP'!$W:$W,'TRAITEMENT RDP'!F$48) -> 1 | G49: =H48-H49 -> 0 | H49: =SUM(C49:F49) -> 3
B50: % DE REPONSES | C50: =C49/$H48 -> 0 | D50: =D49/$H48 -> 0 | E50: =E49/$H48 -> 0.66666667 | F50: =F49/$H48 -> 0.33333333 | G50: =G49/$H48 -> 0 | H50: =SUM(C50:G50) -> 1
A51: TYPE | B51: L’élève doit déterminer le fractionnement correspondant à la somme de deux autres Problème à une étape. Problème additif–recherche d'un tout. Peut nécessiter une représentation ou une modélisation. | D51: NON : garde le numérateur commun et ajoute les dénominateurs entre eux. | E51: NON : ajoute les numérateurs entre eux et les dénominateurs entre eux. | F51: NON : ajoute les numérateurs entre eux et garde le plus grand dénominateur. | G51: Contexte qui peut être familier à certains élèves.
D52: Tous les distracteurs correspondent à des erreurs dans la technique de calcul de la somme de deux fractions.
A54: 11 | B54: Avec 20 L de lait on obtient 1 kg de beurre. Pour obtenir 100 g de beurre il faut … de lait. | C54: 2 L | D54: 2 000 L | E54: 20 cL | F54: 200 L | G54: SANS REPONSE | H54: =COUNTA('TEST RDP'!A:A)-2 -> 3
B55: NOMBRE DE REPONSES | C55: =COUNTIF('TEST RDP'!$Y:$Y,'TRAITEMENT RDP'!C$54) -> 0 | D55: =COUNTIF('TEST RDP'!$Y:$Y,'TRAITEMENT RDP'!D$54) -> 2 | E55: =COUNTIF('TEST RDP'!$Y:$Y,'TRAITEMENT RDP'!E$54) -> 1 | F55: =COUNTIF('TEST RDP'!$Y:$Y,'TRAITEMENT RDP'!F$54) -> 0 | G55: =H54-H55 -> 0 | H55: =SUM(C55:F55) -> 3
B56: % DE REPONSES | C56: =C55/$H54 -> 0 | D56: =D55/$H54 -> 0.66666667 | E56: =E55/$H54 -> 0.33333333 | F56: =F55/$H54 -> 0 | G56: =G55/$H54 -> 0 | H56: =SUM(C56:G56) -> 1
A57: TYPE | B57: L’élève doit doit déterminer une quantité de lait. Problème à une étape. Problème multiplicatif – proportionnalité simple nécessitant une conversion. | D57: NON : multiplie 20 L par 100. | E57: NON : divise 20 L par 100 puis convertit en cL. | F57: NON : multiplie 20 L par 10 au lieu de diviser. | G57: Contexte familier.
A59: 12 | B59: Quand Romain prend sa douche, il ouvre le robinet au maximum pendant 8 minutes et il utilise 80 litres d’eau. Quand il prend un bain, il ouvre le même robinet au maximum pendant 12 minutes. Quel volume d’eau économise-t-il en choisissant de prendre une douche à la place d’un bain ? | C59: 40 L | D59: 160 L | E59: 120 L | F59: 10 L | G59: SANS REPONSE | H59: =COUNTA('TEST RDP'!A:A)-2 -> 3
B60: NOMBRE DE REPONSES | C60: =COUNTIF('TEST RDP'!$AA:$AA,'TRAITEMENT RDP'!C$59) -> 0 | D60: =COUNTIF('TEST RDP'!$AA:$AA,'TRAITEMENT RDP'!D$59) -> 1 | E60: =COUNTIF('TEST RDP'!$AA:$AA,'TRAITEMENT RDP'!E$59) -> 2 | F60: =COUNTIF('TEST RDP'!$AA:$AA,'TRAITEMENT RDP'!F$59) -> 0 | G60: =H59-H60 -> 0 | H60: =SUM(C60:F60) -> 3
B61: % DE REPONSES | C61: =C60/$H59 -> 0 | D61: =D60/$H59 -> 0.33333333 | E61: =E60/$H59 -> 0.66666667 | F61: =F60/$H59 -> 0 | G61: =G60/$H59 -> 0 | H61: =SUM(C61:G61) -> 1
A62: TYPE | B62: L’élève doit déterminer une quantité d’eau économisée. Problème à plusieurs étapes. Problème mixte : additif – comparaison d’états (recherche de la comparaison) – et multiplicatif – proportionnalité simple sans référence à l’unité. | D62: NON : calcule le double de 80 L. | E62: OUI : calcule la quantité d’eau utilisée pour un bain. NON : ne calcule pas l'économie d'eau. | F62: NON : calcule le débit du robinet : 10 L/min. | G62: Contexte familier.
A64: 13 | B64: On considère la figure suivante. On souhaite exprimer l’aire de la surface hachurée en fonction de a et b. | C64: 3(b – a) | D64: 3(b + a) | E64: 3a | F64: 3b | G64: SANS REPONSE | H64: =COUNTA('TEST RDP'!A:A)-2 -> 3
B65: NOMBRE DE REPONSES | C65: =COUNTIF('TEST RDP'!$AC:$AC,'TRAITEMENT RDP'!C$64) -> 2 | D65: =COUNTIF('TEST RDP'!$AC:$AC,'TRAITEMENT RDP'!D$64) -> 1 | E65: =COUNTIF('TEST RDP'!$AC:$AC,'TRAITEMENT RDP'!E$64) -> 0 | F65: =COUNTIF('TEST RDP'!$AC:$AC,'TRAITEMENT RDP'!F$64) -> 0 | G65: =H64-H65 -> 0 | H65: =SUM(C65:F65) -> 3
B66: % DE REPONSES | C66: =C65/$H64 -> 0.66666667 | D66: =D65/$H64 -> 0.33333333 | E66: =E65/$H64 -> 0 | F66: =F65/$H64 -> 0 | G66: =G65/$H64 -> 0 | H66: =SUM(C66:G66) -> 1
A67: Type | B67: L’élève doit exprimer l’aire d’une surface en fonction des lettres a et b. Problème à plusieurs étapes. Problème mixte : additif et multiplicatif. Nécessite la mise en relation d’un texte et d’une figure. | D67: NON : n’exprime pas correctement la longueur du rectangle. OUI : calcule correctement l’aire. | G67: Contexte intra-mathématique.
A69: 14 | B69: On veut carreler un salon de 56 m². Ce salon a la forme d’un rectangle de longueur 8 m. Quelle est la largeur du salon ? | C69: 7 m | D69: 14 m | E69: 64 m | F69: 48 m | G69: SANS REPONSE | H69: =COUNTA('TEST RDP'!A:A)-2 -> 3
B70: NOMBRE DE REPONSES | C70: =COUNTIF('TEST RDP'!$AE:$AE,'TRAITEMENT RDP'!C$69) -> 1 | D70: =COUNTIF('TEST RDP'!$AE:$AE,'TRAITEMENT RDP'!D$69) -> 0 | E70: =COUNTIF('TEST RDP'!$AE:$AE,'TRAITEMENT RDP'!E$69) -> 1 | F70: =COUNTIF('TEST RDP'!$AE:$AE,'TRAITEMENT RDP'!F$69) -> 1 | G70: =H69-H70 -> 0 | H70: =SUM(C70:F70) -> 3
B71: % DE REPONSES | C71: =C70/$H69 -> 0.33333333 | D71: =D70/$H69 -> 0 | E71: =E70/$H69 -> 0.33333333 | F71: =F70/$H69 -> 0.33333333 | G71: =G70/$H69 -> 0 | H71: =SUM(C71:G71) -> 1
A72: TYPE | B72: L’élève doit déterminer la largeur d’un salon rectangulaire. Problème à une étape. Problème multiplicatif (configuration rectangulaire)– recherche d’un facteur. Peut nécessiter une représentation ou une modélisation. | D72: NON : effectue les calculs avec la formule de l’aire d’un triangle. | E72: NON : Raisonnement additif (addition). | F72: NON : Raisonnement additif (soustraction). | G72: Contexte familier.
A74: 15 | B74: Un ébéniste fabrique des figurines en bois. La réalisation complète d’une figurine nécessite 17 minutes. On lui demande de réaliser 11 figurines en trois heures. Est-ce possible s’il travaille sans interruption ? | C74: NON. Il lui manquera sept minutes. | D74: OUI. Il pourra fabriquer douze figurines. | E74: NON. Il pourra fabriquer seulement neuf figurines. | F74: OUI. Il lui faudra moins de deux heures. | G74: SANS REPONSE | H74: =COUNTA('TEST RDP'!A:A)-2 -> 3
B75: NOMBRE DE REPONSES | C75: =COUNTIF('TEST RDP'!$AG:$AG,'TRAITEMENT RDP'!C$74) -> 1 | D75: =COUNTIF('TEST RDP'!$AG:$AG,'TRAITEMENT RDP'!D$74) -> 2 | E75: =COUNTIF('TEST RDP'!$AG:$AG,'TRAITEMENT RDP'!E$74) -> 0 | F75: =COUNTIF('TEST RDP'!$AG:$AG,'TRAITEMENT RDP'!F$74) -> 0 | G75: =H74-H75 -> 0 | H75: =SUM(C75:F75) -> 3
B76: % DE REPONSES | C76: =C75/$H74 -> 0.33333333 | D76: =D75/$H74 -> 0.66666667 | E76: =E75/$H74 -> 0 | F76: =F75/$H74 -> 0 | G76: =G75/$H74 -> 0 | H76: =SUM(C76:G76) -> 1
A77: Type | B77: L’élève doit dire si une situation est possible (pour cela, calculer la durée nécessaire pour réaliser un nombre donné d'objets puis comparer ce temps à une durée donnée). Problème à plusieurs étapes. Problème multiplicatif – proportionnalité simple avec référence à l’unité. Comparaison de durée avec conversion. | D77: NON : 17 min pour une figurine. En déduit qu’il peut en réaliser environ 4 en 1h, donc 12 en 3h. OUI : utilise correctement la proportionnalité. | E77: NON : 17 min pour une figurine. En déduit qu’il ne peut réaliser que 3 figurines en 1h et donc 9 en 3h. OUI : utilise correctement la proportionnalité. | F77: NON : calcule une 4e proportionnelle de manière erronée. OUI : compare correctement son résultat à 2h. | G77: Contexte familier.
A79: 16 | B79: Anna lit un livre de 110 pages. Chaque jour elle en lit 10 %. Combien lit-elle de pages en 7 jours ? | C79: 77 pages | D79: 10 pages | E79: 70 pages | F79: 11 pages | G79: SANS REPONSE | H79: =COUNTA('TEST RDP'!A:A)-2 -> 3
B80: NOMBRE DE REPONSES | C80: =COUNTIF('TEST RDP'!$AI:$AI,'TRAITEMENT RDP'!C$79) -> 0 | D80: =COUNTIF('TEST RDP'!$AI:$AI,'TRAITEMENT RDP'!D$79) -> 1 | E80: =COUNTIF('TEST RDP'!$AI:$AI,'TRAITEMENT RDP'!E$79) -> 2 | F80: =COUNTIF('TEST RDP'!$AI:$AI,'TRAITEMENT RDP'!F$79) -> 0 | G80: =H79-H80 -> 0 | H80: =SUM(C80:F80) -> 3
B81: % DE REPONSES | C81: =C80/$H79 -> 0 | D81: =D80/$H79 -> 0.33333333 | E81: =E80/$H79 -> 0.66666667 | F81: =F80/$H79 -> 0 | G81: =G80/$H79 -> 0 | H81: =SUM(C81:G81) -> 1
A82: TYPE | B82: L’élève doit déterminer le nombre de pages lues en 7 jours. Problème à plusieurs étapes. Problème multiplicatif – proportionnalité simple composée avec recherche de la valeur finale. Peut nécessiter une représentation ou une modélisation. | D82: NON : confond 10 % et 10 pages. NON : n’indique que le nombre de pages lues en un jour. | E82: NON : confond 10 % et 10 pages. OUI : calcule correctement le nombre de pages lues en 7 jours. | F82: OUI : calcule le nombre de pages lues en un jour. NON : ne calcule pas le nombre de pages lues en 7 jours. | G82: Contexte familier.
A84: 17 | B84: Il faut 80 g de fleurs de crocus pour obtenir 1 g de safran. Quelle masse de safran un producteur pourra-t-il produire avec 1kg de fleurs de crocus ? | C84: 12,5 g | D84: 80 kg | E84: 80 g | F84: 12,5 kg | G84: SANS REPONSE | H84: =COUNTA('TEST RDP'!A:A)-2 -> 3
B85: NOMBRE DE REPONSES | C85: =COUNTIF('TEST RDP'!$AK:$AK,'TRAITEMENT RDP'!C$84) -> 0 | D85: =COUNTIF('TEST RDP'!$AK:$AK,'TRAITEMENT RDP'!D$84) -> 2 | E85: =COUNTIF('TEST RDP'!$AK:$AK,'TRAITEMENT RDP'!E$84) -> 1 | F85: =COUNTIF('TEST RDP'!$AK:$AK,'TRAITEMENT RDP'!F$84) -> 0 | G85: =H84-H85 -> 0 | H85: =SUM(C85:F85) -> 3
B86: % DE REPONSES | C86: =C85/$H84 -> 0 | D86: =D85/$H84 -> 0.66666667 | E86: =E85/$H84 -> 0.33333333 | F86: =F85/$H84 -> 0 | G86: =G85/$H84 -> 0 | H86: =SUM(C86:G86) -> 1
A87: Type | B87: L’élève doit déterminer une masse. Problème à une étape. Problème multiplicatif – proportionnalité simple nécessitant une conversion. | D87: NON : associe 1 g avec 1 kg. OUI : repère bien la proportionnalité. | E87: NON : associe 1 g avec 1 kg sans tenir compte des unités. OUI : repère bien la proportionnalité. | F87: OUI : démarche correcte. NON : erreur d’unité. | G87: Contexte familier.
A89: 18 | B89: Dans une fratrie de 5 enfants, un seul est gaucher et les autres sont droitiers. Quel est le pourcentage d’enfants droitiers dans cette fratrie ? | C89: 0.8 | D89: 0.04 | E89: 0.2 | F89: 0.75 | G89: SANS REPONSE | H89: =COUNTA('TEST RDP'!A:A)-2 -> 3
B90: NOMBRE DE REPONSES | C90: =COUNTIF('TEST RDP'!$AM:$AM,'TRAITEMENT RDP'!C$89) -> 3 | D90: =COUNTIF('TEST RDP'!$AM:$AM,'TRAITEMENT RDP'!D$89) -> 0 | E90: =COUNTIF('TEST RDP'!$AM:$AM,'TRAITEMENT RDP'!E$89) -> 0 | F90: =COUNTIF('TEST RDP'!$AM:$AM,'TRAITEMENT RDP'!F$89) -> 0 | G90: =H89-H90 -> 0 | H90: =SUM(C90:F90) -> 3
B91: % DE REPONSES | C91: =C90/$H89 -> 1 | D91: =D90/$H89 -> 0 | E91: =E90/$H89 -> 0 | F91: =F90/$H89 -> 0 | G91: =G90/$H89 -> 0 | H91: =SUM(C91:G91) -> 1
A92: TYPE | B92: L’élève doit trouver le pourcentage d’enfants droitiers connaissant le nombre total d’enfants et le nombre de gauchers. Problème à plusieurs étapes. Problème mixte : additif – recherche d’une partie – et multiplicatif – proportionnalité simple : déterminer un pourcentage. Peut nécessiter une représentation ou une modélisation. | D92: NON : confond le nombre d’enfants droitiers et le pourcentage. | E92: OUI : calcule correctement le pourcentage d’élèves gauchers. NON : ne répond pas à la question (mauvaise lecture de l'énoncé). | F92: NON : compare le nombre de gauchers au nombre de droitiers et aboutit à un quart, soit 25%. En déduit le pourcentage de droitiers. | G92: Contexte familier.
C94: Image H | D94: Image HH | E94: Image B | F94: Image BB
A95: 19 | B95: Voici la composition de l’œuf. En moyenne, un œuf pèse 60 g. Lequel des tableaux ci-dessous est correct ? | G95: SANS REPONSE | H95: =COUNTA('TEST RDP'!A:A)-2 -> 3
B96: NOMBRE DE REPONSES | C96: =COUNTIF('TEST RDP'!$AO:$AO,'TRAITEMENT RDP'!C$94) -> 0 | D96: =COUNTIF('TEST RDP'!$AO:$AO,'TRAITEMENT RDP'!D$94) -> 3 | E96: =COUNTIF('TEST RDP'!$AO:$AO,'TRAITEMENT RDP'!E$94) -> 0 | F96: =COUNTIF('TEST RDP'!$AO:$AO,'TRAITEMENT RDP'!F$94) -> 0 | G96: =H95-H96 -> 0 | H96: =SUM(C96:F96) -> 3
B97: % DE REPONSES | C97: =C96/$H95 -> 0 | D97: =D96/$H95 -> 1 | E97: =E96/$H95 -> 0 | F97: =F96/$H95 -> 0 | G97: =G96/$H95 -> 0 | H97: =SUM(C97:G97) -> 1
A98: TYPE | B98: L’élève doit déterminer quel tableau correspond à la situation et au diagramme circulaire proposés. Problème à plusieurs étapes. Problème multiplicatif – proportionnalité simple sans référence à l’unité. Nécessite la mise en relations de plusieurs modes de représentation de données. Peut nécessiter une représentation ou une modélisation. | D98: NON : erreur pour la masse de la coquille. | E98: NON : erreur pour les masses du blanc et du jaune. | F98: NON : reprend les valeurs de l’énoncé à l’identique. | G98: Contexte familier.

Sheet TRAIT RDP-pdf
A1: PAGE A IMPRIMER EN PDF POUR UN TRAVAIL CIBLE PAR ITEM (pour liaison cycle 4, en équipe COLLEGE, etc.)
C13: 10 | D13: ='TRAITEMENT RDP'!C4 -> 3 | E13: =D13/D$18 -> 1
C14: 5 | D14: ='TRAITEMENT RDP'!D4 -> 0 | E14: =D14/D$18 -> 0 | F14: NON : reprend uniquement le 5 de 5 kg sans calculer.
C15: 6 | D15: =COUNTIF('TEST RDP'!E:E,C15) -> 0 | E15: =D15/D$18 -> 0 | F15: NON : champ additif. NON : considère que la masse augmentant de 4, le prix augmente aussi de 4.
C16: 7 | D16: ='TRAITEMENT RDP'!F4 -> 0 | E16: =D16/D$18 -> 0 | F16: NON : champ additif.
C17: pas de réponse | D17: =D18-(D13+D14+D15+D16) -> 0 | E17: =D17/D$18 -> 0
C18: Total | D18: =COUNTA('TEST RDP'!C:C)-1 -> 3 | E18: =SUM(E13:E17) -> 1
C30: 40 m | D30: ='TRAITEMENT RDP'!C9 -> 1 | E30: =D30/D$18 -> 0.33333333
C31: 170 m | D31: ='TRAITEMENT RDP'!D9 -> 1 | E31: =D31/D$18 -> 0.33333333 | F31: OUI : connaissance de la notion de périmètre. NON : pense que la somme des deux derniers doit être égale à 50 m (les trois autres côtés étant égaux à 50 m).
C32: 30 m | D32: ='TRAITEMENT RDP'!E9 -> 1 | E32: =D32/D$18 -> 0.33333333 | F32: OUI : calcule la somme des longueurs des côtés indiqués. NON : oublie de soustraire ce résultat au périmètre.
C33: 210 m | D33: ='TRAITEMENT RDP'!F9 -> 0 | E33: =D33/D$18 -> 0 | F33: NON : reprend le périmètre du terrain.
C34: pas de réponse | D34: =D35-(D30+D31+D32+D33) -> 0 | E34: =D34/D$18 -> 0
C35: Total | D35: =COUNTA('TEST RDP'!C:C)-1 -> 3 | E35: =SUM(E30:E34) -> 1
C46: 4 min | D46: =+'TRAITEMENT RDP'!C14 -> 1 | E46: =D46/D$18 -> 0.33333333
C47: 36 min | D47: =+'TRAITEMENT RDP'!D14 -> 0 | E47: =D47/D$18 -> 0 | F47: OUI : comprend bien que 3 est un coefficient - champ multiplicatif. NON : multiplie au lieu de diviser (erreur sur le référent).
C48: 15 min | D48: =+'TRAITEMENT RDP'!E14 -> 2 | E48: =D48/D$18 -> 0.66666667 | F48: NON : additif.
C49: 3 min | D49: =+'TRAITEMENT RDP'!F14 -> 0 | E49: =D49/D$18 -> 0 | F49: NON : comprend "3 fois plus rapide" comme étant 3 min.
C50: pas de réponse | D50: =D51-(D46+D47+D48+D49) -> 0 | E50: =D50/D$18 -> 0
C51: Total | D51: =COUNTA('TEST RDP'!C:C)-1 -> 3 | E51: =SUM(E46:E50) -> 1
C61: 7.2 | D61: ='TRAITEMENT RDP'!C19 -> 1 | E61: =D61/D$18 -> 0.33333333
C62: 0.9 | D62: ='TRAITEMENT RDP'!D19 -> 0 | E62: =D62/D$18 -> 0 | F62: OUI : calcule correctement le prix d’un pain. NON : s’arrête à cette première étape.
C63: 7.1 | D63: ='TRAITEMENT RDP'!E19 -> 1 | E63: =D63/D$18 -> 0.33333333 | F63: NON : soustrait 1 au nombre de pains donc soustrait 1 au prix.
C64: 7.3 | D64: ='TRAITEMENT RDP'!F19 -> 1 | E64: =D64/D$18 -> 0.33333333 | F64: NON : ajoute 1 au nombre de pains donc ajoute 1 au prix.
C65: pas de réponse | D65: =D66-(D61+D62+D63+D64) -> 0 | E65: =D65/D$18 -> 0
C66: Total | D66: =COUNTA('TEST RDP'!C:C)-1 -> 3 | E66: =SUM(E61:E65) -> 1
C74: 33 | D74: =+'TRAITEMENT RDP'!C24 -> 3 | E74: =D74/D$18 -> 1
C75: 27 | D75: ='TRAITEMENT RDP'!D24 -> 0 | E75: =D75/D$18 -> 0 | F75: NON : ajoute 5 au nombre d'objets donc ajoute 5 au prix.33
C76: 15 | D76: ='TRAITEMENT RDP'!E24 -> 0 | E76: =D76/D$18 -> 0 | F76: NON : reprend le nombre d’objets pour lequel il faut calculer le prix.
C77: 47 | D77: ='TRAITEMENT RDP'!F24 -> 0 | E77: =D77/D$18 -> 0 | F77: NON : additionne les trois nombres de l’énoncé.
C78: pas de réponse | D78: =D79-(D74+D75+D76+D77) -> 0 | E78: =D78/D$18 -> 0
C79: Total | D79: =COUNTA('TEST RDP'!C:C)-1 -> 3 | E79: =SUM(E74:E78) -> 1
C89: 20 km | D89: ='TRAITEMENT RDP'!C29 -> 1 | E89: =D89/D$18 -> 0.33333333
C90: 10 km | D90: ='TRAITEMENT RDP'!D29 -> 0 | E90: =D90/D$18 -> 0 | F90: NON : calcule le sixième.
C91: 12 km | D91: ='TRAITEMENT RDP'!E29 -> 0 | E91: =D91/D$18 -> 0 | F91: NON : calcule le cinquième.
C92: 15 km | D92: ='TRAITEMENT RDP'!F29 -> 2 | E92: =D92/D$18 -> 0.66666667 | F92: NON : calcule le quart.
C93: pas de réponse | D93: =D94-(D89+D90+D91+D92) -> 0 | E93: =D93/D$18 -> 0
C94: Total | D94: =COUNTA('TEST RDP'!C:C)-1 -> 3 | E94: =SUM(E89:E93) -> 1
C103: 9 | D103: ='TRAITEMENT RDP'!C34 -> 1 | E103: =D103/D$18 -> 0.33333333
C104: 36 | D104: ='TRAITEMENT RDP'!D34 -> 1 | E104: =D104/D$18 -> 0.33333333 | F104: OUI : compte les 36 carreaux de la zone boisée. NON : ne prend pas en compte la légende.
C105: 60 | D105: ='TRAITEMENT RDP'!E34 -> 1 | E105: =D105/D$18 -> 0.33333333 | F105: NON : ne prend en compte aucun élément de la légende et compte tous les carreaux dans le rectangle de la figure.
C106: 4 | D106: ='TRAITEMENT RDP'!F34 -> 0 | E106: =D106/D$18 -> 0 | F106: NON : indique l’unité dans la légende.
C107: pas de réponse | D107: =D108-(D103+D104+D105+D106) -> 0 | E107: =D107/D$18 -> 0
C108: Total | D108: =COUNTA('TEST RDP'!C:C)-1 -> 3 | E108: =SUM(E103:E107) -> 1
C119: à la pomme. | D119: ='TRAITEMENT RDP'!C39 -> 0 | E119: =D119/D$18 -> 0
C120: au café. | D120: ='TRAITEMENT RDP'!D39 -> 0 | E120: =D120/D$18 -> 0 | F120: OUI : associe 25 % à une chance sur 4. NON : confond nombre de parfums différents et nombre de macarons.
C121: à la fraise. | D121: ='TRAITEMENT RDP'!E39 -> 1 | E121: =D121/D$18 -> 0.33333333 | F121: NON : confond nombre de parfums différents et nombre de macarons.
C122: au chocolat. | D122: ='TRAITEMENT RDP'!F39 -> 2 | E122: =D122/D$18 -> 0.66666667 | F122: NON : indique le parfum le plus représenté. OU : OUI : associe 25 % à une chance sur 4. NON : confond nombre de parfums différents et nombre de macarons.
C123: pas de réponse | D123: =D124-(D119+D120+D121+D122) -> 0 | E123: =D123/D$18 -> 0
C124: Total | D124: =COUNTA('TEST RDP'!C:C)-1 -> 3 | E124: =SUM(E119:E123) -> 1
C133: 20 m | D133: ='TRAITEMENT RDP'!C44 -> 1 | E133: =D133/D$18 -> 0.33333333
C134: 40 m | D134: ='TRAITEMENT RDP'!D44 -> 2 | E134: =D134/D$18 -> 0.66666667 | F134: OUI : soustraction de 2 fois la longueur. NON : oublie qu’il y a deux largeurs dans un rectangle et ne divise donc pas par 2.
C135: 25 m | D135: ='TRAITEMENT RDP'!E44 -> 0 | E135: =D135/D$18 -> 0 | F135: NON : raisonne comme si la figure était un carré.
C136: 35 m | D136: ='TRAITEMENT RDP'!F44 -> 0 | E136: =D136/D$18 -> 0 | F136: NON : pas prise en compte des 2 longueurs dans la soustraction. OUI : divise par 2 pour avoir une largeur.
C137: pas de réponse | D137: =D138-(D133+D134+D135+D136) -> 0 | E137: =D137/D$18 -> 0
C138: Total | D138: =COUNTA('TEST RDP'!C:C)-1 -> 3 | E138: =SUM(E133:E137) -> 1
C148: 3/4 | D148: ='TRAITEMENT RDP'!C49 -> 0 | E148: =D148/D$18 -> 0
C149: 1/6 | D149: ='TRAITEMENT RDP'!D49 -> 0 | E149: =D149/D$18 -> 0 | F149: NON : garde le numérateur commun et ajoute les dénominateurs entre eux.
C150: 2/6 | D150: ='TRAITEMENT RDP'!E49 -> 2 | E150: =D150/D$18 -> 0.66666667 | F150: NON : ajoute les numérateurs entre eux et les dénominateurs entre eux.
C151: 2/4 | D151: ='TRAITEMENT RDP'!F49 -> 1 | E151: =D151/D$18 -> 0.33333333 | F151: NON : ajoute les numérateurs entre eux et garde le plus grand dénominateur.
C152: pas de réponse | D152: =D153-(D148+D149+D150+D151) -> 0 | E152: =D152/D$18 -> 0
C153: Total | D153: =COUNTA('TEST RDP'!C:C)-1 -> 3 | E153: =SUM(E148:E152) -> 1
C161: 2 L | D161: ='TRAITEMENT RDP'!$C$55 -> 0 | E161: =D161/D$18 -> 0
C162: 2 000 L | D162: ='TRAITEMENT RDP'!$D$55 -> 2 | E162: =D162/D$18 -> 0.66666667 | F162: NON : multiplie 20 L par 100.
C163: 20 cL | D163: ='TRAITEMENT RDP'!$E$55 -> 1 | E163: =D163/D$18 -> 0.33333333 | F163: NON : divise 20 L par 100 puis convertit en cL.
C164: 200 L | D164: ='TRAITEMENT RDP'!$F$55 -> 0 | E164: =D164/D$18 -> 0 | F164: NON : multiplie 20 L par 10 au lieu de diviser.
C165: pas de réponse | D165: =D166-(D161+D162+D163+D164) -> 0 | E165: =D165/D$18 -> 0
C166: Total | D166: =COUNTA('TEST RDP'!C:C)-1 -> 3 | E166: =SUM(E161:E165) -> 1
C178: 40 L | D178: ='TRAITEMENT RDP'!C60 -> 0 | E178: =D178/D$18 -> 0
C179: 160 L | D179: ='TRAITEMENT RDP'!D60 -> 1 | E179: =D179/D$18 -> 0.33333333 | F179: NON : calcule le double de 80 L.
C180: 120 L | D180: ='TRAITEMENT RDP'!E60 -> 2 | E180: =D180/D$18 -> 0.66666667 | F180: OUI : calcule la quantité d’eau utilisée pour un bain. NON : ne calcule pas l'économie d'eau.
C181: 10 L | D181: ='TRAITEMENT RDP'!F60 -> 0 | E181: =D181/D$18 -> 0 | F181: NON : calcule le débit du robinet : 10 L/min.
C182: pas de réponse | D182: =D183-(D178+D179+D180+D181) -> 0 | E182: =D182/D$18 -> 0
C183: Total | D183: =COUNTA('TEST RDP'!C:C)-1 -> 3 | E183: =SUM(E178:E182) -> 1
C195: 3(b-a) | D195: ='TRAITEMENT RDP'!C65 -> 2 | E195: =D195/D$18 -> 0.66666667
C196: 3(b+a) | D196: ='TRAITEMENT RDP'!D65 -> 1 | E196: =D196/D$18 -> 0.33333333 | F196: NON : n’exprime pas correctement la longueur du
C197: 3a | D197: ='TRAITEMENT RDP'!E65 -> 0 | E197: =D197/D$18 -> 0 | F197: rectangle.
C198: 3b | D198: ='TRAITEMENT RDP'!F65 -> 0 | E198: =D198/D$18 -> 0 | F198: OUI : calcule correctement l’aire.
C199: pas de réponse | D199: =D200-(D195+D196+D197+D198) -> 0 | E199: =D199/D$18 -> 0
C200: Total | D200: =COUNTA('TEST RDP'!C:C)-1 -> 3 | E200: =SUM(E195:E199) -> 1
C209: 7 m | D209: ='TRAITEMENT RDP'!C70 -> 1 | E209: =D209/D$18 -> 0.33333333
C210: 14 m | D210: ='TRAITEMENT RDP'!D70 -> 0 | E210: =D210/D$18 -> 0 | F210: NON : effectue les calculs avec la formule de l’aire d’un triangle.
C211: 64 m | D211: ='TRAITEMENT RDP'!E70 -> 1 | E211: =D211/D$18 -> 0.33333333 | F211: NON : Raisonnement additif (addition).
C212: 48 m | D212: ='TRAITEMENT RDP'!F70 -> 1 | E212: =D212/D$18 -> 0.33333333 | F212: NON : Raisonnement additif (soustraction).
C213: pas de réponse | D213: =D214-(D209+D210+D211+D212) -> 0 | E213: =D213/D$18 -> 0
C214: Total | D214: =COUNTA('TEST RDP'!C:C)-1 -> 3 | E214: =SUM(E209:E213) -> 1
C225: NON. Il lui manquera sept minutes. | D225: ='TRAITEMENT RDP'!C75 -> 1 | E225: =D225/D$230 -> 0.33333333
C226: OUI. Il pourra fabriquer douze figurines. | D226: ='TRAITEMENT RDP'!D75 -> 2 | E226: =D226/D$230 -> 0.66666667 | F226: NON : 17 min pour une figurine. En déduit qu’il peut en réaliser environ 4 en 1h, donc 12 en 3h. OUI : utilise correctement la proportionnalité.
C227: NON. Il pourra fabriquer seulement neuf figurines. | D227: ='TRAITEMENT RDP'!E75 -> 0 | E227: =D227/D$230 -> 0 | F227: NON : 17 min pour une figurine. En déduit qu’il ne peut réaliser que 3 figurines en 1h et donc 9 en 3h. OUI : utilise correctement la proportionnalité.
C228: OUI. Il lui faudra moins de deux heures. | D228: ='TRAITEMENT RDP'!F75 -> 0 | E228: =D228/D$230 -> 0 | F228: NON : calcule une 4e proportionnelle de manière erronée. OUI : compare correctement son résultat à 2h.
C229: pas de réponse | D229: =D230-(D225+D226+D227+D228) -> 0 | E229: =D229/D$230 -> 0
C230: Total | D230: =COUNTA('TEST RDP'!C:C)-1 -> 3 | E230: =SUM(E225:E229) -> 1
C240: 77 pages | D240: ='TRAITEMENT RDP'!C80 -> 0 | E240: =D240/D$18 -> 0
C241: 10 pages | D241: ='TRAITEMENT RDP'!D80 -> 1 | E241: =D241/D$18 -> 0.33333333 | F241: NON : confond 10 % et 10 pages. NON : n’indique que le nombre de pages lues en un jour.
C242: 70 pages | D242: ='TRAITEMENT RDP'!E80 -> 2 | E242: =D242/D$18 -> 0.66666667 | F242: NON : confond 10 % et 10 pages. OUI : calcule correctement le nombre de pages lues en 7 jours.
C243: 11 pages | D243: ='TRAITEMENT RDP'!F80 -> 0 | E243: =D243/D$18 -> 0 | F243: OUI : calcule le nombre de pages lues en un jour. NON : ne calcule pas le nombre de pages lues en 7 jours.
C244: pas de réponse | D244: =D245-(D240+D241+D242+D243) -> 0 | E244: =D244/D$18 -> 0
C245: Total | D245: =COUNTA('TEST RDP'!C:C)-1 -> 3 | E245: =SUM(E240:E244) -> 1
C256: 12,5 g | D256: ='TRAITEMENT RDP'!C85 -> 0 | E256: =D256/D$18 -> 0
C257: 80 kg | D257: ='TRAITEMENT RDP'!D85 -> 2 | E257: =D257/D$18 -> 0.66666667 | F257: NON : associe 1 g avec 1 kg. OUI : repère bien la proportionnalité.
C258: 80 g | D258: ='TRAITEMENT RDP'!E85 -> 1 | E258: =D258/D$18 -> 0.33333333 | F258: NON : associe 1 g avec 1 kg sans tenir compte des unités. OUI : repère bien la proportionnalité.
...

Sheet ANALYSE RDP
A1: TABLEAU ET GRAPHIQUES GENERES AUTOMATIQUEMENT = ANALYSE DES REUSSITES PAR TYPE D'ITEMS, PAR FAMILLES DE PROBLEMES, PAR STRUCTURE-DOMAINE MATHEMATIQUE DU PROBLEME OU STRATEGIE-> PILOTAGE DIDACTIQUE SUR TOUT LE CYCLE 4
A2: STRUCTURE-DOMAINE MATHEMATIQUE/ STRATEGIE FAMILLES DE PROBLEMES (% DE REUSSITES) | B2: STRUCTURE/DOMAINE MATHEMATIQUE DU PROBLEME | H2: STRATEGIE
B3: ADDITIF | C3: MULTIPLICATIF | D3: PROPORTIONNALITE | E3: MIXTE : additif + multiplicatif ou proportionnalité | F3: NECESSITE UNE CONVERSION | G3: NECESSITE UNE MISE EN RELATION TEXTE ET FIGURE ou PLUSIEURS REPRESENTATIONS DE DONNEES | H3: PEUT NECESSITER UNE REPRESENTATION OU UNE MODELISATION (schéma au brouillon, modèle en barres, etc.) | I3: TOTAL
A4: PROBLEMES A 1 ETAPE | B4: ITEM : 10 | C4: ITEMS : 3-6-14 | D4: ITEMS : 1-11-17 | F4: ITEMS : 11-17 | H4: ITEMS : 3-6-10-14 | I4: =D33 -> 0.28571429
B5: ='TRAITEMENT RDP'!C50 -> 0 | C5: =AVERAGE('TRAITEMENT RDP'!C15,'TRAITEMENT RDP'!C30,'TRAITEMENT RDP'!C71) -> 0.33333333 | D5: =AVERAGE('TRAITEMENT RDP'!C5,'TRAITEMENT RDP'!C56,'TRAITEMENT RDP'!C86) -> 0.33333333 | F5: =AVERAGE('TRAITEMENT RDP'!C56,'TRAITEMENT RDP'!C86) -> 0 | H5: =AVERAGE('TRAITEMENT RDP'!C15,'TRAITEMENT RDP'!C30,'TRAITEMENT RDP'!C50,'TRAITEMENT RDP'!C71) -> 0.25
A6: PROBLEMES A PLUSIEURS ETAPES | B6: ITEM : 2 | D6: ITEMS : 4-5-15-16-19 | E6: ITEMS : 7-8-9-12-13-18 | F6: ITEM : 15 | G6: ITEMS : 2-7-13-19 | H6: ITEMS : 2-8-9-16-18-19 | I6: =D40 -> 0.36111111
B7: ='TRAITEMENT RDP'!C10 -> 0.33333333 | D7: =AVERAGE('TRAITEMENT RDP'!C20,'TRAITEMENT RDP'!C25,'TRAITEMENT RDP'!C76,'TRAITEMENT RDP'!C81,'TRAITEMENT RDP'!C97) -> 0.33333333 | E7: =AVERAGE('TRAITEMENT RDP'!C35,'TRAITEMENT RDP'!C40,'TRAITEMENT RDP'!C45,'TRAITEMENT RDP'!C61,'TRAITEMENT RDP'!C66,'TRAITEMENT RDP'!C91) -> 0.38888889 | F7: ='TRAITEMENT RDP'!C76 -> 0.33333333 | G7: =AVERAGE('TRAITEMENT RDP'!C10,'TRAITEMENT RDP'!C35,'TRAITEMENT RDP'!C66,'TRAITEMENT RDP'!C97) -> 0.33333333 | H7: =AVERAGE('TRAITEMENT RDP'!C10,'TRAITEMENT RDP'!C40,'TRAITEMENT RDP'!C45,'TRAITEMENT RDP'!C81,'TRAITEMENT RDP'!C91,'TRAITEMENT RDP'!C97) -> 0.27777778
A8: TOTAL | B8: =D54 -> 0.16666667 | C8: =D56 -> 0.33333333 | D8: =D59 -> 0.33333333 | E8: =D67 -> 0.38888889 | F8: =D73 -> 0.11111111 | G8: =D76 -> 0.33333333 | H8: =D80 -> 0.26666667 | K8: Voir ITEMS
K9: ↙↙↙↙↙
K10: ↙↙↙↙↙
A11: Descriptif de la tâche | B11: ITEMS RDP | C11: % DE REUSSITE | K11: ↙↙↙↙↙
A12: Problème multiplicatif – proportionnalité simple avec référence à l’unité. | B12: 1 | C12: ='TRAITEMENT RDP'!C5 -> 1
A13: Problème additif – recherche d’une partie d’un tout. | B13: 2 | C13: ='TRAITEMENT RDP'!C10 -> 0.33333333
A14: Problème multiplicatif – comparaison multiplicative de grandeurs « fois plus » avec recherche du résultat. Peut nécessiter une représentation ou une modélisation. | B14: 3 | C14: ='TRAITEMENT RDP'!C15 -> 0.33333333
A15: Problème multiplicatif – proportionnalité simple sans référence à l’unité. | B15: 4 | C15: ='TRAITEMENT RDP'!C20 -> 0.33333333
A16: Problème multiplicatif – proportionnalité simple sans référence à l’unité. | B16: 5 | C16: ='TRAITEMENT RDP'!C25 -> 1
A17: Problème multiplicatif – fraction d’une grandeur. Peut nécessiter une représentation ou une modélisation. | B17: 6 | C17: ='TRAITEMENT RDP'!C30 -> 0.33333333
A18: Problème mixte : additif – recherche d’une partie – et multiplicatif –comparaison multiplicative de grandeurs. Nécessite la mise en relation d’un texte et d’une figure. | B18: 7 | C18: ='TRAITEMENT RDP'!C35 -> 0.33333333
A19: Problème mixte : additif – recherche d’un tout –et multiplicatif – proportionnalité simple : déterminer un pourcentage. Peut nécessiter une représentation ou une modélisation. | B19: 8 | C19: ='TRAITEMENT RDP'!C40 -> 0
A20: Problème mixte : additif recherche d’une partie –et multiplicatif –recherche de la valeur d'une part. Peut nécessiter une représentation ou une modélisation. | B20: 9 | C20: ='TRAITEMENT RDP'!C45 -> 0.33333333
A21: Problème additif–recherche d'un tout. Peut nécessiter une représentation ou une modélisation. | B21: 10 | C21: ='TRAITEMENT RDP'!C50 -> 0
A22: Problème multiplicatif – proportionnalité simple nécessitant une conversion. | B22: 11 | C22: ='TRAITEMENT RDP'!C56 -> 0
A23: Problème mixte : additif – comparaison d’états (recherche de la comparaison) – et multiplicatif – proportionnalité simple sans référence à l’unité. | B23: 12 | C23: ='TRAITEMENT RDP'!C61 -> 0
A24: Problème mixte : additif et multiplicatif. Nécessite la mise en relation d’un texte et d’une figure. | B24: 13 | C24: ='TRAITEMENT RDP'!C66 -> 0.66666667
A25: Problème multiplicatif (configuration rectangulaire)– recherche d’un facteur. Peut nécessiter une représentation ou une modélisation. | B25: 14 | C25: ='TRAITEMENT RDP'!C71 -> 0.33333333
A26: Problème multiplicatif – proportionnalité simple avec référence à l’unité. Comparaison de durée avec conversion. | B26: 15 | C26: ='TRAITEMENT RDP'!C76 -> 0.33333333
A27: Problème multiplicatif – proportionnalité simple composée avec recherche de la valeur finale. Peut nécessiter une représentation ou une modélisation. | B27: 16 | C27: ='TRAITEMENT RDP'!C81 -> 0
A28: Problème multiplicatif – proportionnalité simple nécessitant une conversion. | B28: 17 | C28: ='TRAITEMENT RDP'!C86 -> 0
A29: Problème mixte : additif – recherche d’une partie – et multiplicatif – proportionnalité simple : déterminer un pourcentage. Peut nécessiter une représentation ou une modélisation. | B29: 18 | C29: ='TRAITEMENT RDP'!C91 -> 1
A30: Problème multiplicatif – proportionnalité simple sans référence à l’unité. Nécessite la mise en relations de plusieurs modes de représentation de données. Peut nécessiter une représentation ou une modélisation. | B30: 19 | C30: ='TRAITEMENT RDP'!C97 -> 0
A32: REGROUPEMENTS PAR FAMILLE DE PROBLEMES | B32: ITEMS RDP | C32: % DE REUSSITE | D32: % DE REUSSITE
A33: Problème multiplicatif – proportionnalité simple avec référence à l’unité. | B33: 1 | C33: ='TRAITEMENT RDP'!C5 -> 1 | D33: =AVERAGE(C33:C39) -> 0.28571429
A34: Problème multiplicatif – comparaison multiplicative de grandeurs « fois plus » avec recherche du résultat. Peut nécessiter une représentation ou une modélisation. | B34: 3 | C34: ='TRAITEMENT RDP'!C15 -> 0.33333333
A35: Problème multiplicatif – fraction d’une grandeur. Peut nécessiter une représentation ou une modélisation. | B35: 6 | C35: ='TRAITEMENT RDP'!C30 -> 0.33333333
A36: Problème additif–recherche d'un tout. Peut nécessiter une représentation ou une modélisation. | B36: 10 | C36: ='TRAITEMENT RDP'!C50 -> 0
A37: Problème multiplicatif – proportionnalité simple nécessitant une conversion. | B37: 11 | C37: ='TRAITEMENT RDP'!C56 -> 0
A38: Problème multiplicatif (configuration rectangulaire)– recherche d’un facteur. Peut nécessiter une représentation ou une modélisation. | B38: 14 | C38: ='TRAITEMENT RDP'!C71 -> 0.33333333
A39: Problème multiplicatif – proportionnalité simple nécessitant une conversion. | B39: 17 | C39: ='TRAITEMENT RDP'!C86 -> 0
A40: Problème additif – recherche d’une partie d’un tout. | B40: 2 | C40: ='TRAITEMENT RDP'!C10 -> 0.33333333 | D40: =AVERAGE(C40:C51) -> 0.36111111
A41: Problème multiplicatif – proportionnalité simple sans référence à l’unité. | B41: 4 | C41: ='TRAITEMENT RDP'!C20 -> 0.33333333
A42: Problème multiplicatif – proportionnalité simple sans référence à l’unité. | B42: 5 | C42: ='TRAITEMENT RDP'!C25 -> 1
A43: Problème mixte : additif – recherche d’une partie – et multiplicatif –comparaison multiplicative de grandeurs. Nécessite la mise en relation d’un texte et d’une figure. | B43: 7 | C43: ='TRAITEMENT RDP'!C35 -> 0.33333333
A44: Problème mixte : additif – recherche d’un tout –et multiplicatif – proportionnalité simple : déterminer un pourcentage. Peut nécessiter une représentation ou une modélisation. | B44: 8 | C44: ='TRAITEMENT RDP'!C40 -> 0
A45: Problème mixte : additif recherche d’une partie –et multiplicatif –recherche de la valeur d'une part. Peut nécessiter une représentation ou une modélisation. | B45: 9 | C45: ='TRAITEMENT RDP'!C45 -> 0.33333333
A46: Problème mixte : additif – comparaison d’états (recherche de la comparaison) – et multiplicatif – proportionnalité simple sans référence à l’unité. | B46: 12 | C46: ='TRAITEMENT RDP'!C61 -> 0
A47: Problème mixte : additif et multiplicatif. Nécessite la mise en relation d’un texte et d’une figure. | B47: 13 | C47: ='TRAITEMENT RDP'!C66 -> 0.66666667
A48: Problème multiplicatif – proportionnalité simple avec référence à l’unité. Comparaison de durée avec conversion. | B48: 15 | C48: ='TRAITEMENT RDP'!C76 -> 0.33333333
A49: Problème multiplicatif – proportionnalité simple composée avec recherche de la valeur finale. Peut nécessiter une représentation ou une modélisation. | B49: 16 | C49: ='TRAITEMENT RDP'!C81 -> 0
A50: Problème mixte : additif – recherche d’une partie – et multiplicatif – proportionnalité simple : déterminer un pourcentage. Peut nécessiter une représentation ou une modélisation. | B50: 18 | C50: ='TRAITEMENT RDP'!C91 -> 1
A51: Problème multiplicatif – proportionnalité simple sans référence à l’unité. Nécessite la mise en relations de plusieurs modes de représentation de données. Peut nécessiter une représentation ou une modélisation. | B51: 19 | C51: ='TRAITEMENT RDP'!C97 -> 0
A53: REGROUPEMENTS PAR STRUCTURE-DOMAINE MATHEMATIQUE DU PROBLEME OU STRATEGIE | B53: ITEMS RDP | C53: % DE REUSSITE | D53: % DE REUSSITE
A54: Problème additif – recherche d’une partie d’un tout. | B54: 2 | C54: ='TRAITEMENT RDP'!C10 -> 0.33333333 | D54: =AVERAGE(C54:C55) -> 0.16666667
A55: Problème additif–recherche d'un tout. Peut nécessiter une représentation ou une modélisation. | B55: 10 | C55: ='TRAITEMENT RDP'!C50 -> 0
A56: Problème multiplicatif – comparaison multiplicative de grandeurs « fois plus » avec recherche du résultat. Peut nécessiter une représentation ou une modélisation. | B56: 3 | C56: ='TRAITEMENT RDP'!C15 -> 0.33333333 | D56: =AVERAGE(C56:C58) -> 0.33333333
A57: Problème multiplicatif – fraction d’une grandeur. Peut nécessiter une représentation ou une modélisation. | B57: 6 | C57: ='TRAITEMENT RDP'!C30 -> 0.33333333
A58: Problème multiplicatif (configuration rectangulaire)– recherche d’un facteur. Peut nécessiter une représentation ou une modélisation. | B58: 14 | C58: ='TRAITEMENT RDP'!C71 -> 0.33333333
A59: Problème multiplicatif – proportionnalité simple avec référence à l’unité. | B59: 1 | C59: ='TRAITEMENT RDP'!C5 -> 1 | D59: =AVERAGE(C59:C66) -> 0.33333333
A60: Problème multiplicatif – proportionnalité simple sans référence à l’unité. | B60: 4 | C60: ='TRAITEMENT RDP'!C20 -> 0.33333333
A61: Problème multiplicatif – proportionnalité simple sans référence à l’unité. | B61: 5 | C61: ='TRAITEMENT RDP'!C25 -> 1
A62: Problème multiplicatif – proportionnalité simple nécessitant une conversion. | B62: 11 | C62: ='TRAITEMENT RDP'!C56 -> 0
A63: Problème multiplicatif – proportionnalité simple avec référence à l’unité. Comparaison de durée avec conversion. | B63: 15 | C63: ='TRAITEMENT RDP'!C76 -> 0.33333333
A64: Problème multiplicatif – proportionnalité simple composée avec recherche de la valeur finale. Peut nécessiter une représentation ou une modélisation. | B64: 16 | C64: ='TRAITEMENT RDP'!C81 -> 0
A65: Problème multiplicatif – proportionnalité simple nécessitant une conversion. | B65: 17 | C65: ='TRAITEMENT RDP'!C86 -> 0
A66: Problème multiplicatif – proportionnalité simple sans référence à l’unité. Nécessite la mise en relations de plusieurs modes de représentation de données. Peut nécessiter une représentation ou une modélisation. | B66: 19 | C66: ='TRAITEMENT RDP'!C97 -> 0
A67: Problème mixte : additif – recherche d’une partie – et multiplicatif –comparaison multiplicative de grandeurs. Nécessite la mise en relation d’un texte et d’une figure. | B67: 7 | C67: ='TRAITEMENT RDP'!C35 -> 0.33333333 | D67: =AVERAGE(C67:C72) -> 0.38888889
A68: Problème mixte : additif – recherche d’un tout –et multiplicatif – proportionnalité simple : déterminer un pourcentage. Peut nécessiter une représentation ou une modélisation. | B68: 8 | C68: ='TRAITEMENT RDP'!C40 -> 0
A69: Problème mixte : additif recherche d’une partie –et multiplicatif –recherche de la valeur d'une part. Peut nécessiter une représentation ou une modélisation. | B69: 9 | C69: ='TRAITEMENT RDP'!C45 -> 0.33333333
A70: Problème mixte : additif – comparaison d’états (recherche de la comparaison) – et multiplicatif – proportionnalité simple sans référence à l’unité. | B70: 12 | C70: ='TRAITEMENT RDP'!C61 -> 0
A71: Problème mixte : additif et multiplicatif. Nécessite la mise en relation d’un texte et d’une figure. | B71: 13 | C71: ='TRAITEMENT RDP'!C66 -> 0.66666667
A72: Problème mixte : additif – recherche d’une partie – et multiplicatif – proportionnalité simple : déterminer un pourcentage. Peut nécessiter une représentation ou une modélisation. | B72: 18 | C72: ='TRAITEMENT RDP'!C91 -> 1
A73: Problème multiplicatif – proportionnalité simple nécessitant une conversion. | B73: 11 | C73: ='TRAITEMENT RDP'!C56 -> 0 | D73: =AVERAGE(C73:C75) -> 0.11111111
A74: Problème multiplicatif – proportionnalité simple avec référence à l’unité. Comparaison de durée avec conversion. | B74: 15 | C74: ='TRAITEMENT RDP'!C76 -> 0.33333333
A75: Problème multiplicatif – proportionnalité simple nécessitant une conversion. | B75: 17 | C75: ='TRAITEMENT RDP'!C86 -> 0
A76: Problème additif – recherche d’une partie d’un tout. | B76: 2 | C76: ='TRAITEMENT RDP'!C10 -> 0.33333333 | D76: =AVERAGE(C76:C79) -> 0.33333333
A77: Problème mixte : additif – recherche d’une partie – et multiplicatif –comparaison multiplicative de grandeurs. Nécessite la mise en relation d’un texte et d’une figure. | B77: 7 | C77: ='TRAITEMENT RDP'!C35 -> 0.33333333
A78: Problème mixte : additif et multiplicatif. Nécessite la mise en relation d’un texte et d’une figure. | B78: 13 | C78: ='TRAITEMENT RDP'!C66 -> 0.66666667
A79: Problème multiplicatif – proportionnalité simple sans référence à l’unité. Nécessite la mise en relations de plusieurs modes de représentation de données. Peut nécessiter une représentation ou une modélisation. | B79: 19 | C79: ='TRAITEMENT RDP'!C97 -> 0
A80: Problème additif – recherche d’une partie d’un tout. | B80: 2 | C80: ='TRAITEMENT RDP'!C10 -> 0.33333333 | D80: =AVERAGE(C80:C89) -> 0.26666667
A81: Problème multiplicatif – comparaison multiplicative de grandeurs « fois plus » avec recherche du résultat. Peut nécessiter une représentation ou une modélisation. | B81: 3 | C81: ='TRAITEMENT RDP'!C15 -> 0.33333333
A82: Problème multiplicatif – fraction d’une grandeur. Peut nécessiter une représentation ou une modélisation. | B82: 6 | C82: ='TRAITEMENT RDP'!C30 -> 0.33333333
A83: Problème mixte : additif – recherche d’un tout –et multiplicatif – proportionnalité simple : déterminer un pourcentage. Peut nécessiter une représentation ou une modélisation. | B83: 8 | C83: ='TRAITEMENT RDP'!C40 -> 0
A84: Problème mixte : additif recherche d’une partie –et multiplicatif –recherche de la valeur d'une part. Peut nécessiter une représentation ou une modélisation. | B84: 9 | C84: ='TRAITEMENT RDP'!C45 -> 0.33333333
A85: Problème additif–recherche d'un tout. Peut nécessiter une représentation ou une modélisation. | B85: 10 | C85: ='TRAITEMENT RDP'!C50 -> 0
A86: Problème multiplicatif (configuration rectangulaire)– recherche d’un facteur. Peut nécessiter une représentation ou une modélisation. | B86: 14 | C86: ='TRAITEMENT RDP'!C71 -> 0.33333333
A87: Problème multiplicatif – proportionnalité simple composée avec recherche de la valeur finale. Peut nécessiter une représentation ou une modélisation. | B87: 16 | C87: ='TRAITEMENT RDP'!C81 -> 0
A88: Problème mixte : additif – recherche d’une partie – et multiplicatif – proportionnalité simple : déterminer un pourcentage. Peut nécessiter une représentation ou une modélisation. | B88: 18 | C88: ='TRAITEMENT RDP'!C91 -> 1
A89: Problème multiplicatif – proportionnalité simple sans référence à l’unité. Nécessite la mise en relations de plusieurs modes de représentation de données. Peut nécessiter une représentation ou une modélisation. | B89: 19 | C89: ='TRAITEMENT RDP'!C97 -> 0

Sheet GROUPES THEMES
A1: PAGE GENEREE AUTOMATIQUEMENT ! - Filtrer le groupe de maîtrise étudié dans chaque thème + Si besoin, filtrer en fonction du nombre de thèmes dans lesquels l'élève est en difficulté (cellule J2).
A2: Classe | B2: Nom élève | C2: Prénom élève | D2: Test spécifique en automatismes : Mobiliser directement des procédures et des connaissances | E2: Test spécifique en résolution de problèmes : Résoudre des problèmes en utilisant des nombres et des grandeurs | F2: Espace et géométrie : Connaître et utiliser des notions de géométrie | G2: Grandeurs et mesures : Connaître des grandeurs et utiliser des unités de mesure | H2: Nombres et calculs : Connaître les nombres et les utiliser dans des calculs | I2: Organisation et gestion de données, fonctions : Connaître et utiliser des données et la notion de fonction | J2: Nombre de difficultés :
A3: =RESTITUTION!A3 -> 4A | B3: =RESTITUTION!B3 -> 0 | C3: =RESTITUTION!C3 -> Theo | D3: =RESTITUTION!D3 -> Satisfaisant | E3: =RESTITUTION!E3 -> Fragile | F3: =RESTITUTION!F3 -> Fragile | G3: =RESTITUTION!G3 -> Satisfaisant | H3: =RESTITUTION!H3 -> Fragile | I3: =RESTITUTION!I3 -> Satisfaisant | J3: =COUNTIF(D3,"Fragile")+COUNTIF(D3,"À besoins")+COUNTIF(D3,"pas de restitution")+COUNTIF(E3,"Fragile")+COUNTIF(E3,"À besoins")+COUNTIF(E3,"pas de restitution")+COUNTIF(F3,"Fragile")+COUNTIF(F3,"À besoins")+COUNTIF(F3,"pas de restitution")+COUNTIF(G3,"Fragile")+COUNTIF(G3,"À besoins")+COUNTIF(G3,"pas de restitution")+COUNTIF(H3,"Fragile")+COUNTIF(H3,"À besoins")+COUNTIF(H3,"pas de restitution")++COUNTIF(I3,"Fragile")+COUNTIF(I3,"À besoins")+COUNTIF(I3,"pas de restitution") -> 3
A4: =RESTITUTION!A4 -> 4A | B4: =RESTITUTION!B4 -> 0 | C4: =RESTITUTION!C4 -> Felix | D4: =RESTITUTION!D4 -> Satisfaisant | E4: =RESTITUTION!E4 -> Satisfaisant | F4: =RESTITUTION!F4 -> Satisfaisant | G4: =RESTITUTION!G4 -> Satisfaisant | H4: =RESTITUTION!H4 -> Satisfaisant | I4: =RESTITUTION!I4 -> Satisfaisant | J4: =COUNTIF(D4,"Fragile")+COUNTIF(D4,"À besoins")+COUNTIF(D4,"pas de restitution")+COUNTIF(E4,"Fragile")+COUNTIF(E4,"À besoins")+COUNTIF(E4,"pas de restitution")+COUNTIF(F4,"Fragile")+COUNTIF(F4,"À besoins")+COUNTIF(F4,"pas de restitution")+COUNTIF(G4,"Fragile")+COUNTIF(G4,"À besoins")+COUNTIF(G4,"pas de restitution")+COUNTIF(H4,"Fragile")+COUNTIF(H4,"À besoins")+COUNTIF(H4,"pas de restitution")++COUNTIF(I4,"Fragile")+COUNTIF(I4,"À besoins")+COUNTIF(I4,"pas de restitution") -> 0
A5: =RESTITUTION!A5 -> 4A | B5: =RESTITUTION!B5 -> 0 | C5: =RESTITUTION!C5 -> Nathan | D5: =RESTITUTION!D5 -> Fragile | E5: =RESTITUTION!E5 -> Fragile | F5: =RESTITUTION!F5 -> À besoins | G5: =RESTITUTION!G5 -> Fragile | H5: =RESTITUTION!H5 -> Fragile | I5: =RESTITUTION!I5 -> Fragile | J5: =COUNTIF(D5,"Fragile")+COUNTIF(D5,"À besoins")+COUNTIF(D5,"pas de restitution")+COUNTIF(E5,"Fragile")+COUNTIF(E5,"À besoins")+COUNTIF(E5,"pas de restitution")+COUNTIF(F5,"Fragile")+COUNTIF(F5,"À besoins")+COUNTIF(F5,"pas de restitution")+COUNTIF(G5,"Fragile")+COUNTIF(G5,"À besoins")+COUNTIF(G5,"pas de restitution")+COUNTIF(H5,"Fragile")+COUNTIF(H5,"À besoins")+COUNTIF(H5,"pas de restitution")++COUNTIF(I5,"Fragile")+COUNTIF(I5,"À besoins")+COUNTIF(I5,"pas de restitution") -> 6
A6: =RESTITUTION!A6 -> 0 | B6: =RESTITUTION!B6 -> 0 | C6: =RESTITUTION!C6 -> 0 | D6: =RESTITUTION!D6 -> 0 | E6: =RESTITUTION!E6 -> 0 | F6: =RESTITUTION!F6 -> 0 | G6: =RESTITUTION!G6 -> 0 | H6: =RESTITUTION!H6 -> 0 | I6: =RESTITUTION!I6 -> 0 | J6: =COUNTIF(D6,"Fragile")+COUNTIF(D6,"À besoins")+COUNTIF(D6,"pas de restitution")+COUNTIF(E6,"Fragile")+COUNTIF(E6,"À besoins")+COUNTIF(E6,"pas de restitution")+COUNTIF(F6,"Fragile")+COUNTIF(F6,"À besoins")+COUNTIF(F6,"pas de restitution")+COUNTIF(G6,"Fragile")+COUNTIF(G6,"À besoins")+COUNTIF(G6,"pas de restitution")+COUNTIF(H6,"Fragile")+COUNTIF(H6,"À besoins")+COUNTIF(H6,"pas de restitution")++COUNTIF(I6,"Fragile")+COUNTIF(I6,"À besoins")+COUNTIF(I6,"pas de restitution") -> 0
A7: =RESTITUTION!A7 -> 0 | B7: =RESTITUTION!B7 -> 0 | C7: =RESTITUTION!C7 -> 0 | D7: =RESTITUTION!D7 -> 0 | E7: =RESTITUTION!E7 -> 0 | F7: =RESTITUTION!F7 -> 0 | G7: =RESTITUTION!G7 -> 0 | H7: =RESTITUTION!H7 -> 0 | I7: =RESTITUTION!I7 -> 0 | J7: =COUNTIF(D7,"Fragile")+COUNTIF(D7,"À besoins")+COUNTIF(D7,"pas de restitution")+COUNTIF(E7,"Fragile")+COUNTIF(E7,"À besoins")+COUNTIF(E7,"pas de restitution")+COUNTIF(F7,"Fragile")+COUNTIF(F7,"À besoins")+COUNTIF(F7,"pas de restitution")+COUNTIF(G7,"Fragile")+COUNTIF(G7,"À besoins")+COUNTIF(G7,"pas de restitution")+COUNTIF(H7,"Fragile")+COUNTIF(H7,"À besoins")+COUNTIF(H7,"pas de restitution")++COUNTIF(I7,"Fragile")+COUNTIF(I7,"À besoins")+COUNTIF(I7,"pas de restitution") -> 0
A8: =RESTITUTION!A8 -> 0 | B8: =RESTITUTION!B8 -> 0 | C8: =RESTITUTION!C8 -> 0 | D8: =RESTITUTION!D8 -> 0 | E8: =RESTITUTION!E8 -> 0 | F8: =RESTITUTION!F8 -> 0 | G8: =RESTITUTION!G8 -> 0 | H8: =RESTITUTION!H8 -> 0 | I8: =RESTITUTION!I8 -> 0 | J8: =COUNTIF(D8,"Fragile")+COUNTIF(D8,"À besoins")+COUNTIF(D8,"pas de restitution")+COUNTIF(E8,"Fragile")+COUNTIF(E8,"À besoins")+COUNTIF(E8,"pas de restitution")+COUNTIF(F8,"Fragile")+COUNTIF(F8,"À besoins")+COUNTIF(F8,"pas de restitution")+COUNTIF(G8,"Fragile")+COUNTIF(G8,"À besoins")+COUNTIF(G8,"pas de restitution")+COUNTIF(H8,"Fragile")+COUNTIF(H8,"À besoins")+COUNTIF(H8,"pas de restitution")++COUNTIF(I8,"Fragile")+COUNTIF(I8,"À besoins")+COUNTIF(I8,"pas de restitution") -> 0
A9: =RESTITUTION!A9 -> 0 | B9: =RESTITUTION!B9 -> 0 | C9: =RESTITUTION!C9 -> 0 | D9: =RESTITUTION!D9 -> 0 | E9: =RESTITUTION!E9 -> 0 | F9: =RESTITUTION!F9 -> 0 | G9: =RESTITUTION!G9 -> 0 | H9: =RESTITUTION!H9 -> 0 | I9: =RESTITUTION!I9 -> 0 | J9: =COUNTIF(D9,"Fragile")+COUNTIF(D9,"À besoins")+COUNTIF(D9,"pas de restitution")+COUNTIF(E9,"Fragile")+COUNTIF(E9,"À besoins")+COUNTIF(E9,"pas de restitution")+COUNTIF(F9,"Fragile")+COUNTIF(F9,"À besoins")+COUNTIF(F9,"pas de restitution")+COUNTIF(G9,"Fragile")+COUNTIF(G9,"À besoins")+COUNTIF(G9,"pas de restitution")+COUNTIF(H9,"Fragile")+COUNTIF(H9,"À besoins")+COUNTIF(H9,"pas de restitution")++COUNTIF(I9,"Fragile")+COUNTIF(I9,"À besoins")+COUNTIF(I9,"pas de restitution") -> 0
A10: =RESTITUTION!A10 -> 0 | B10: =RESTITUTION!B10 -> 0 | C10: =RESTITUTION!C10 -> 0 | D10: =RESTITUTION!D10 -> 0 | E10: =RESTITUTION!E10 -> 0 | F10: =RESTITUTION!F10 -> 0 | G10: =RESTITUTION!G10 -> 0 | H10: =RESTITUTION!H10 -> 0 | I10: =RESTITUTION!I10 -> 0 | J10: =COUNTIF(D10,"Fragile")+COUNTIF(D10,"À besoins")+COUNTIF(D10,"pas de restitution")+COUNTIF(E10,"Fragile")+COUNTIF(E10,"À besoins")+COUNTIF(E10,"pas de restitution")+COUNTIF(F10,"Fragile")+COUNTIF(F10,"À besoins")+COUNTIF(F10,"pas de restitution")+COUNTIF(G10,"Fragile")+COUNTIF(G10,"À besoins")+COUNTIF(G10,"pas de restitution")+COUNTIF(H10,"Fragile")+COUNTIF(H10,"À besoins")+COUNTIF(H10,"pas de restitution")++COUNTIF(I10,"Fragile")+COUNTIF(I10,"À besoins")+COUNTIF(I10,"pas de restitution") -> 0
A11: =RESTITUTION!A11 -> 0 | B11: =RESTITUTION!B11 -> 0 | C11: =RESTITUTION!C11 -> 0 | D11: =RESTITUTION!D11 -> 0 | E11: =RESTITUTION!E11 -> 0 | F11: =RESTITUTION!F11 -> 0 | G11: =RESTITUTION!G11 -> 0 | H11: =RESTITUTION!H11 -> 0 | I11: =RESTITUTION!I11 -> 0 | J11: =COUNTIF(D11,"Fragile")+COUNTIF(D11,"À besoins")+COUNTIF(D11,"pas de restitution")+COUNTIF(E11,"Fragile")+COUNTIF(E11,"À besoins")+COUNTIF(E11,"pas de restitution")+COUNTIF(F11,"Fragile")+COUNTIF(F11,"À besoins")+COUNTIF(F11,"pas de restitution")+COUNTIF(G11,"Fragile")+COUNTIF(G11,"À besoins")+COUNTIF(G11,"pas de restitution")+COUNTIF(H11,"Fragile")+COUNTIF(H11,"À besoins")+COUNTIF(H11,"pas de restitution")++COUNTIF(I11,"Fragile")+COUNTIF(I11,"À besoins")+COUNTIF(I11,"pas de restitution") -> 0
A12: =RESTITUTION!A12 -> 0 | B12: =RESTITUTION!B12 -> 0 | C12: =RESTITUTION!C12 -> 0 | D12: =RESTITUTION!D12 -> 0 | E12: =RESTITUTION!E12 -> 0 | F12: =RESTITUTION!F12 -> 0 | G12: =RESTITUTION!G12 -> 0 | H12: =RESTITUTION!H12 -> 0 | I12: =RESTITUTION!I12 -> 0 | J12: =COUNTIF(D12,"Fragile")+COUNTIF(D12,"À besoins")+COUNTIF(D12,"pas de restitution")+COUNTIF(E12,"Fragile")+COUNTIF(E12,"À besoins")+COUNTIF(E12,"pas de restitution")+COUNTIF(F12,"Fragile")+COUNTIF(F12,"À besoins")+COUNTIF(F12,"pas de restitution")+COUNTIF(G12,"Fragile")+COUNTIF(G12,"À besoins")+COUNTIF(G12,"pas de restitution")+COUNTIF(H12,"Fragile")+COUNTIF(H12,"À besoins")+COUNTIF(H12,"pas de restitution")++COUNTIF(I12,"Fragile")+COUNTIF(I12,"À besoins")+COUNTIF(I12,"pas de restitution") -> 0
A13: =RESTITUTION!A13 -> 0 | B13: =RESTITUTION!B13 -> 0 | C13: =RESTITUTION!C13 -> 0 | D13: =RESTITUTION!D13 -> 0 | E13: =RESTITUTION!E13 -> 0 | F13: =RESTITUTION!F13 -> 0 | G13: =RESTITUTION!G13 -> 0 | H13: =RESTITUTION!H13 -> 0 | I13: =RESTITUTION!I13 -> 0 | J13: =COUNTIF(D13,"Fragile")+COUNTIF(D13,"À besoins")+COUNTIF(D13,"pas de restitution")+COUNTIF(E13,"Fragile")+COUNTIF(E13,"À besoins")+COUNTIF(E13,"pas de restitution")+COUNTIF(F13,"Fragile")+COUNTIF(F13,"À besoins")+COUNTIF(F13,"pas de restitution")+COUNTIF(G13,"Fragile")+COUNTIF(G13,"À besoins")+COUNTIF(G13,"pas de restitution")+COUNTIF(H13,"Fragile")+COUNTIF(H13,"À besoins")+COUNTIF(H13,"pas de restitution")++COUNTIF(I13,"Fragile")+COUNTIF(I13,"À besoins")+COUNTIF(I13,"pas de restitution") -> 0
A14: =RESTITUTION!A14 -> 0 | B14: =RESTITUTION!B14 -> 0 | C14: =RESTITUTION!C14 -> 0 | D14: =RESTITUTION!D14 -> 0 | E14: =RESTITUTION!E14 -> 0 | F14: =RESTITUTION!F14 -> 0 | G14: =RESTITUTION!G14 -> 0 | H14: =RESTITUTION!H14 -> 0 | I14: =RESTITUTION!I14 -> 0 | J14: =COUNTIF(D14,"Fragile")+COUNTIF(D14,"À besoins")+COUNTIF(D14,"pas de restitution")+COUNTIF(E14,"Fragile")+COUNTIF(E14,"À besoins")+COUNTIF(E14,"pas de restitution")+COUNTIF(F14,"Fragile")+COUNTIF(F14,"À besoins")+COUNTIF(F14,"pas de restitution")+COUNTIF(G14,"Fragile")+COUNTIF(G14,"À besoins")+COUNTIF(G14,"pas de restitution")+COUNTIF(H14,"Fragile")+COUNTIF(H14,"À besoins")+COUNTIF(H14,"pas de restitution")++COUNTIF(I14,"Fragile")+COUNTIF(I14,"À besoins")+COUNTIF(I14,"pas de restitution") -> 0
... A1000: =RESTITUTION!A1000 -> 0 | B1000: =RESTITUTION!B1000 -> 0 | C1000: =RESTITUTION!C1000 -> 0 | D1000: =RESTITUTION!D1000 -> 0 | E1000: =RESTITUTION!E1000 -> 0 | F1000: =RESTITUTION!F1000 -> 0 | G1000: =RESTITUTION!G1000 -> 0 | H1000: =RESTITUTION!H1000 -> 0 | I1000: =RESTITUTION!I1000 -> 0 | J1000: =COUNTIF(D1000,"Fragile")+COUNTIF(D1000,"À besoins")+COUNTIF(D1000,"pas de restitution")+COUNTIF(E1000,"Fragile")+COUNTIF(E1000,"À besoins")+COUNTIF(E1000,"pas de restitution")+COUNTIF(F1000,"Fragile")+COUNTIF(F1000,"À besoins")+COUNTIF(F1000,"pas de restitution")+COUNTIF(G1000,"Fragile")+COUNTIF(G1000,"À besoins")+COUNTIF(G1000,"pas de restitution")+COUNTIF(H1000,"Fragile")+COUNTIF(H1000,"À besoins")+COUNTIF(H1000,"pas de restitution")++COUNTIF(I1000,"Fragile")+COUNTIF(I1000,"À besoins")+COUNTIF(I1000,"pas de restitution") -> 0

Sheet GROUPE D'ITEMS AUTO
A1: PAGE GENEREE AUTOMATIQUEMENT : % de réussite aux automatismes par groupe d'items
D2: Type de tâche | L2: Famille de nombres
A3: Classe | B3: NOM | C3: PRENOM | D3: Calcul numérique : ITEMS 1-2-4-5-8-11-14-17-19 | E3: Calcul littéral : ITEMS 6-17 | F3: Partage : ITEMS 3-13 | G3: Différentes écritures d'un nombre : ITEMS 10-12-16-22 | H3: Conversion : ITEMS 7-11-18 | I3: Repérage : ITEMS 15-20 | J3: Proportionnalité : ITEMS 11-19 | K3: Application d'une propriété oou formule (géométrie-grandeurs et mesures) : ITEMS 9-21 | L3: Entiers et décimaux POSITIFS : ITEMS 1-2-4-6-7-8-10-11-12-16-17-18-19-20-22 | M3: Fractions : ITEMS 3-10-13-15-16-22 | N3: Relatifs : ITEMS 5-14
A4: ='TEST AUTO'!A3 -> 4A | B4: ='TEST AUTO'!B3 -> 0 | C4: ='TEST AUTO'!C3 -> Zoé | D4: =('TEST AUTO'!F3+'TEST AUTO'!H3+'TEST AUTO'!L3+'TEST AUTO'!N3+'TEST AUTO'!T3+'TEST AUTO'!Z3+'TEST AUTO'!AF3+'TEST AUTO'!AL3+'TEST AUTO'!AP3)/9 -> 0.44444444 | E4: =('TEST AUTO'!P3+'TEST AUTO'!AL3)/2 -> 0 | F4: =('TEST AUTO'!J3+'TEST AUTO'!AD3)/2 -> 0.5 | G4: =('TEST AUTO'!X3++'TEST AUTO'!AB3+'TEST AUTO'!AJ3+'TEST AUTO'!AV3)/4 -> 0.5 | H4: =('TEST AUTO'!R3+'TEST AUTO'!Z3+'TEST AUTO'!AN3)/3 -> 0.33333333 | I4: =('TEST AUTO'!AH3+'TEST AUTO'!AR3)/2 -> 0.5 | J4: =('TEST AUTO'!Z3+'TEST AUTO'!AP3)/2 -> 0 | K4: =('TEST AUTO'!V3+'TEST AUTO'!AT3)/2 -> 0 | L4: =('TEST AUTO'!F3+'TEST AUTO'!H3+'TEST AUTO'!L3+'TEST AUTO'!P3+'TEST AUTO'!R3+'TEST AUTO'!T3+'TEST AUTO'!X3+'TEST AUTO'!Z3+'TEST AUTO'!AB3+'TEST AUTO'!AJ3+'TEST AUTO'!AL3+'TEST AUTO'!AN3+'TEST AUTO'!AP3+'TEST AUTO'!AR3+'TEST AUTO'!AV3)/15 -> 0.4 | M4: =('TEST AUTO'!J3+'TEST AUTO'!X3+'TEST AUTO'!AD3+'TEST AUTO'!AH3+'TEST AUTO'!AJ3+'TEST AUTO'!AV3)/6 -> 0.5 | N4: =('TEST AUTO'!N3+'TEST AUTO'!AF3)/2 -> 0.5
A5: ='TEST AUTO'!A4 -> 4A | B5: ='TEST AUTO'!B4 -> 0 | C5: ='TEST AUTO'!C4 -> Noé | D5: =('TEST AUTO'!F4+'TEST AUTO'!H4+'TEST AUTO'!L4+'TEST AUTO'!N4+'TEST AUTO'!T4+'TEST AUTO'!Z4+'TEST AUTO'!AF4+'TEST AUTO'!AL4+'TEST AUTO'!AP4)/9 -> 0.44444444 | E5: =('TEST AUTO'!P4+'TEST AUTO'!AL4)/2 -> 0.5 | F5: =('TEST AUTO'!J4+'TEST AUTO'!AD4)/2 -> 0 | G5: =('TEST AUTO'!X4++'TEST AUTO'!AB4+'TEST AUTO'!AJ4+'TEST AUTO'!AV4)/4 -> 0.25 | H5: =('TEST AUTO'!R4+'TEST AUTO'!Z4+'TEST AUTO'!AN4)/3 -> 0.33333333 | I5: =('TEST AUTO'!AH4+'TEST AUTO'!AR4)/2 -> 0.5 | J5: =('TEST AUTO'!Z4+'TEST AUTO'!AP4)/2 -> 0 | K5: =('TEST AUTO'!V4+'TEST AUTO'!AT4)/2 -> 0 | L5: =('TEST AUTO'!F4+'TEST AUTO'!H4+'TEST AUTO'!L4+'TEST AUTO'!P4+'TEST AUTO'!R4+'TEST AUTO'!T4+'TEST AUTO'!X4+'TEST AUTO'!Z4+'TEST AUTO'!AB4+'TEST AUTO'!AJ4+'TEST AUTO'!AL4+'TEST AUTO'!AN4+'TEST AUTO'!AP4+'TEST AUTO'!AR4+'TEST AUTO'!AV4)/15 -> 0.33333333 | M5: =('TEST AUTO'!J4+'TEST AUTO'!X4+'TEST AUTO'!AD4+'TEST AUTO'!AH4+'TEST AUTO'!AJ4+'TEST AUTO'!AV4)/6 -> 0.33333333 | N5: =('TEST AUTO'!N4+'TEST AUTO'!AF4)/2 -> 1
A6: ='TEST AUTO'!A5 -> 4A | B6: ='TEST AUTO'!B5 -> 0 | C6: ='TEST AUTO'!C5 -> Adrien | D6: =('TEST AUTO'!F5+'TEST AUTO'!H5+'TEST AUTO'!L5+'TEST AUTO'!N5+'TEST AUTO'!T5+'TEST AUTO'!Z5+'TEST AUTO'!AF5+'TEST AUTO'!AL5+'TEST AUTO'!AP5)/9 -> 0.33333333 | E6: =('TEST AUTO'!P5+'TEST AUTO'!AL5)/2 -> 0 | F6: =('TEST AUTO'!J5+'TEST AUTO'!AD5)/2 -> 0 | G6: =('TEST AUTO'!X5++'TEST AUTO'!AB5+'TEST AUTO'!AJ5+'TEST AUTO'!AV5)/4 -> 0.25 | H6: =('TEST AUTO'!R5+'TEST AUTO'!Z5+'TEST AUTO'!AN5)/3 -> 0.33333333 | I6: =('TEST AUTO'!AH5+'TEST AUTO'!AR5)/2 -> 0 | J6: =('TEST AUTO'!Z5+'TEST AUTO'!AP5)/2 -> 0 | K6: =('TEST AUTO'!V5+'TEST AUTO'!AT5)/2 -> 0 | L6: =('TEST AUTO'!F5+'TEST AUTO'!H5+'TEST AUTO'!L5+'TEST AUTO'!P5+'TEST AUTO'!R5+'TEST AUTO'!T5+'TEST AUTO'!X5+'TEST AUTO'!Z5+'TEST AUTO'!AB5+'TEST AUTO'!AJ5+'TEST AUTO'!AL5+'TEST AUTO'!AN5+'TEST AUTO'!AP5+'TEST AUTO'!AR5+'TEST AUTO'!AV5)/15 -> 0.26666667 | M6: =('TEST AUTO'!J5+'TEST AUTO'!X5+'TEST AUTO'!AD5+'TEST AUTO'!AH5+'TEST AUTO'!AJ5+'TEST AUTO'!AV5)/6 -> 0.16666667 | N6: =('TEST AUTO'!N5+'TEST AUTO'!AF5)/2 -> 0.5
A7: ='TEST AUTO'!A6 -> 0 | B7: ='TEST AUTO'!B6 -> 0 | C7: ='TEST AUTO'!C6 -> 0 | D7: =('TEST AUTO'!F6+'TEST AUTO'!H6+'TEST AUTO'!L6+'TEST AUTO'!N6+'TEST AUTO'!T6+'TEST AUTO'!Z6+'TEST AUTO'!AF6+'TEST AUTO'!AL6+'TEST AUTO'!AP6)/9 -> 0 | E7: =('TEST AUTO'!P6+'TEST AUTO'!AL6)/2 -> 0 | F7: =('TEST AUTO'!J6+'TEST AUTO'!AD6)/2 -> 0 | G7: =('TEST AUTO'!X6++'TEST AUTO'!AB6+'TEST AUTO'!AJ6+'TEST AUTO'!AV6)/4 -> 0 | H7: =('TEST AUTO'!R6+'TEST AUTO'!Z6+'TEST AUTO'!AN6)/3 -> 0 | I7: =('TEST AUTO'!AH6+'TEST AUTO'!AR6)/2 -> 0 | J7: =('TEST AUTO'!Z6+'TEST AUTO'!AP6)/2 -> 0 | K7: =('TEST AUTO'!V6+'TEST AUTO'!AT6)/2 -> 0 | L7: =('TEST AUTO'!F6+'TEST AUTO'!H6+'TEST AUTO'!L6+'TEST AUTO'!P6+'TEST AUTO'!R6+'TEST AUTO'!T6+'TEST AUTO'!X6+'TEST AUTO'!Z6+'TEST AUTO'!AB6+'TEST AUTO'!AJ6+'TEST AUTO'!AL6+'TEST AUTO'!AN6+'TEST AUTO'!AP6+'TEST AUTO'!AR6+'TEST AUTO'!AV6)/15 -> 0 | M7: =('TEST AUTO'!J6+'TEST AUTO'!X6+'TEST AUTO'!AD6+'TEST AUTO'!AH6+'TEST AUTO'!AJ6+'TEST AUTO'!AV6)/6 -> 0 | N7: =('TEST AUTO'!N6+'TEST AUTO'!AF6)/2 -> 0
A8: ='TEST AUTO'!A7 -> 0 | B8: ='TEST AUTO'!B7 -> 0 | C8: ='TEST AUTO'!C7 -> 0 | D8: =('TEST AUTO'!F7+'TEST AUTO'!H7+'TEST AUTO'!L7+'TEST AUTO'!N7+'TEST AUTO'!T7+'TEST AUTO'!Z7+'TEST AUTO'!AF7+'TEST AUTO'!AL7+'TEST AUTO'!AP7)/9 -> 0 | E8: =('TEST AUTO'!P7+'TEST AUTO'!AL7)/2 -> 0 | F8: =('TEST AUTO'!J7+'TEST AUTO'!AD7)/2 -> 0 | G8: =('TEST AUTO'!X7++'TEST AUTO'!AB7+'TEST AUTO'!AJ7+'TEST AUTO'!AV7)/4 -> 0 | H8: =('TEST AUTO'!R7+'TEST AUTO'!Z7+'TEST AUTO'!AN7)/3 -> 0 | I8: =('TEST AUTO'!AH7+'TEST AUTO'!AR7)/2 -> 0 | J8: =('TEST AUTO'!Z7+'TEST AUTO'!AP7)/2 -> 0 | K8: =('TEST AUTO'!V7+'TEST AUTO'!AT7)/2 -> 0 | L8: =('TEST AUTO'!F7+'TEST AUTO'!H7+'TEST AUTO'!L7+'TEST AUTO'!P7+'TEST AUTO'!R7+'TEST AUTO'!T7+'TEST AUTO'!X7+'TEST AUTO'!Z7+'TEST AUTO'!AB7+'TEST AUTO'!AJ7+'TEST AUTO'!AL7+'TEST AUTO'!AN7+'TEST AUTO'!AP7+'TEST AUTO'!AR7+'TEST AUTO'!AV7)/15 -> 0 | M8: =('TEST AUTO'!J7+'TEST AUTO'!X7+'TEST AUTO'!AD7+'TEST AUTO'!AH7+'TEST AUTO'!AJ7+'TEST AUTO'!AV7)/6 -> 0 | N8: =('TEST AUTO'!N7+'TEST AUTO'!AF7)/2 -> 0
A9: ='TEST AUTO'!A8 -> 0 | B9: ='TEST AUTO'!B8 -> 0 | C9: ='TEST AUTO'!C8 -> 0 | D9: =('TEST AUTO'!F8+'TEST AUTO'!H8+'TEST AUTO'!L8+'TEST AUTO'!N8+'TEST AUTO'!T8+'TEST AUTO'!Z8+'TEST AUTO'!AF8+'TEST AUTO'!AL8+'TEST AUTO'!AP8)/9 -> 0 | E9: =('TEST AUTO'!P8+'TEST AUTO'!AL8)/2 -> 0 | F9: =('TEST AUTO'!J8+'TEST AUTO'!AD8)/2 -> 0 | G9: =('TEST AUTO'!X8++'TEST AUTO'!AB8+'TEST AUTO'!AJ8+'TEST AUTO'!AV8)/4 -> 0 | H9: =('TEST AUTO'!R8+'TEST AUTO'!Z8+'TEST AUTO'!AN8)/3 -> 0 | I9: =('TEST AUTO'!AH8+'TEST AUTO'!AR8)/2 -> 0 | J9: =('TEST AUTO'!Z8+'TEST AUTO'!AP8)/2 -> 0 | K9: =('TEST AUTO'!V8+'TEST AUTO'!AT8)/2 -> 0 | L9: =('TEST AUTO'!F8+'TEST AUTO'!H8+'TEST AUTO'!L8+'TEST AUTO'!P8+'TEST AUTO'!R8+'TEST AUTO'!T8+'TEST AUTO'!X8+'TEST AUTO'!Z8+'TEST AUTO'!AB8+'TEST AUTO'!AJ8+'TEST AUTO'!AL8+'TEST AUTO'!AN8+'TEST AUTO'!AP8+'TEST AUTO'!AR8+'TEST AUTO'!AV8)/15 -> 0 | M9: =('TEST AUTO'!J8+'TEST AUTO'!X8+'TEST AUTO'!AD8+'TEST AUTO'!AH8+'TEST AUTO'!AJ8+'TEST AUTO'!AV8)/6 -> 0 | N9: =('TEST AUTO'!N8+'TEST AUTO'!AF8)/2 -> 0
A10: ='TEST AUTO'!A9 -> 0 | B10: ='TEST AUTO'!B9 -> 0 | C10: ='TEST AUTO'!C9 -> 0 | D10: =('TEST AUTO'!F9+'TEST AUTO'!H9+'TEST AUTO'!L9+'TEST AUTO'!N9+'TEST AUTO'!T9+'TEST AUTO'!Z9+'TEST AUTO'!AF9+'TEST AUTO'!AL9+'TEST AUTO'!AP9)/9 -> 0 | E10: =('TEST AUTO'!P9+'TEST AUTO'!AL9)/2 -> 0 | F10: =('TEST AUTO'!J9+'TEST AUTO'!AD9)/2 -> 0 | G10: =('TEST AUTO'!X9++'TEST AUTO'!AB9+'TEST AUTO'!AJ9+'TEST AUTO'!AV9)/4 -> 0 | H10: =('TEST AUTO'!R9+'TEST AUTO'!Z9+'TEST AUTO'!AN9)/3 -> 0 | I10: =('TEST AUTO'!AH9+'TEST AUTO'!AR9)/2 -> 0 | J10: =('TEST AUTO'!Z9+'TEST AUTO'!AP9)/2 -> 0 | K10: =('TEST AUTO'!V9+'TEST AUTO'!AT9)/2 -> 0 | L10: =('TEST AUTO'!F9+'TEST AUTO'!H9+'TEST AUTO'!L9+'TEST AUTO'!P9+'TEST AUTO'!R9+'TEST AUTO'!T9+'TEST AUTO'!X9+'TEST AUTO'!Z9+'TEST AUTO'!AB9+'TEST AUTO'!AJ9+'TEST AUTO'!AL9+'TEST AUTO'!AN9+'TEST AUTO'!AP9+'TEST AUTO'!AR9+'TEST AUTO'!AV9)/15 -> 0 | M10: =('TEST AUTO'!J9+'TEST AUTO'!X9+'TEST AUTO'!AD9+'TEST AUTO'!AH9+'TEST AUTO'!AJ9+'TEST AUTO'!AV9)/6 -> 0 | N10: =('TEST AUTO'!N9+'TEST AUTO'!AF9)/2 -> 0
A11: ='TEST AUTO'!A10 -> 0 | B11: ='TEST AUTO'!B10 -> 0 | C11: ='TEST AUTO'!C10 -> 0 | D11: =('TEST AUTO'!F10+'TEST AUTO'!H10+'TEST AUTO'!L10+'TEST AUTO'!N10+'TEST AUTO'!T10+'TEST AUTO'!Z10+'TEST AUTO'!AF10+'TEST AUTO'!AL10+'TEST AUTO'!AP10)/9 -> 0 | E11: =('TEST AUTO'!P10+'TEST AUTO'!AL10)/2 -> 0 | F11: =('TEST AUTO'!J10+'TEST AUTO'!AD10)/2 -> 0 | G11: =('TEST AUTO'!X10++'TEST AUTO'!AB10+'TEST AUTO'!AJ10+'TEST AUTO'!AV10)/4 -> 0 | H11: =('TEST AUTO'!R10+'TEST AUTO'!Z10+'TEST AUTO'!AN10)/3 -> 0 | I11: =('TEST AUTO'!AH10+'TEST AUTO'!AR10)/2 -> 0 | J11: =('TEST AUTO'!Z10+'TEST AUTO'!AP10)/2 -> 0 | K11: =('TEST AUTO'!V10+'TEST AUTO'!AT10)/2 -> 0 | L11: =('TEST AUTO'!F10+'TEST AUTO'!H10+'TEST AUTO'!L10+'TEST AUTO'!P10+'TEST AUTO'!R10+'TEST AUTO'!T10+'TEST AUTO'!X10+'TEST AUTO'!Z10+'TEST AUTO'!AB10+'TEST AUTO'!AJ10+'TEST AUTO'!AL10+'TEST AUTO'!AN10+'TEST AUTO'!AP10+'TEST AUTO'!AR10+'TEST AUTO'!AV10)/15 -> 0 | M11: =('TEST AUTO'!J10+'TEST AUTO'!X10+'TEST AUTO'!AD10+'TEST AUTO'!AH10+'TEST AUTO'!AJ10+'TEST AUTO'!AV10)/6 -> 0 | N11: =('TEST AUTO'!N10+'TEST AUTO'!AF10)/2 -> 0
A12: ='TEST AUTO'!A11 -> 0 | B12: ='TEST AUTO'!B11 -> 0 | C12: ='TEST AUTO'!C11 -> 0 | D12: =('TEST AUTO'!F11+'TEST AUTO'!H11+'TEST AUTO'!L11+'TEST AUTO'!N11+'TEST AUTO'!T11+'TEST AUTO'!Z11+'TEST AUTO'!AF11+'TEST AUTO'!AL11+'TEST AUTO'!AP11)/9 -> 0 | E12: =('TEST AUTO'!P11+'TEST AUTO'!AL11)/2 -> 0 | F12: =('TEST AUTO'!J11+'TEST AUTO'!AD11)/2 -> 0 | G12: =('TEST AUTO'!X11++'TEST AUTO'!AB11+'TEST AUTO'!AJ11+'TEST AUTO'!AV11)/4 -> 0 | H12: =('TEST AUTO'!R11+'TEST AUTO'!Z11+'TEST AUTO'!AN11)/3 -> 0 | I12: =('TEST AUTO'!AH11+'TEST AUTO'!AR11)/2 -> 0 | J12: =('TEST AUTO'!Z11+'TEST AUTO'!AP11)/2 -> 0 | K12: =('TEST AUTO'!V11+'TEST AUTO'!AT11)/2 -> 0 | L12: =('TEST AUTO'!F11+'TEST AUTO'!H11+'TEST AUTO'!L11+'TEST AUTO'!P11+'TEST AUTO'!R11+'TEST AUTO'!T11+'TEST AUTO'!X11+'TEST AUTO'!Z11+'TEST AUTO'!AB11+'TEST AUTO'!AJ11+'TEST AUTO'!AL11+'TEST AUTO'!AN11+'TEST AUTO'!AP11+'TEST AUTO'!AR11+'TEST AUTO'!AV11)/15 -> 0 | M12: =('TEST AUTO'!J11+'TEST AUTO'!X11+'TEST AUTO'!AD11+'TEST AUTO'!AH11+'TEST AUTO'!AJ11+'TEST AUTO'!AV11)/6 -> 0 | N12: =('TEST AUTO'!N11+'TEST AUTO'!AF11)/2 -> 0
A13: ='TEST AUTO'!A12 -> 0 | B13: ='TEST AUTO'!B12 -> 0 | C13: ='TEST AUTO'!C12 -> 0 | D13: =('TEST AUTO'!F12+'TEST AUTO'!H12+'TEST AUTO'!L12+'TEST AUTO'!N12+'TEST AUTO'!T12+'TEST AUTO'!Z12+'TEST AUTO'!AF12+'TEST AUTO'!AL12+'TEST AUTO'!AP12)/9 -> 0 | E13: =('TEST AUTO'!P12+'TEST AUTO'!AL12)/2 -> 0 | F13: =('TEST AUTO'!J12+'TEST AUTO'!AD12)/2 -> 0 | G13: =('TEST AUTO'!X12++'TEST AUTO'!AB12+'TEST AUTO'!AJ12+'TEST AUTO'!AV12)/4 -> 0 | H13: =('TEST AUTO'!R12+'TEST AUTO'!Z12+'TEST AUTO'!AN12)/3 -> 0 | I13: =('TEST AUTO'!AH12+'TEST AUTO'!AR12)/2 -> 0 | J13: =('TEST AUTO'!Z12+'TEST AUTO'!AP12)/2 -> 0 | K13: =('TEST AUTO'!V12+'TEST AUTO'!AT12)/2 -> 0 | L13: =('TEST AUTO'!F12+'TEST AUTO'!H12+'TEST AUTO'!L12+'TEST AUTO'!P12+'TEST AUTO'!R12+'TEST AUTO'!T12+'TEST AUTO'!X12+'TEST AUTO'!Z12+'TEST AUTO'!AB12+'TEST AUTO'!AJ12+'TEST AUTO'!AL12+'TEST AUTO'!AN12+'TEST AUTO'!AP12+'TEST AUTO'!AR12+'TEST AUTO'!AV12)/15 -> 0 | M13: =('TEST AUTO'!J12+'TEST AUTO'!X12+'TEST AUTO'!AD12+'TEST AUTO'!AH12+'TEST AUTO'!AJ12+'TEST AUTO'!AV12)/6 -> 0 | N13: =('TEST AUTO'!N12+'TEST AUTO'!AF12)/2 -> 0
A14: ='TEST AUTO'!A13 -> 0 | B14: ='TEST AUTO'!B13 -> 0 | C14: ='TEST AUTO'!C13 -> 0 | D14: =('TEST AUTO'!F13+'TEST AUTO'!H13+'TEST AUTO'!L13+'TEST AUTO'!N13+'TEST AUTO'!T13+'TEST AUTO'!Z13+'TEST AUTO'!AF13+'TEST AUTO'!AL13+'TEST AUTO'!AP13)/9 -> 0 | E14: =('TEST AUTO'!P13+'TEST AUTO'!AL13)/2 -> 0 | F14: =('TEST AUTO'!J13+'TEST AUTO'!AD13)/2 -> 0 | G14: =('TEST AUTO'!X13++'TEST AUTO'!AB13+'TEST AUTO'!AJ13+'TEST AUTO'!AV13)/4 -> 0 | H14: =('TEST AUTO'!R13+'TEST AUTO'!Z13+'TEST AUTO'!AN13)/3 -> 0 | I14: =('TEST AUTO'!AH13+'TEST AUTO'!AR13)/2 -> 0 | J14: =('TEST AUTO'!Z13+'TEST AUTO'!AP13)/2 -> 0 | K14: =('TEST AUTO'!V13+'TEST AUTO'!AT13)/2 -> 0 | L14: =('TEST AUTO'!F13+'TEST AUTO'!H13+'TEST AUTO'!L13+'TEST AUTO'!P13+'TEST AUTO'!R13+'TEST AUTO'!T13+'TEST AUTO'!X13+'TEST AUTO'!Z13+'TEST AUTO'!AB13+'TEST AUTO'!AJ13+'TEST AUTO'!AL13+'TEST AUTO'!AN13+'TEST AUTO'!AP13+'TEST AUTO'!AR13+'TEST AUTO'!AV13)/15 -> 0 | M14: =('TEST AUTO'!J13+'TEST AUTO'!X13+'TEST AUTO'!AD13+'TEST AUTO'!AH13+'TEST AUTO'!AJ13+'TEST AUTO'!AV13)/6 -> 0 | N14: =('TEST AUTO'!N13+'TEST AUTO'!AF13)/2 -> 0
A15: ='TEST AUTO'!A14 -> 0 | B15: ='TEST AUTO'!B14 -> 0 | C15: ='TEST AUTO'!C14 -> 0 | D15: =('TEST AUTO'!F14+'TEST AUTO'!H14+'TEST AUTO'!L14+'TEST AUTO'!N14+'TEST AUTO'!T14+'TEST AUTO'!Z14+'TEST AUTO'!AF14+'TEST AUTO'!AL14+'TEST AUTO'!AP14)/9 -> 0 | E15: =('TEST AUTO'!P14+'TEST AUTO'!AL14)/2 -> 0 | F15: =('TEST AUTO'!J14+'TEST AUTO'!AD14)/2 -> 0 | G15: =('TEST AUTO'!X14++'TEST AUTO'!AB14+'TEST AUTO'!AJ14+'TEST AUTO'!AV14)/4 -> 0 | H15: =('TEST AUTO'!R14+'TEST AUTO'!Z14+'TEST AUTO'!AN14)/3 -> 0 | I15: =('TEST AUTO'!AH14+'TEST AUTO'!AR14)/2 -> 0 | J15: =('TEST AUTO'!Z14+'TEST AUTO'!AP14)/2 -> 0 | K15: =('TEST AUTO'!V14+'TEST AUTO'!AT14)/2 -> 0 | L15: =('TEST AUTO'!F14+'TEST AUTO'!H14+'TEST AUTO'!L14+'TEST AUTO'!P14+'TEST AUTO'!R14+'TEST AUTO'!T14+'TEST AUTO'!X14+'TEST AUTO'!Z14+'TEST AUTO'!AB14+'TEST AUTO'!AJ14+'TEST AUTO'!AL14+'TEST AUTO'!AN14+'TEST AUTO'!AP14+'TEST AUTO'!AR14+'TEST AUTO'!AV14)/15 -> 0 | M15: =('TEST AUTO'!J14+'TEST AUTO'!X14+'TEST AUTO'!AD14+'TEST AUTO'!AH14+'TEST AUTO'!AJ14+'TEST AUTO'!AV14)/6 -> 0 | N15: =('TEST AUTO'!N14+'TEST AUTO'!AF14)/2 -> 0
... A1001: ='TEST AUTO'!A1000 -> 0 | B1001: ='TEST AUTO'!B1000 -> 0 | C1001: ='TEST AUTO'!C1000 -> 0 | D1001: =('TEST AUTO'!F1000+'TEST AUTO'!H1000+'TEST AUTO'!L1000+'TEST AUTO'!N1000+'TEST AUTO'!T1000+'TEST AUTO'!Z1000+'TEST AUTO'!AF1000+'TEST AUTO'!AL1000+'TEST AUTO'!AP1000)/9 -> 0 | E1001: =('TEST AUTO'!P1000+'TEST AUTO'!AL1000)/2 -> 0 | F1001: =('TEST AUTO'!J1000+'TEST AUTO'!AD1000)/2 -> 0 | G1001: =('TEST AUTO'!X1000++'TEST AUTO'!AB1000+'TEST AUTO'!AJ1000+'TEST AUTO'!AV1000)/4 -> 0 | H1001: =('TEST AUTO'!R1000+'TEST AUTO'!Z1000+'TEST AUTO'!AN1000)/3 -> 0 | I1001: =('TEST AUTO'!AH1000+'TEST AUTO'!AR1000)/2 -> 0 | J1001: =('TEST AUTO'!Z1000+'TEST AUTO'!AP1000)/2 -> 0 | K1001: =('TEST AUTO'!V1000+'TEST AUTO'!AT1000)/2 -> 0 | L1001: =('TEST AUTO'!F1000+'TEST AUTO'!H1000+'TEST AUTO'!L1000+'TEST AUTO'!P1000+'TEST AUTO'!R1000+'TEST AUTO'!T1000+'TEST AUTO'!X1000+'TEST AUTO'!Z1000+'TEST AUTO'!AB1000+'TEST AUTO'!AJ1000+'TEST AUTO'!AL1000+'TEST AUTO'!AN1000+'TEST AUTO'!AP1000+'TEST AUTO'!AR1000+'TEST AUTO'!AV1000)/15 -> 0 | M1001: =('TEST AUTO'!J1000+'TEST AUTO'!X1000+'TEST AUTO'!AD1000+'TEST AUTO'!AH1000+'TEST AUTO'!AJ1000+'TEST AUTO'!AV1000)/6 -> 0 | N1001: =('TEST AUTO'!N1000+'TEST AUTO'!AF1000)/2 -> 0

Sheet GROUPE D'ITEMS RDP
A1: PAGE GENEREE AUTOMATIQUEMENT : % de réussite en Résolution de Problèmes par groupe d'items
D2: Structure-domaine mathématique | K2: Stratégie | L2: Famille de problèmes
A3: Classe | B3: NOM | C3: PRENOM | D3: Additif : ITEMS 2-10 | E3: Multiplicatif : ITEMS 3-6-14 | F3: Proportionnalité : ITEMS 1-4-5-11-15-16-17-19 | G3: Mixte : ITEMS 7-8-9-12-13-18 | H3: Grandeurs et mesures : ITEMS 15-16-17-18-19 | I3: Conversion : ITEMS 11-15-17 | J3: Mise en relation texte et figure ou représentation de données : ITEMS 2-7-13-19 | K3: Schéma utile : ITEMS 2-3-6-8-9-10-14-16-18-19 | L3: 1 étape : ITEMS 1-3-6-10-11-14-17 | M3: Plusieurs étapes : ITEMS 2-4-5-7-8-9-12-13-15-16-18-19
A4: ='TEST RDP'!A3 -> 4A | B4: ='TEST RDP'!B3 -> 0 | C4: ='TEST RDP'!C3 -> Zoé | D4: =('TEST RDP'!H3+'TEST RDP'!X3)/2 -> 0 | E4: =('TEST RDP'!J3+'TEST RDP'!P3+'TEST RDP'!AF3)/3 -> 0.66666667 | F4: =('TEST RDP'!F3+'TEST RDP'!L3+'TEST RDP'!N3+'TEST RDP'!Z3+'TEST RDP'!AH3+'TEST RDP'!AJ3+'TEST RDP'!AL3+'TEST RDP'!AP3)/8 -> 0.375 | G4: =('TEST RDP'!R3+'TEST RDP'!T3+'TEST RDP'!V3+'TEST RDP'!AB3+'TEST RDP'!AD3+'TEST RDP'!AN3)/6 -> 0.5 | H4: =('TEST RDP'!AH3+'TEST RDP'!AJ3+'TEST RDP'!AL3+'TEST RDP'!AN3+'TEST RDP'!AP3)/5 -> 0.2 | I4: =('TEST RDP'!Z3+'TEST RDP'!AH3+'TEST RDP'!AL3)/3 -> 0 | J4: =('TEST RDP'!H3+'TEST RDP'!R3+'TEST RDP'!AD3+'TEST RDP'!AP3)/4 -> 0.25 | K4: =('TEST RDP'!H3+'TEST RDP'!J3+'TEST RDP'!P3+'TEST RDP'!T3+'TEST RDP'!V3+'TEST RDP'!X3+'TEST RDP'!AF3+'TEST RDP'!AJ3+'TEST RDP'!AN3+'TEST RDP'!AP3)/10 -> 0.4 | L4: =('TEST RDP'!F3+'TEST RDP'!J3+'TEST RDP'!P3+'TEST RDP'!X3+'TEST RDP'!Z3+'TEST RDP'!AF3+'TEST RDP'!AL3)/7 -> 0.42857143 | M4: =('TEST RDP'!H3+'TEST RDP'!L3+'TEST RDP'!N3+'TEST RDP'!R3+'TEST RDP'!T3+'TEST RDP'!V3+'TEST RDP'!AB3+'TEST RDP'!AD3+'TEST RDP'!AH3+'TEST RDP'!AJ3+'TEST RDP'!AN3+'TEST RDP'!AP3)/12 -> 0.41666667
A5: ='TEST RDP'!A4 -> 4A | B5: ='TEST RDP'!B4 -> 0 | C5: ='TEST RDP'!C4 -> Noé | D5: =('TEST RDP'!H4+'TEST RDP'!X4)/2 -> 0.5 | E5: =('TEST RDP'!J4+'TEST RDP'!P4+'TEST RDP'!AF4)/3 -> 0.33333333 | F5: =('TEST RDP'!F4+'TEST RDP'!L4+'TEST RDP'!N4+'TEST RDP'!Z4+'TEST RDP'!AH4+'TEST RDP'!AJ4+'TEST RDP'!AL4+'TEST RDP'!AP4)/8 -> 0.375 | G5: =('TEST RDP'!R4+'TEST RDP'!T4+'TEST RDP'!V4+'TEST RDP'!AB4+'TEST RDP'!AD4+'TEST RDP'!AN4)/6 -> 0.33333333 | H5: =('TEST RDP'!AH4+'TEST RDP'!AJ4+'TEST RDP'!AL4+'TEST RDP'!AN4+'TEST RDP'!AP4)/5 -> 0.4 | I5: =('TEST RDP'!Z4+'TEST RDP'!AH4+'TEST RDP'!AL4)/3 -> 0.33333333 | J5: =('TEST RDP'!H4+'TEST RDP'!R4+'TEST RDP'!AD4+'TEST RDP'!AP4)/4 -> 0.5 | K5: =('TEST RDP'!H4+'TEST RDP'!J4+'TEST RDP'!P4+'TEST RDP'!T4+'TEST RDP'!V4+'TEST RDP'!X4+'TEST RDP'!AF4+'TEST RDP'!AJ4+'TEST RDP'!AN4+'TEST RDP'!AP4)/10 -> 0.3 | L5: =('TEST RDP'!F4+'TEST RDP'!J4+'TEST RDP'!P4+'TEST RDP'!X4+'TEST RDP'!Z4+'TEST RDP'!AF4+'TEST RDP'!AL4)/7 -> 0.28571429 | M5: =('TEST RDP'!H4+'TEST RDP'!L4+'TEST RDP'!N4+'TEST RDP'!R4+'TEST RDP'!T4+'TEST RDP'!V4+'TEST RDP'!AB4+'TEST RDP'!AD4+'TEST RDP'!AH4+'TEST RDP'!AJ4+'TEST RDP'!AN4+'TEST RDP'!AP4)/12 -> 0.41666667
A6: ='TEST RDP'!A5 -> 4A | B6: ='TEST RDP'!B5 -> 0 | C6: ='TEST RDP'!C5 -> Adrien | D6: =('TEST RDP'!H5+'TEST RDP'!X5)/2 -> 0 | E6: =('TEST RDP'!J5+'TEST RDP'!P5+'TEST RDP'!AF5)/3 -> 0 | F6: =('TEST RDP'!F5+'TEST RDP'!L5+'TEST RDP'!N5+'TEST RDP'!Z5+'TEST RDP'!AH5+'TEST RDP'!AJ5+'TEST RDP'!AL5+'TEST RDP'!AP5)/8 -> 0.25 | G6: =('TEST RDP'!R5+'TEST RDP'!T5+'TEST RDP'!V5+'TEST RDP'!AB5+'TEST RDP'!AD5+'TEST RDP'!AN5)/6 -> 0.33333333 | H6: =('TEST RDP'!AH5+'TEST RDP'!AJ5+'TEST RDP'!AL5+'TEST RDP'!AN5+'TEST RDP'!AP5)/5 -> 0.2 | I6: =('TEST RDP'!Z5+'TEST RDP'!AH5+'TEST RDP'!AL5)/3 -> 0 | J6: =('TEST RDP'!H5+'TEST RDP'!R5+'TEST RDP'!AD5+'TEST RDP'!AP5)/4 -> 0.25 | K6: =('TEST RDP'!H5+'TEST RDP'!J5+'TEST RDP'!P5+'TEST RDP'!T5+'TEST RDP'!V5+'TEST RDP'!X5+'TEST RDP'!AF5+'TEST RDP'!AJ5+'TEST RDP'!AN5+'TEST RDP'!AP5)/10 -> 0.1 | L6: =('TEST RDP'!F5+'TEST RDP'!J5+'TEST RDP'!P5+'TEST RDP'!X5+'TEST RDP'!Z5+'TEST RDP'!AF5+'TEST RDP'!AL5)/7 -> 0.14285714 | M6: =('TEST RDP'!H5+'TEST RDP'!L5+'TEST RDP'!N5+'TEST RDP'!R5+'TEST RDP'!T5+'TEST RDP'!V5+'TEST RDP'!AB5+'TEST RDP'!AD5+'TEST RDP'!AH5+'TEST RDP'!AJ5+'TEST RDP'!AN5+'TEST RDP'!AP5)/12 -> 0.25
A7: ='TEST RDP'!A6 -> 0 | B7: ='TEST RDP'!B6 -> 0 | C7: ='TEST RDP'!C6 -> 0 | D7: =('TEST RDP'!H6+'TEST RDP'!X6)/2 -> 0 | E7: =('TEST RDP'!J6+'TEST RDP'!P6+'TEST RDP'!AF6)/3 -> 0 | F7: =('TEST RDP'!F6+'TEST RDP'!L6+'TEST RDP'!N6+'TEST RDP'!Z6+'TEST RDP'!AH6+'TEST RDP'!AJ6+'TEST RDP'!AL6+'TEST RDP'!AP6)/8 -> 0 | G7: =('TEST RDP'!R6+'TEST RDP'!T6+'TEST RDP'!V6+'TEST RDP'!AB6+'TEST RDP'!AD6+'TEST RDP'!AN6)/6 -> 0 | H7: =('TEST RDP'!AH6+'TEST RDP'!AJ6+'TEST RDP'!AL6+'TEST RDP'!AN6+'TEST RDP'!AP6)/5 -> 0 | I7: =('TEST RDP'!Z6+'TEST RDP'!AH6+'TEST RDP'!AL6)/3 -> 0 | J7: =('TEST RDP'!H6+'TEST RDP'!R6+'TEST RDP'!AD6+'TEST RDP'!AP6)/4 -> 0 | K7: =('TEST RDP'!H6+'TEST RDP'!J6+'TEST RDP'!P6+'TEST RDP'!T6+'TEST RDP'!V6+'TEST RDP'!X6+'TEST RDP'!AF6+'TEST RDP'!AJ6+'TEST RDP'!AN6+'TEST RDP'!AP6)/10 -> 0 | L7: =('TEST RDP'!F6+'TEST RDP'!J6+'TEST RDP'!P6+'TEST RDP'!X6+'TEST RDP'!Z6+'TEST RDP'!AF6+'TEST RDP'!AL6)/7 -> 0 | M7: =('TEST RDP'!H6+'TEST RDP'!L6+'TEST RDP'!N6+'TEST RDP'!R6+'TEST RDP'!T6+'TEST RDP'!V6+'TEST RDP'!AB6+'TEST RDP'!AD6+'TEST RDP'!AH6+'TEST RDP'!AJ6+'TEST RDP'!AN6+'TEST RDP'!AP6)/12 -> 0
A8: ='TEST RDP'!A7 -> 0 | B8: ='TEST RDP'!B7 -> 0 | C8: ='TEST RDP'!C7 -> 0 | D8: =('TEST RDP'!H7+'TEST RDP'!X7)/2 -> 0 | E8: =('TEST RDP'!J7+'TEST RDP'!P7+'TEST RDP'!AF7)/3 -> 0 | F8: =('TEST RDP'!F7+'TEST RDP'!L7+'TEST RDP'!N7+'TEST RDP'!Z7+'TEST RDP'!AH7+'TEST RDP'!AJ7+'TEST RDP'!AL7+'TEST RDP'!AP7)/8 -> 0 | G8: =('TEST RDP'!R7+'TEST RDP'!T7+'TEST RDP'!V7+'TEST RDP'!AB7+'TEST RDP'!AD7+'TEST RDP'!AN7)/6 -> 0 | H8: =('TEST RDP'!AH7+'TEST RDP'!AJ7+'TEST RDP'!AL7+'TEST RDP'!AN7+'TEST RDP'!AP7)/5 -> 0 | I8: =('TEST RDP'!Z7+'TEST RDP'!AH7+'TEST RDP'!AL7)/3 -> 0 | J8: =('TEST RDP'!H7+'TEST RDP'!R7+'TEST RDP'!AD7+'TEST RDP'!AP7)/4 -> 0 | K8: =('TEST RDP'!H7+'TEST RDP'!J7+'TEST RDP'!P7+'TEST RDP'!T7+'TEST RDP'!V7+'TEST RDP'!X7+'TEST RDP'!AF7+'TEST RDP'!AJ7+'TEST RDP'!AN7+'TEST RDP'!AP7)/10 -> 0 | L8: =('TEST RDP'!F7+'TEST RDP'!J7+'TEST RDP'!P7+'TEST RDP'!X7+'TEST RDP'!Z7+'TEST RDP'!AF7+'TEST RDP'!AL7)/7 -> 0 | M8: =('TEST RDP'!H7+'TEST RDP'!L7+'TEST RDP'!N7+'TEST RDP'!R7+'TEST RDP'!T7+'TEST RDP'!V7+'TEST RDP'!AB7+'TEST RDP'!AD7+'TEST RDP'!AH7+'TEST RDP'!AJ7+'TEST RDP'!AN7+'TEST RDP'!AP7)/12 -> 0
A9: ='TEST RDP'!A8 -> 0 | B9: ='TEST RDP'!B8 -> 0 | C9: ='TEST RDP'!C8 -> 0 | D9: =('TEST RDP'!H8+'TEST RDP'!X8)/2 -> 0 | E9: =('TEST RDP'!J8+'TEST RDP'!P8+'TEST RDP'!AF8)/3 -> 0 | F9: =('TEST RDP'!F8+'TEST RDP'!L8+'TEST RDP'!N8+'TEST RDP'!Z8+'TEST RDP'!AH8+'TEST RDP'!AJ8+'TEST RDP'!AL8+'TEST RDP'!AP8)/8 -> 0 | G9: =('TEST RDP'!R8+'TEST RDP'!T8+'TEST RDP'!V8+'TEST RDP'!AB8+'TEST RDP'!AD8+'TEST RDP'!AN8)/6 -> 0 | H9: =('TEST RDP'!AH8+'TEST RDP'!AJ8+'TEST RDP'!AL8+'TEST RDP'!AN8+'TEST RDP'!AP8)/5 -> 0 | I9: =('TEST RDP'!Z8+'TEST RDP'!AH8+'TEST RDP'!AL8)/3 -> 0 | J9: =('TEST RDP'!H8+'TEST RDP'!R8+'TEST RDP'!AD8+'TEST RDP'!AP8)/4 -> 0 | K9: =('TEST RDP'!H8+'TEST RDP'!J8+'TEST RDP'!P8+'TEST RDP'!T8+'TEST RDP'!V8+'TEST RDP'!X8+'TEST RDP'!AF8+'TEST RDP'!AJ8+'TEST RDP'!AN8+'TEST RDP'!AP8)/10 -> 0 | L9: =('TEST RDP'!F8+'TEST RDP'!J8+'TEST RDP'!P8+'TEST RDP'!X8+'TEST RDP'!Z8+'TEST RDP'!AF8+'TEST RDP'!AL8)/7 -> 0 | M9: =('TEST RDP'!H8+'TEST RDP'!L8+'TEST RDP'!N8+'TEST RDP'!R8+'TEST RDP'!T8+'TEST RDP'!V8+'TEST RDP'!AB8+'TEST RDP'!AD8+'TEST RDP'!AH8+'TEST RDP'!AJ8+'TEST RDP'!AN8+'TEST RDP'!AP8)/12 -> 0
A10: ='TEST RDP'!A9 -> 0 | B10: ='TEST RDP'!B9 -> 0 | C10: ='TEST RDP'!C9 -> 0 | D10: =('TEST RDP'!H9+'TEST RDP'!X9)/2 -> 0 | E10: =('TEST RDP'!J9+'TEST RDP'!P9+'TEST RDP'!AF9)/3 -> 0 | F10: =('TEST RDP'!F9+'TEST RDP'!L9+'TEST RDP'!N9+'TEST RDP'!Z9+'TEST RDP'!AH9+'TEST RDP'!AJ9+'TEST RDP'!AL9+'TEST RDP'!AP9)/8 -> 0 | G10: =('TEST RDP'!R9+'TEST RDP'!T9+'TEST RDP'!V9+'TEST RDP'!AB9+'TEST RDP'!AD9+'TEST RDP'!AN9)/6 -> 0 | H10: =('TEST RDP'!AH9+'TEST RDP'!AJ9+'TEST RDP'!AL9+'TEST RDP'!AN9+'TEST RDP'!AP9)/5 -> 0 | I10: =('TEST RDP'!Z9+'TEST RDP'!AH9+'TEST RDP'!AL9)/3 -> 0 | J10: =('TEST RDP'!H9+'TEST RDP'!R9+'TEST RDP'!AD9+'TEST RDP'!AP9)/4 -> 0 | K10: =('TEST RDP'!H9+'TEST RDP'!J9+'TEST RDP'!P9+'TEST RDP'!T9+'TEST RDP'!V9+'TEST RDP'!X9+'TEST RDP'!AF9+'TEST RDP'!AJ9+'TEST RDP'!AN9+'TEST RDP'!AP9)/10 -> 0 | L10: =('TEST RDP'!F9+'TEST RDP'!J9+'TEST RDP'!P9+'TEST RDP'!X9+'TEST RDP'!Z9+'TEST RDP'!AF9+'TEST RDP'!AL9)/7 -> 0 | M10: =('TEST RDP'!H9+'TEST RDP'!L9+'TEST RDP'!N9+'TEST RDP'!R9+'TEST RDP'!T9+'TEST RDP'!V9+'TEST RDP'!AB9+'TEST RDP'!AD9+'TEST RDP'!AH9+'TEST RDP'!AJ9+'TEST RDP'!AN9+'TEST RDP'!AP9)/12 -> 0
A11: ='TEST RDP'!A10 -> 0 | B11: ='TEST RDP'!B10 -> 0 | C11: ='TEST RDP'!C10 -> 0 | D11: =('TEST RDP'!H10+'TEST RDP'!X10)/2 -> 0 | E11: =('TEST RDP'!J10+'TEST RDP'!P10+'TEST RDP'!AF10)/3 -> 0 | F11: =('TEST RDP'!F10+'TEST RDP'!L10+'TEST RDP'!N10+'TEST RDP'!Z10+'TEST RDP'!AH10+'TEST RDP'!AJ10+'TEST RDP'!AL10+'TEST RDP'!AP10)/8 -> 0 | G11: =('TEST RDP'!R10+'TEST RDP'!T10+'TEST RDP'!V10+'TEST RDP'!AB10+'TEST RDP'!AD10+'TEST RDP'!AN10)/6 -> 0 | H11: =('TEST RDP'!AH10+'TEST RDP'!AJ10+'TEST RDP'!AL10+'TEST RDP'!AN10+'TEST RDP'!AP10)/5 -> 0 | I11: =('TEST RDP'!Z10+'TEST RDP'!AH10+'TEST RDP'!AL10)/3 -> 0 | J11: =('TEST RDP'!H10+'TEST RDP'!R10+'TEST RDP'!AD10+'TEST RDP'!AP10)/4 -> 0 | K11: =('TEST RDP'!H10+'TEST RDP'!J10+'TEST RDP'!P10+'TEST RDP'!T10+'TEST RDP'!V10+'TEST RDP'!X10+'TEST RDP'!AF10+'TEST RDP'!AJ10+'TEST RDP'!AN10+'TEST RDP'!AP10)/10 -> 0 | L11: =('TEST RDP'!F10+'TEST RDP'!J10+'TEST RDP'!P10+'TEST RDP'!X10+'TEST RDP'!Z10+'TEST RDP'!AF10+'TEST RDP'!AL10)/7 -> 0 | M11: =('TEST RDP'!H10+'TEST RDP'!L10+'TEST RDP'!N10+'TEST RDP'!R10+'TEST RDP'!T10+'TEST RDP'!V10+'TEST RDP'!AB10+'TEST RDP'!AD10+'TEST RDP'!AH10+'TEST RDP'!AJ10+'TEST RDP'!AN10+'TEST RDP'!AP10)/12 -> 0
A12: ='TEST RDP'!A11 -> 0 | B12: ='TEST RDP'!B11 -> 0 | C12: ='TEST RDP'!C11 -> 0 | D12: =('TEST RDP'!H11+'TEST RDP'!X11)/2 -> 0 | E12: =('TEST RDP'!J11+'TEST RDP'!P11+'TEST RDP'!AF11)/3 -> 0 | F12: =('TEST RDP'!F11+'TEST RDP'!L11+'TEST RDP'!N11+'TEST RDP'!Z11+'TEST RDP'!AH11+'TEST RDP'!AJ11+'TEST RDP'!AL11+'TEST RDP'!AP11)/8 -> 0 | G12: =('TEST RDP'!R11+'TEST RDP'!T11+'TEST RDP'!V11+'TEST RDP'!AB11+'TEST RDP'!AD11+'TEST RDP'!AN11)/6 -> 0 | H12: =('TEST RDP'!AH11+'TEST RDP'!AJ11+'TEST RDP'!AL11+'TEST RDP'!AN11+'TEST RDP'!AP11)/5 -> 0 | I12: =('TEST RDP'!Z11+'TEST RDP'!AH11+'TEST RDP'!AL11)/3 -> 0 | J12: =('TEST RDP'!H11+'TEST RDP'!R11+'TEST RDP'!AD11+'TEST RDP'!AP11)/4 -> 0 | K12: =('TEST RDP'!H11+'TEST RDP'!J11+'TEST RDP'!P11+'TEST RDP'!T11+'TEST RDP'!V11+'TEST RDP'!X11+'TEST RDP'!AF11+'TEST RDP'!AJ11+'TEST RDP'!AN11+'TEST RDP'!AP11)/10 -> 0 | L12: =('TEST RDP'!F11+'TEST RDP'!J11+'TEST RDP'!P11+'TEST RDP'!X11+'TEST RDP'!Z11+'TEST RDP'!AF11+'TEST RDP'!AL11)/7 -> 0 | M12: =('TEST RDP'!H11+'TEST RDP'!L11+'TEST RDP'!N11+'TEST RDP'!R11+'TEST RDP'!T11+'TEST RDP'!V11+'TEST RDP'!AB11+'TEST RDP'!AD11+'TEST RDP'!AH11+'TEST RDP'!AJ11+'TEST RDP'!AN11+'TEST RDP'!AP11)/12 -> 0
A13: ='TEST RDP'!A12 -> 0 | B13: ='TEST RDP'!B12 -> 0 | C13: ='TEST RDP'!C12 -> 0 | D13: =('TEST RDP'!H12+'TEST RDP'!X12)/2 -> 0 | E13: =('TEST RDP'!J12+'TEST RDP'!P12+'TEST RDP'!AF12)/3 -> 0 | F13: =('TEST RDP'!F12+'TEST RDP'!L12+'TEST RDP'!N12+'TEST RDP'!Z12+'TEST RDP'!AH12+'TEST RDP'!AJ12+'TEST RDP'!AL12+'TEST RDP'!AP12)/8 -> 0 | G13: =('TEST RDP'!R12+'TEST RDP'!T12+'TEST RDP'!V12+'TEST RDP'!AB12+'TEST RDP'!AD12+'TEST RDP'!AN12)/6 -> 0 | H13: =('TEST RDP'!AH12+'TEST RDP'!AJ12+'TEST RDP'!AL12+'TEST RDP'!AN12+'TEST RDP'!AP12)/5 -> 0 | I13: =('TEST RDP'!Z12+'TEST RDP'!AH12+'TEST RDP'!AL12)/3 -> 0 | J13: =('TEST RDP'!H12+'TEST RDP'!R12+'TEST RDP'!AD12+'TEST RDP'!AP12)/4 -> 0 | K13: =('TEST RDP'!H12+'TEST RDP'!J12+'TEST RDP'!P12+'TEST RDP'!T12+'TEST RDP'!V12+'TEST RDP'!X12+'TEST RDP'!AF12+'TEST RDP'!AJ12+'TEST RDP'!AN12+'TEST RDP'!AP12)/10 -> 0 | L13: =('TEST RDP'!F12+'TEST RDP'!J12+'TEST RDP'!P12+'TEST RDP'!X12+'TEST RDP'!Z12+'TEST RDP'!AF12+'TEST RDP'!AL12)/7 -> 0 | M13: =('TEST RDP'!H12+'TEST RDP'!L12+'TEST RDP'!N12+'TEST RDP'!R12+'TEST RDP'!T12+'TEST RDP'!V12+'TEST RDP'!AB12+'TEST RDP'!AD12+'TEST RDP'!AH12+'TEST RDP'!AJ12+'TEST RDP'!AN12+'TEST RDP'!AP12)/12 -> 0
A14: ='TEST RDP'!A13 -> 0 | B14: ='TEST RDP'!B13 -> 0 | C14: ='TEST RDP'!C13 -> 0 | D14: =('TEST RDP'!H13+'TEST RDP'!X13)/2 -> 0 | E14: =('TEST RDP'!J13+'TEST RDP'!P13+'TEST RDP'!AF13)/3 -> 0 | F14: =('TEST RDP'!F13+'TEST RDP'!L13+'TEST RDP'!N13+'TEST RDP'!Z13+'TEST RDP'!AH13+'TEST RDP'!AJ13+'TEST RDP'!AL13+'TEST RDP'!AP13)/8 -> 0 | G14: =('TEST RDP'!R13+'TEST RDP'!T13+'TEST RDP'!V13+'TEST RDP'!AB13+'TEST RDP'!AD13+'TEST RDP'!AN13)/6 -> 0 | H14: =('TEST RDP'!AH13+'TEST RDP'!AJ13+'TEST RDP'!AL13+'TEST RDP'!AN13+'TEST RDP'!AP13)/5 -> 0 | I14: =('TEST RDP'!Z13+'TEST RDP'!AH13+'TEST RDP'!AL13)/3 -> 0 | J14: =('TEST RDP'!H13+'TEST RDP'!R13+'TEST RDP'!AD13+'TEST RDP'!AP13)/4 -> 0 | K14: =('TEST RDP'!H13+'TEST RDP'!J13+'TEST RDP'!P13+'TEST RDP'!T13+'TEST RDP'!V13+'TEST RDP'!X13+'TEST RDP'!AF13+'TEST RDP'!AJ13+'TEST RDP'!AN13+'TEST RDP'!AP13)/10 -> 0 | L14: =('TEST RDP'!F13+'TEST RDP'!J13+'TEST RDP'!P13+'TEST RDP'!X13+'TEST RDP'!Z13+'TEST RDP'!AF13+'TEST RDP'!AL13)/7 -> 0 | M14: =('TEST RDP'!H13+'TEST RDP'!L13+'TEST RDP'!N13+'TEST RDP'!R13+'TEST RDP'!T13+'TEST RDP'!V13+'TEST RDP'!AB13+'TEST RDP'!AD13+'TEST RDP'!AH13+'TEST RDP'!AJ13+'TEST RDP'!AN13+'TEST RDP'!AP13)/12 -> 0
A15: ='TEST RDP'!A14 -> 0 | B15: ='TEST RDP'!B14 -> 0 | C15: ='TEST RDP'!C14 -> 0 | D15: =('TEST RDP'!H14+'TEST RDP'!X14)/2 -> 0 | E15: =('TEST RDP'!J14+'TEST RDP'!P14+'TEST RDP'!AF14)/3 -> 0 | F15: =('TEST RDP'!F14+'TEST RDP'!L14+'TEST RDP'!N14+'TEST RDP'!Z14+'TEST RDP'!AH14+'TEST RDP'!AJ14+'TEST RDP'!AL14+'TEST RDP'!AP14)/8 -> 0 | G15: =('TEST RDP'!R14+'TEST RDP'!T14+'TEST RDP'!V14+'TEST RDP'!AB14+'TEST RDP'!AD14+'TEST RDP'!AN14)/6 -> 0 | H15: =('TEST RDP'!AH14+'TEST RDP'!AJ14+'TEST RDP'!AL14+'TEST RDP'!AN14+'TEST RDP'!AP14)/5 -> 0 | I15: =('TEST RDP'!Z14+'TEST RDP'!AH14+'TEST RDP'!AL14)/3 -> 0 | J15: =('TEST RDP'!H14+'TEST RDP'!R14+'TEST RDP'!AD14+'TEST RDP'!AP14)/4 -> 0 | K15: =('TEST RDP'!H14+'TEST RDP'!J14+'TEST RDP'!P14+'TEST RDP'!T14+'TEST RDP'!V14+'TEST RDP'!X14+'TEST RDP'!AF14+'TEST RDP'!AJ14+'TEST RDP'!AN14+'TEST RDP'!AP14)/10 -> 0 | L15: =('TEST RDP'!F14+'TEST RDP'!J14+'TEST RDP'!P14+'TEST RDP'!X14+'TEST RDP'!Z14+'TEST RDP'!AF14+'TEST RDP'!AL14)/7 -> 0 | M15: =('TEST RDP'!H14+'TEST RDP'!L14+'TEST RDP'!N14+'TEST RDP'!R14+'TEST RDP'!T14+'TEST RDP'!V14+'TEST RDP'!AB14+'TEST RDP'!AD14+'TEST RDP'!AH14+'TEST RDP'!AJ14+'TEST RDP'!AN14+'TEST RDP'!AP14)/12 -> 0
... A1000: ='TEST RDP'!A999 -> 0 | B1000: ='TEST RDP'!B999 -> 0 | C1000: ='TEST RDP'!C999 -> 0 | D1000: =('TEST RDP'!H999+'TEST RDP'!X999)/2 -> 0 | E1000: =('TEST RDP'!J999+'TEST RDP'!P999+'TEST RDP'!AF999)/3 -> 0 | F1000: =('TEST RDP'!F999+'TEST RDP'!L999+'TEST RDP'!N999+'TEST RDP'!Z999+'TEST RDP'!AH999+'TEST RDP'!AJ999+'TEST RDP'!AL999+'TEST RDP'!AP999)/8 -> 0 | G1000: =('TEST RDP'!R999+'TEST RDP'!T999+'TEST RDP'!V999+'TEST RDP'!AB999+'TEST RDP'!AD999+'TEST RDP'!AN999)/6 -> 0 | H1000: =('TEST RDP'!AH999+'TEST RDP'!AJ999+'TEST RDP'!AL999+'TEST RDP'!AN999+'TEST RDP'!AP999)/5 -> 0 | I1000: =('TEST RDP'!Z999+'TEST RDP'!AH999+'TEST RDP'!AL999)/3 -> 0 | J1000: =('TEST RDP'!H999+'TEST RDP'!R999+'TEST RDP'!AD999+'TEST RDP'!AP999)/4 -> 0 | K1000: =('TEST RDP'!H999+'TEST RDP'!J999+'TEST RDP'!P999+'TEST RDP'!T999+'TEST RDP'!V999+'TEST RDP'!X999+'TEST RDP'!AF999+'TEST RDP'!AJ999+'TEST RDP'!AN999+'TEST RDP'!AP999)/10 -> 0 | L1000: =('TEST RDP'!F999+'TEST RDP'!J999+'TEST RDP'!P999+'TEST RDP'!X999+'TEST RDP'!Z999+'TEST RDP'!AF999+'TEST RDP'!AL999)/7 -> 0 | M1000: =('TEST RDP'!H999+'TEST RDP'!L999+'TEST RDP'!N999+'TEST RDP'!R999+'TEST RDP'!T999+'TEST RDP'!V999+'TEST RDP'!AB999+'TEST RDP'!AD999+'TEST RDP'!AH999+'TEST RDP'!AJ999+'TEST RDP'!AN999+'TEST RDP'!AP999)/12 -> 0
