Workbook

Sheet TUTORIEL
A1: Le fichier EXCEL de "TRAITEMENT" des résultats | C1: Le document WORD de "ANALYSE" didactique et pédagogique, pour l'enseignement, le pilotage cycle 4 , la formation
A2: ETAPES | B2: FICHIER CONCERNE | C2: A FAIRE MANUELLEMENT (en rouge = ce qui est généré automatiquement)
A4: Etape 0 | B4: a) EXCEL : onglet "RESTITUTION" | C4: COPIER-COLLER LE FICHIER "RESTITUTION" DU COLLEGE
B5: b) EXCEL : onglet "TEST AUTO" | C5: COPIER-COLLER LE FICHIER "SPECIFIQUE AUTOMATISMES", POUR CHAQUE CLASSE, LES UNES A LA SUITE DES AUTRES
B6: c) EXCEL : onglet "TEST RDP" | C6: COPIER-COLLER LE FICHIER "SPECIFIQUE RESOLUTION DE PROBLEMES", POUR CHAQUE CLASSE, LES UNES A LA SUITE DES AUTRES
A8: Etape 1 | B8: a) EXCEL : onglet "BILANS" | C8: PAGE GENEREE AUTOMATIQUEMENT !
B9: b) WORD "2026 EVA6-5-4-2 MATHS ANALYSE" | C9: Y COPIER-COLLER LES 2 GRAPHIQUES DU FICHIER EXCEL ONGLET "BILANS" : en page 2 pour "THEMES MATHS" et en page 3 pour "TEST SPECIFIQUE"
A11: Etape 2 | B11: a) EXCEL : onglet "TRAITEMENT AUTO" | C11: PAGE GENEREE AUTOMATIQUEMENT = ANALYSE DIDACTIQUE PAR TYPE D'ERREURS ---> remédiation ciblée sur groupes d'élèves de 4e
B12: b) EXCEL : onglet "ANALYSE AUTO" | C12: TABLEAU ET GRAPHIQUE GENERES AUTOMATIQUEMENT = ANALYSE DES REUSSITES PAR TYPE D'ITEMS, DE FAMILLES DE NOMBRES, D'AUTOMATISMES -> pilotage didactique cycle 4
B13: c) WORD "2026 EVA6-5-4-2 MATHS ANALYSE" | C13: Y COPIER-COLLER LES 2 GRAPHIQUES (TABLEAU ET DIAGRAMME EN BARRES) DU FICHIER EXCEL ONGLET "ANALYSE AUTO" : en page 3 pour TABLEAU et 4-5 pour BARRES
A15: Etape 3 | B15: a) EXCEL : onglet "TRAITEMENT RDP" | C15: PAGE GENERE AUTOMATIQUEMENT = ANALYSE DIDACTIQUE PAR TYPE D'ERREURS ---> remédiation ciblée sur groupes d'élèves de 4e
B16: b) EXCEL : onglet "ANALYSE RDP" | C16: TABLEAU ET GRAPHIQUE GENERES AUTOMATIQUEMENT = ANALYSE DES REUSSITES PAR TYPE DE TACHE CIBLEE, DE TYPE DE PROBLEME, DE CATEGORIES DE PROBLEMES -> pilotage didactique cycle 4
B17: c) WORD "2026 EVA6-5-4-2 MATHS ANALYSE" | C17: Y COPIER-COLLER LES 2 GRAPHIQUES (TABLEAU ET DIAGRAMME EN BARRES) DU FICHIER EXCEL ONGLET "ANALYSE RDP" : en page 6 pour TABLEAU et 7-8 pour BARRES
A19: Etape 4 | B19: a) EXCEL : onglet "GROUPES THEMES" | C19: PAGE GENEREE AUTOMATIQUEMENT ! Filtrer le groupe de maîtrise étudié dans chaque thème + Si besoin, filtrer en fonction du nombre de thèmes dans lesquels l'élève est en difficulté (cellule J2).
B20: b) WORD "2026 EVA6-5-4-2 MATHS ANALYSE" | C20: Y COPIER-COLLER LES GROUPES D'ELEVES TRIES SELON LE BESOIN : (Calcul, Grandeurs, Géométrie, Automatismes, Résolution de problèmes) ou le nombre de difficultés en page 10
A22: Etape 5 | B22: a) EXCEL : onglet "GROUPES D'ITEMS AUTO" | C22: PAGE GENEREE AUTOMATIQUEMENT ! Trier le % de réussite dans le groupe d'items souhaité.
B23: b) EXCEL : onglet "GROUPES D'ITEMS RDP" | C23: PAGE GENEREE AUTOMATIQUEMENT ! Trier le % de réussite dans le groupe d'items souhaité.
B24: c) WORD "2026 EVA6-5-4-2 MATHS ANALYSE" | C24: Y COPIER-COLLER LES GROUPES D'ELEVES TRIES SELON LE BESOIN IDENTIFIE (Groupes d'items d'automatismes ou Résolution de problèmes) en page 11

Sheet RESTITUTION
A1: COPIER-COLLER LE FICHIER "RESTITUTION" DU COLLEGE
A2: Classe | B2: NOM élève | C2: Prénom élève | D2: Test spécifique en automatismes : Mobiliser directement des procédures et des connaissances | E2: Test spécifique en résolution de problèmes : Résoudre des problèmes en utilisant des nombres, des données et des grandeurs | F2: Espace et géométrie : Connaître et utiliser des notions de géométrie | G2: Grandeurs et mesures : Connaître des grandeurs et utiliser des unités de mesure | H2: Nombres et calculs : Connaître les nombres et les utiliser dans des calculs | I2: Organisation et gestion de données, fonctions : Connaître et utiliser des données et la notion de fonction
A3: 4A | C3: Theo | D3: Satisfaisant | E3: Fragile | F3: Fragile | G3: Satisfaisant | H3: Fragile | I3: Satisfaisant
A4: 4A | C4: Felix | D4: Satisfaisant | E4: Satisfaisant | F4: Satisfaisant | G4: Satisfaisant | H4: Satisfaisant | I4: Satisfaisant
A5: 4A | C5: Nathan | D5: Fragile | E5: Fragile | F5: À besoins | G5: Fragile | H5: Fragile | I5: Fragile

Sheet TEST AUTO
A1: COPIER-COLLER LE FICHIER "SPECIFIQUE AUTOMATISMES", DE CHAQUE CLASSE, POUR TOUTES LES CLASSES LES UNES A LA SUITE DES AUTRES (après avoir effacé les données servant ici d'exemple)
A2: Classe | B2: NOM | C2: PRENOM | D2: Score du test spécifique | E2: Automatismes Q1 - réponse | F2: Automatismes Q1 - score | G2: Automatismes Q2 - réponse | H2: Automatismes Q2 - score | I2: Automatismes Q3 - réponse | J2: Automatismes Q3 - score | K2: Automatismes Q4 - réponse | L2: Automatismes Q4 - score | M2: Automatismes Q5 - réponse | N2: Automatismes Q5 - score | O2: Automatismes Q6 - réponse | P2: Automatismes Q6 - score | Q2: Automatismes Q7 - réponse | R2: Automatismes Q7 - score | S2: Automatismes Q8 - réponse | T2: Automatismes Q8 - score | U2: Automatismes Q9 - réponse | V2: Automatismes Q9 - score | W2: Automatismes Q10 - réponse | X2: Automatismes Q10 - score | Y2: Automatismes Q11 - réponse | Z2: Automatismes Q11 - score | AA2: Automatismes Q12 - réponse | AB2: Automatismes Q12 - score | AC2: Automatismes Q13 - réponse | AD2: Automatismes Q13 - score | AE2: Automatismes Q14 - réponse | AF2: Automatismes Q14 - score | AG2: Automatismes Q15 - réponse | AH2: Automatismes Q15 - score | AI2: Automatismes Q16 - réponse | AJ2: Automatismes Q16 - score | AK2: Automatismes Q17 - réponse | AL2: Automatismes Q17 - score | AM2: Automatismes Q18 - réponse | AN2: Automatismes Q18 - score | AO2: Automatismes Q19 - réponse | AP2: Automatismes Q19 - score
A3: 4A | C3: Zoé | D3: 9 | E3: 10 fois plus grand. | F3: 0 | G3: 35 | H3: 1 | I3: 5/8 | J3: 1 | K3: 186 | L3: 1 | M3: 12 | N3: 0 | O3: 2a + a3 + 7 | P3: 0 | Q3: 1h 35 min | R3: 0 | S3: 120 | T3: 1 | U3: 70° | V3: 0 | W3: 1 462 | X3: 0 | Y3: 18 km | Z3: 0 | AA3: 4 300 | AB3: 1 | AD3: 0 | AE3: 12 | AF3: 1 | AG3: 3/4 | AH3: 1 | AI3: 3/10 | AJ3: 1 | AK3: 32 | AL3: 0 | AM3: 7 500 | AN3: 1 | AO3: 30 | AP3: 0 | AQ3: le point A | AR3: 0 | AS3: 13 × 14 × 15 | AT3: 0 | AU3: 55 < 56/10 < 57 | AV3: 0
A4: 4A | C4: Noé | D4: 8 | E4: 10 fois plus grand. | F4: 0 | G4: 35 | H4: 1 | I4: 3/8 | J4: 0 | K4: 186 | L4: 1 | M4: 2 | N4: 1 | O4: a² + 3a + 7 | P4: 1 | Q4: 2h 15 min | R4: 1 | S4: 240 | T4: 0 | U4: 70° | V4: 0 | W4: 1 462 | X4: 0 | Y4: 18 km | Z4: 0 | AA4: 4,3 | AB4: 0 | AC4: Image G | AD4: 0 | AE4: 12 | AF4: 1 | AG4: 3/4 | AH4: 1 | AI4: 3/100 | AJ4: 0 | AK4: 48 | AL4: 0 | AM4: 750 | AN4: 0 | AO4: 17 | AP4: 0 | AQ4: le point C | AR4: 0 | AS4: 13 × 14 × 15 | AT4: 0 | AU4: 5 < 56/10 < 6 | AV4: 1
A5: 4A | C5: Adrien | D5: 5 | E5: 100 fois plus grand. | F5: 0 | G5: 35 | H5: 1 | I5: 5/3 | J5: 0 | K5: 186 | L5: 1 | M5: 2 | N5: 1 | O5: 2a + a3 + 7 | P5: 0 | Q5: 2h 15 min | R5: 1 | S5: 240 | T5: 0 | U5: 70° | V5: 0 | W5: 14,602 | X5: 1 | Y5: 36 km | Z5: 0 | AA5: 430 | AB5: 0 | AC5: Image G | AD5: 0 | AE5: – 12 | AF5: 0 | AG5: 4/3 | AH5: 0 | AI5: 0/3 | AJ5: 0 | AK5: 48 | AL5: 0 | AM5: 7,5 | AN5: 0 | AO5: 3 | AP5: 0 | AQ5: le point C | AR5: 0 | AS5: 13 × 14 × 15 | AT5: 0 | AU5: 0 < 56/10 < 1 | AV5: 0

Sheet TEST RDP
A1: COPIER-COLLER LE FICHIER "SPECIFIQUE RESOLUTION DE PROBLEMES", DE CHAQUE CLASSE, POUR TOUTES LES CLASSES LES UNES A LA SUITE DES AUTRES (après avoir effacé les données servant ici d'exemple)
A2: Classe | B2: NOM | C2: PRENOM | D2: Score du test spécifique | E2: Problèmes Q1 - réponse | F2: Problèmes Q1 - score | G2: Problèmes Q2 - réponse | H2: Problèmes Q2 - score | I2: Problèmes Q3 - réponse | J2: Problèmes Q3 - score | K2: Problèmes Q4 - réponse | L2: Problèmes Q4 - score | M2: Problèmes Q5 - réponse | N2: Problèmes Q5 - score | O2: Problèmes Q6 - réponse | P2: Problèmes Q6 - score | Q2: Problèmes Q7 - réponse | R2: Problèmes Q7 - score | S2: Problèmes Q8 - réponse | T2: Problèmes Q8 - score | U2: Problèmes Q9 - réponse | V2: Problèmes Q9 - score | W2: Problèmes Q10 - réponse | X2: Problèmes Q10 - score | Y2: Problèmes Q11 - réponse | Z2: Problèmes Q11 - score | AA2: Problèmes Q12 - réponse | AB2: Problèmes Q12 - score | AC2: Problèmes Q13 - réponse | AD2: Problèmes Q13 - score | AE2: Problèmes Q14 - réponse | AF2: Problèmes Q14 - score | AG2: Problèmes Q15 - réponse | AH2: Problèmes Q15 - score | AI2: Problèmes Q16 - réponse | AJ2: Problèmes Q16 - score | AK2: Problèmes Q17 - réponse | AL2: Problèmes Q17 - score | AM2: Problèmes Q18 - réponse | AN2: Problèmes Q18 - score | AO2: Problèmes Q19 - réponse | AP2: Problèmes Q19 - score
A3: 4A | C3: Zoé | D3: 8 | E3: 10 € | F3: 1 | G3: 30 m | H3: 0 | I3: 15 min | J3: 0 | K3: 7,20 € | L3: 1 | M3: 33 € | N3: 1 | O3: 20 km | P3: 1 | Q3: 9 km² | R3: 1 | S3: au chocolat. | T3: 0 | U3: 20 m | V3: 1 | W3: 2/4 | X3: 0 | Y3: 20 cL | Z3: 0 | AA3: 120 L | AB3: 0 | AC3: 3(b + a) | AD3: 0 | AE3: 7 m | AF3: 1 | AG3: OUI. Il pourra fabriquer douze figurines. | AH3: 0 | AI3: 70 pages | AJ3: 0 | AK3: 80 g | AL3: 0 | AM3: 80 % | AN3: 1 | AO3: Image HH | AP3: 0
A4: 4A | C4: Noé | D4: 7 | E4: 10 € | F4: 1 | G4: 40 m | H4: 1 | I4: 4 min | J4: 1 | K4: 7,30 € | L4: 0 | M4: 33 € | N4: 1 | O4: 15 km | P4: 0 | Q4: 60 km² | R4: 0 | S4: au chocolat. | T4: 0 | U4: 40 m | V4: 0 | W4: 2/6 | X4: 0 | Y4: 2 000 L | Z4: 0 | AA4: 120 L | AB4: 0 | AC4: 3(b – a) | AD4: 1 | AE4: 48 m | AF4: 0 | AG4: NON. Il lui manquera sept minutes. | AH4: 1 | AI4: 10 pages | AJ4: 0 | AK4: 80 kg | AL4: 0 | AM4: 80 % | AN4: 1 | AO4: Image HH | AP4: 0
A5: 4A | C5: Adrien | D5: 4 | E5: 10 € | F5: 1 | G5: 170 m | H5: 0 | I5: 15 min | J5: 0 | K5: 7,10 € | L5: 0 | M5: 33 € | N5: 1 | O5: 15 km | P5: 0 | Q5: 36 km² | R5: 0 | S5: à la fraise. | T5: 0 | U5: 40 m | V5: 0 | W5: 2/6 | X5: 0 | Y5: 2 000 L | Z5: 0 | AA5: 160 L | AB5: 0 | AC5: 3(b – a) | AD5: 1 | AE5: 64 m | AF5: 0 | AG5: OUI. Il pourra fabriquer douze figurines. | AH5: 0 | AI5: 70 pages | AJ5: 0 | AK5: 80 kg | AL5: 0 | AM5: 80 % | AN5: 1 | AO5: Image HH | AP5: 0

Sheet BILANS
A1: PAGE GENEREE AUTOMATIQUEMENT !
A3: Quels THEMES DU PROGRAMME sont à renforcer ? (vision cohorte de 4e ; par classe : effacer les autres données)
A4: THEMES MATHS | B4: À besoins | C4: Fragile | D4: Satisfaisant
A5: =RESTITUTION!F2 -> Espace et géométrie : Connaître et utiliser des notions de géométrie | B5: =(COUNTIF(RESTITUTION!$F:$F,BILANS!B$4)+COUNTIF(RESTITUTION!$F:$F,"pas de restitution"))/(COUNTA(RESTITUTION!$A:$A)-2) -> 0.33333333 | C5: =COUNTIF(RESTITUTION!$F:$F,BILANS!C$4)/(COUNTA(RESTITUTION!$A:$A)-2) -> 0.33333333 | D5: =COUNTIF(RESTITUTION!$F:$F,BILANS!D$4)/(COUNTA(RESTITUTION!$A:$A)-2) -> 0.33333333
A6: =RESTITUTION!G2 -> Grandeurs et mesures : Connaître des grandeurs et utiliser des unités de mesure | B6: =(COUNTIF(RESTITUTION!$G:$G,BILANS!B$4)+COUNTIF(RESTITUTION!$G:$G,"pas de restitution"))/(COUNTA(RESTITUTION!$A:$A)-2) -> 0 | C6: =COUNTIF(RESTITUTION!$G:$G,BILANS!C$4)/(COUNTA(RESTITUTION!$A:$A)-2) -> 0.33333333 | D6: =COUNTIF(RESTITUTION!$G:$G,BILANS!D$4)/(COUNTA(RESTITUTION!$A:$A)-2) -> 0.66666667
A7: =RESTITUTION!H2 -> Nombres et calculs : Connaître les nombres et les utiliser dans des calculs | B7: =(COUNTIF(RESTITUTION!$H:$H,BILANS!B$4)+COUNTIF(RESTITUTION!$H:$H,"pas de restitution"))/(COUNTA(RESTITUTION!$A:$A)-2) -> 0 | C7: =COUNTIF(RESTITUTION!$H:$H,BILANS!C$4)/(COUNTA(RESTITUTION!$A:$A)-2) -> 0.66666667 | D7: =COUNTIF(RESTITUTION!$H:$H,BILANS!D$4)/(COUNTA(RESTITUTION!$A:$A)-2) -> 0.33333333
A8: =RESTITUTION!I2 -> Organisation et gestion de données, fonctions : Connaître et utiliser des données et la notion de fonction | B8: =(COUNTIF(RESTITUTION!$I:$I,BILANS!B$4)+COUNTIF(RESTITUTION!$I:$I,"pas de restitution"))/(COUNTA(RESTITUTION!$A:$A)-2) -> 0 | C8: =COUNTIF(RESTITUTION!$I:$I,BILANS!C$4)/(COUNTA(RESTITUTION!$A:$A)-2) -> 0.33333333 | D8: =COUNTIF(RESTITUTION!$I:$I,BILANS!D$4)/(COUNTA(RESTITUTION!$A:$A)-2) -> 0.66666667
A16: Quelles priorités SPECIFIQUES D'ACCOMPAGNEMENT ? (vision cohorte de 4e ; par classe : effacer les autres données)
A17: TESTS SPECIFIQUES | B17: À besoins | C17: Fragile | D17: Satisfaisant
A18: =RESTITUTION!D2 -> Test spécifique en automatismes : Mobiliser directement des procédures et des connaissances | B18: =(COUNTIF(RESTITUTION!$D:$D,BILANS!B$17)+COUNTIF(RESTITUTION!$D:$D,"pas de restitution"))/(COUNTA(RESTITUTION!$A:$A)-2) -> 0 | C18: =COUNTIF(RESTITUTION!$D:$D,BILANS!C$17)/(COUNTA(RESTITUTION!$A:$A)-2) -> 0.33333333 | D18: =COUNTIF(RESTITUTION!$D:$D,BILANS!D$17)/(COUNTA(RESTITUTION!$A:$A)-2) -> 0.66666667
A19: =RESTITUTION!E2 -> Test spécifique en résolution de problèmes : Résoudre des problèmes en utilisant des nombres, des données et des grandeurs | B19: =(COUNTIF(RESTITUTION!$E:$E,BILANS!B$17)+COUNTIF(RESTITUTION!$E:$E,"pas de restitution"))/(COUNTA(RESTITUTION!$A:$A)-2) -> 0 | C19: =COUNTIF(RESTITUTION!$E:$E,BILANS!C$17)/(COUNTA(RESTITUTION!$A:$A)-2) -> 0.66666667 | D19: =COUNTIF(RESTITUTION!$E:$E,BILANS!D$17)/(COUNTA(RESTITUTION!$A:$A)-2) -> 0.33333333

Sheet TRAITEMENT AUTO
B1: PAGE GENEREE AUTOMATIQUEMENT = ANALYSE DIDACTIQUE PAR TYPE D'ERREURS ---> CREATION DE GROUPES DE REMEDIATION CIBLES PORTANT SUR LES ERREURS (par classe ou interclasses)
A2: Item | B2: PROBLEME : énoncé, % par réponse, descriptif du type de problème | C2: réponse 1 | D2: réponse 2 | E2: réponse 3 | F2: réponse 4 | G2: réponse 5
A3: 1 | B3: Lorsqu'on multiplie un nombre par 0,1 le nombre obtenu est … | C3: 10 fois plus petit. | D3: 10 fois plus grand. | E3: 100 fois plus petit. | F3: 100 fois plus grand. | G3: SANS REPONSE | H3: =COUNTA('TEST AUTO'!A:A)-2 -> 3
B4: NOMBRE DE REPONSES | C4: =COUNTIF('TEST AUTO'!$E:$E,'TRAITEMENT AUTO'!C$3) -> 0 | D4: =COUNTIF('TEST AUTO'!$E:$E,'TRAITEMENT AUTO'!D$3) -> 2 | E4: =COUNTIF('TEST AUTO'!$E:$E,'TRAITEMENT AUTO'!E$3) -> 0 | F4: =COUNTIF('TEST AUTO'!$E:$E,'TRAITEMENT AUTO'!F$3) -> 1 | G4: =H3-H4 -> 0 | H4: =SUM(C4:F4) -> 3
B5: % DE REPONSES | C5: =C4/$H3 -> 0 | D5: =D4/$H3 -> 0.66666667 | E5: =E4/$H3 -> 0 | F5: =F4/$H3 -> 0.33333333 | G5: =G4/$H3 -> 0 | H5: =SUM(C5:G5) -> 1
A6: TYPE | B6: L’élève doit caractériser le produit d'un nombre par 0,1. Calcul numérique. Entiers positifs. | D6: NON : pense que multiplier agrandit nécessairement. | E6: NON : confond "diviser par 10" avec "diviser par 100" du fait de la présence de deux chiffres (0 et 1) dans 0,1. | F6: NON : pense que multiplier agrandit nécessairement et confond "par 10" avec " par 100" du fait de la présence de deux chiffres dans 0,1. | G6: CONNAISSANCE ET PROCEDURE
A8: 2 | B8: Combien vaut la moitié de 70 ? | C8: 35 | D8: 45 | E8: 30 | F8: 40 | G8: SANS REPONSE | H8: =COUNTA('TEST AUTO'!A:A)-2 -> 3
B9: NOMBRE DE REPONSES | C9: =COUNTIF('TEST AUTO'!$G:$G,'TRAITEMENT AUTO'!C$8) -> 3 | D9: =COUNTIF('TEST AUTO'!$G:$G,'TRAITEMENT AUTO'!D$8) -> 0 | E9: =COUNTIF('TEST AUTO'!$G:$G,'TRAITEMENT AUTO'!E$8) -> 0 | F9: =COUNTIF('TEST AUTO'!$G:$G,'TRAITEMENT AUTO'!F$8) -> 0 | G9: =H8-H9 -> 0 | H9: =SUM(C9:F9) -> 3
B10: % DE REPONSES | C10: =C9/$H8 -> 1 | D10: =D9/$H8 -> 0 | E10: =E9/$H8 -> 0 | F10: =F9/$H8 -> 0 | G10: =G9/$H8 -> 0 | H10: =SUM(C10:G10) -> 1
A11: TYPE | B11: L’élève doit trouver la moitié d’un entier pair inférieur à 100. Calcul numérique. Entiers positifs. | D11: NON : confond avec la moitié de 90. | E11: NON : confond avec la moitié de 60. | F11: NON : confond avec la moitié de 80. | G11: CONNAISSANCE ET PROCEDURE
A13: 3 | B13: Quelle fraction de la surface est coloriée ? | C13: 5/8 | D13: 3/8 | E13: 3/5 | F13: 5/3 | G13: SANS REPONSE | H13: =COUNTA('TEST AUTO'!A:A)-2 -> 3
B14: NOMBRE DE REPONSES | C14: =COUNTIF('TEST AUTO'!$I:$I,'TRAITEMENT AUTO'!C$13) -> 1 | D14: =COUNTIF('TEST AUTO'!$I:$I,'TRAITEMENT AUTO'!D$13) -> 1 | E14: =COUNTIF('TEST AUTO'!$I:$I,'TRAITEMENT AUTO'!E$13) -> 0 | F14: =COUNTIF('TEST AUTO'!$I:$I,'TRAITEMENT AUTO'!F$13) -> 1 | G14: =H13-H14 -> 0 | H14: =SUM(C14:F14) -> 3
B15: % DE REPONSES | C15: =C14/$H13 -> 0.33333333 | D15: =D14/$H13 -> 0.33333333 | E15: =E14/$H13 -> 0 | F15: =F14/$H13 -> 0.33333333 | G15: =G14/$H13 -> 0 | H15: =SUM(C15:G15) -> 1
A16: TYPE | B16: L’élève doit déterminer la fraction d’une surface. Fraction. Partage. | D16: NON : interprète mal le mot « coloriée ». Il indique la proportion de secteurs blancs par rapport au nombre total de secteurs. | E16: NON : confond la proportion par rapport au total et par rapport au complémentaire. Il indique la proportion de secteurs blancs par rapport au nombre de secteurs bleus. | F16: NON : confond proportion par rapport au total et par rapport au complémentaire. Il indique la proportion de secteurs bleus par rapport au nombre de secteurs blancs. | G16: PROCEDURE
A18: 4 | B18: 168 + 18 = … | C18: 186 | D18: 176 | E18: 188 | F18: 190 | G18: SANS REPONSE | H18: =COUNTA('TEST AUTO'!A:A)-2 -> 3
B19: NOMBRE DE REPONSES | C19: =COUNTIF('TEST AUTO'!$K:$K,'TRAITEMENT AUTO'!C$18) -> 3 | D19: =COUNTIF('TEST AUTO'!$K:$K,'TRAITEMENT AUTO'!D$18) -> 0 | E19: =COUNTIF('TEST AUTO'!$K:$K,'TRAITEMENT AUTO'!E$18) -> 0 | F19: =COUNTIF('TEST AUTO'!$K:$K,'TRAITEMENT AUTO'!F$18) -> 0 | G19: =H18-H19 -> 0 | H19: =SUM(C19:F19) -> 3
B20: % DE REPONSES | C20: =C19/$H18 -> 1 | D20: =D19/$H18 -> 0 | E20: =E19/$H18 -> 0 | F20: =F19/$H18 -> 0 | G20: =G19/$H18 -> 0 | H20: =SUM(C20:G20) -> 1
A21: TYPE | B21: L’élève doit additionner des nombres entiers. Calcul numérique. Entiers positifs. | D21: NON : 168 + 20 à erreur de calcul ou méconnaissance des tables d’addition. OUI : débute la procédure « Ajouter 20 puis soustraire 2 » NON : oublie la seconde étape. | E21: NON : à 168 + 22 erreur de calcul ou méconnaissance des tables d’addition. OUI : débute la procédure « Ajouter 20 puis soustraire 2 » NON : additionne 2 au lieu de soustraire. | F21: NON : 168 + 8 à erreur de retenue ou oublie d‘ajouter 10 dans la procédure « Ajouter 10 puis 2 puis 6 ». | G21: CONNAISSANCE ET PROCEDURE
A23: 5 | B23: − 5 + 7 = … | C23: 2 | D23: – 12 | E23: 12 | F23: – 2 | G23: SANS REPONSE | H23: =COUNTA('TEST AUTO'!A:A)-2 -> 3
B24: NOMBRE DE REPONSES | C24: =COUNTIF('TEST AUTO'!$M:$M,'TRAITEMENT AUTO'!C$23) -> 2 | D24: =COUNTIF('TEST AUTO'!$M:$M,'TRAITEMENT AUTO'!D$23) -> 0 | E24: =COUNTIF('TEST AUTO'!$M:$M,'TRAITEMENT AUTO'!E$23) -> 1 | F24: =COUNTIF('TEST AUTO'!$M:$M,'TRAITEMENT AUTO'!F$23) -> 0 | G24: =H23-H24 -> 0 | H24: =SUM(C24:F24) -> 3
B25: % DE REPONSES | C25: =C24/$H23 -> 0.66666667 | D25: =D24/$H23 -> 0 | E25: =E24/$H23 -> 0.33333333 | F25: =F24/$H23 -> 0 | G25: =G24/$H23 -> 0 | H25: =SUM(C25:G25) -> 1
A26: TYPE | B26: L’élève doit additionner des nombres entiers relatifs. Calcul numérique. Relatifs. | D26: Méconnaissance des règles de calcul de la somme de deux nombres relatifs, en particulier de la gestion du signe –. NON : 5 + 7 et résultat négatif. | E26: Méconnaissance des règles de calcul de la somme de deux nombres relatifs, en particulier de la gestion du signe -. OUI : résultat positif. NON : 5 + 7. | F26: Méconnaissance des règles de calcul de la somme de deux nombres relatifs, en particulier de la gestion du signe -. OUI : 7 – 5. NON : résultat négatif | G26: CONNAISSANCE ET PROCEDURE
A28: 6 | B28: a × a + a × 3 + 7 = … | C28: a² + 3a + 7 | D28: a² + 10a | E28: 2a + a3 + 7 | F28: 11a | G28: SANS REPONSE | H28: =COUNTA('TEST AUTO'!A:A)-2 -> 3
B29: NOMBRE DE REPONSES | C29: =COUNTIF('TEST AUTO'!$O:$O,'TRAITEMENT AUTO'!C$28) -> 1 | D29: =COUNTIF('TEST AUTO'!$O:$O,'TRAITEMENT AUTO'!D$28) -> 0 | E29: =COUNTIF('TEST AUTO'!$O:$O,'TRAITEMENT AUTO'!E$28) -> 2 | F29: =COUNTIF('TEST AUTO'!$O:$O,'TRAITEMENT AUTO'!F$28) -> 0 | G29: =H28-H29 -> 0 | H29: =SUM(C29:F29) -> 3
B30: % DE REPONSES | C30: =C29/$H28 -> 0.33333333 | D30: =D29/$H28 -> 0 | E30: =E29/$H28 -> 0.66666667 | F30: =F29/$H28 -> 0 | G30: =G29/$H28 -> 0 | H30: =SUM(C30:G30) -> 1
A31: TYPE | B31: L’élève doit simplifier l'écrture d'une expression littérale. Calcul littéral. Entiers positifs. | D31: OUI : simplifie correctement le premier terme a × a. NON : ne maîtrise pas les priorités opératoires. Réduction erronée de 3a + 7 en 10a. | E31: NON : confond carré et double et ne sait pas simplifier a × 3 (conventions d'écriture non maîtrisées). | F31: NON : ne prend pas en compte le degré de chaque terme de l'expression littérale et additionne les coefficients avec le terme constant. | G31: CONNAISSANCE ET PROCEDURE
A33: 7 | B33: Max assiste à un spectacle qui dure 135 minutes. Comment cette durée peut-elle s’écrire autrement ? | C33: 2h 15 min | D33: 2h 35 min | E33: 1h 15 min | F33: 1h 35 min | G33: SANS REPONSE | H33: =COUNTA('TEST AUTO'!A:A)-2 -> 3
B34: NOMBRE DE REPONSES | C34: =COUNTIF('TEST AUTO'!$Q:$Q,'TRAITEMENT AUTO'!C$33) -> 2 | D34: =COUNTIF('TEST AUTO'!$Q:$Q,'TRAITEMENT AUTO'!D$33) -> 0 | E34: =COUNTIF('TEST AUTO'!$Q:$Q,'TRAITEMENT AUTO'!E$33) -> 0 | F34: =COUNTIF('TEST AUTO'!$Q:$Q,'TRAITEMENT AUTO'!F$33) -> 1 | G34: =H33-H34 -> 0 | H34: =SUM(C34:F34) -> 3
B35: % DE REPONSES | C35: =C34/$H33 -> 0.66666667 | D35: =D34/$H33 -> 0 | E35: =E34/$H33 -> 0 | F35: =F34/$H33 -> 0.33333333 | G35: =G34/$H33 -> 0 | H35: =SUM(C35:G35) -> 1
A36: TYPE | B36: L’élève doit convertir des durées en heures et minutes. Entiers positifs. Conversion. | D36: OUI : repère bien que 135 min est supérieur à 120 min, donc à 2h. NON : reprend les 35 min dans le résultat. | E36: OUI : décompose 135 min en 120 min + 15 min. NON : oublie de convertir 120 min en 2h. | F36: NON : convertit 1h en 100 min (confond avec le système décimal). | G36: CONNAISSANCE ET PROCEDURE
A38: 8 | B38: 12 × 7 + 12 × 3 = … | C38: 120 | D38: 36 | E38: 84 | F38: 240 | G38: SANS REPONSE | H38: =COUNTA('TEST AUTO'!A:A)-2 -> 3
B39: NOMBRE DE REPONSES | C39: =COUNTIF('TEST AUTO'!$S:$S,'TRAITEMENT AUTO'!C$38) -> 1 | D39: =COUNTIF('TEST AUTO'!$S:$S,'TRAITEMENT AUTO'!D$38) -> 0 | E39: =COUNTIF('TEST AUTO'!$S:$S,'TRAITEMENT AUTO'!E$38) -> 0 | F39: =COUNTIF('TEST AUTO'!$S:$S,'TRAITEMENT AUTO'!F$38) -> 2 | G39: =H38-H39 -> 0 | H39: =SUM(C39:F39) -> 3
B40: % DE REPONSES | C40: =C39/$H38 -> 0.33333333 | D40: =D39/$H38 -> 0 | E40: =E39/$H38 -> 0 | F40: =F39/$H38 -> 0.66666667 | G40: =G39/$H38 -> 0 | H40: =SUM(C40:G40) -> 1
A41: TYPE | B41: L’élève doit factoriser une expression numérique pour la calculer mentalement. Calcul numérique. Entiers positifs. | D41: OUI : priorités de calcul respectées. NON : seul le second terme a été calculé. Ne factorise pas. | E41: OUI : priorités de calcul respectées. NON : seul le premier terme a été calculé. Ne factorise pas. | F41: OUI : connaissance partielle de la factorisation. NON : met autant de fois 12 en facteur qu’il apparait dans l’expression de départ. | G41: CONNAISSANCE ET PROCEDURE
A43: 9 | B43: La mesure de l’angle est égale à … | C43: 110° | D43: 20° | E43: 50° | F43: 70° | G43: SANS REPONSE | H43: =COUNTA('TEST AUTO'!A:A)-2 -> 3
B44: NOMBRE DE REPONSES | C44: =COUNTIF('TEST AUTO'!$U:$U,'TRAITEMENT AUTO'!C$43) -> 0 | D44: =COUNTIF('TEST AUTO'!$U:$U,'TRAITEMENT AUTO'!D$43) -> 0 | E44: =COUNTIF('TEST AUTO'!$U:$U,'TRAITEMENT AUTO'!E$43) -> 0 | F44: =COUNTIF('TEST AUTO'!$U:$U,'TRAITEMENT AUTO'!F$43) -> 3 | G44: =H43-H44 -> 0 | H44: =SUM(C44:F44) -> 3
B45: % DE REPONSES | C45: =C44/$H43 -> 0 | D45: =D44/$H43 -> 0 | E45: =E44/$H43 -> 0 | F45: =F44/$H43 -> 1 | G45: =G44/$H43 -> 0 | H45: =SUM(C45:G45) -> 1
A46: TYPE | B46: L’élève doit calculer un angle dans un triangle connaissant les deux autres. Application d'une propriété ou d'une formule (géométrie). Entiers positifs. | D46: NON : associe la notation de l'angle à l’angle de sommet K et non celui de sommet J. | E46: NON : associe la notation de l'angle à l’angle de sommet I et non celui de sommet J. | F46: OUI : effectue le calcul intermédiaire 20° + 50°. NON : ne soustrait pas le résultat à 180°. | G46: CONNAISSANCE ET PROCEDURE
A48: 10 | C48: 14,602 | D48: 14,62 | E48: 140,62 | F48: 1 462 | G48: SANS REPONSE | H48: =COUNTA('TEST AUTO'!A:A)-2 -> 3
B49: NOMBRE DE REPONSES | C49: =COUNTIF('TEST AUTO'!$W:$W,'TRAITEMENT AUTO'!C$48) -> 1 | D49: =COUNTIF('TEST AUTO'!$W:$W,'TRAITEMENT AUTO'!D$48) -> 0 | E49: =COUNTIF('TEST AUTO'!$W:$W,'TRAITEMENT AUTO'!E$48) -> 0 | F49: =COUNTIF('TEST AUTO'!$W:$W,'TRAITEMENT AUTO'!F$48) -> 2 | G49: =H48-H49 -> 0 | H49: =SUM(C49:F49) -> 3
...

Sheet TRAIT AUTO-pdf
A1: PAGE A IMPRIMER EN PDF POUR UN TRAVAIL CIBLE PAR ITEM (pour liaison cycle 4, en équipe COLLEGE, etc.)
C9: 10 fois plus petit. | D9: ='TRAITEMENT AUTO'!C$4 -> 0 | E9: =D9/D$14 -> 0
C10: 10 fois plus grand. | D10: ='TRAITEMENT AUTO'!D$4 -> 2 | E10: =D10/D$14 -> 0.66666667 | F10: NON : pense que multiplier agrandit nécessairement.
C11: 100 fois plus petit. | D11: ='TRAITEMENT AUTO'!E$4 -> 0 | E11: =D11/D$14 -> 0 | F11: NON : confond "diviser par 10" avec "diviser par 100" du fait de la présence de deux chiffres (0 et 1) dans 0,1.
C12: 100 fois plus grand. | D12: ='TRAITEMENT AUTO'!F$4 -> 1 | E12: =D12/D$14 -> 0.33333333 | F12: NON : pense que multiplier agrandit nécessairement et confond "par 10" avec " par 100" du fait de la présence de deux chiffres dans 0,1.
C13: Pas de réponse | D13: =D14-(D9+D10+D11+D12) -> 0 | E13: =D13/D$14 -> 0
C14: Total | D14: =COUNTA('TEST AUTO'!$C:$C)-1 -> 3 | E14: =SUM(E9:E13) -> 1
C20: 35 | D20: ='TRAITEMENT AUTO'!C$9 -> 3 | E20: =D20/D$14 -> 1
C21: 45 | D21: ='TRAITEMENT AUTO'!D$9 -> 0 | E21: =D21/D$14 -> 0 | F21: NON : confond avec la moitié de 90.
C22: 30 | D22: ='TRAITEMENT AUTO'!E$9 -> 0 | E22: =D22/D$14 -> 0 | F22: NON : confond avec la moitié de 60.
C23: 40 | D23: ='TRAITEMENT AUTO'!F$9 -> 0 | E23: =D23/D$14 -> 0 | F23: NON : confond avec la moitié de 80.
C24: Pas de réponse | D24: =D25-(D20+D21+D22+D23) -> 0 | E24: =D24/D$14 -> 0
C25: Total | D25: =COUNTA('TEST AUTO'!$C:$C)-1 -> 3 | E25: =SUM(E20:E24) -> 1
C31: 5/8 | D31: ='TRAITEMENT AUTO'!C$14 -> 1 | E31: =D31/D$14 -> 0.33333333
C32: 3/8 | D32: ='TRAITEMENT AUTO'!D$14 -> 1 | E32: =D32/D$14 -> 0.33333333 | F32: NON : interprète mal le mot « coloriée ». Il indique la proportion de secteurs blancs par rapport au nombre total de secteurs.
C33: 3/5 | D33: ='TRAITEMENT AUTO'!E$14 -> 0 | E33: =D33/D$14 -> 0 | F33: NON : confond la proportion par rapport au total et par rapport au complémentaire. Il indique la proportion de secteurs blancs par rapport au nombre de secteurs bleus.
C34: 5/3 | D34: ='TRAITEMENT AUTO'!F$14 -> 1 | E34: =D34/D$14 -> 0.33333333 | F34: NON : confond proportion par rapport au total et par rapport au complémentaire. Il indique la proportion de secteurs bleus par rapport au nombre de secteurs blancs.
C35: Pas de réponse | D35: =D36-(D31+D32+D33+D34) -> 0 | E35: =D35/D$14 -> 0
C36: Total | D36: =COUNTA('TEST AUTO'!$C:$C)-1 -> 3 | E36: =SUM(E31:E35) -> 1
C42: 186 | D42: ='TRAITEMENT AUTO'!C$19 -> 3 | E42: =D42/D$14 -> 1
C43: 176 | D43: ='TRAITEMENT AUTO'!D$19 -> 0 | E43: =D43/D$14 -> 0 | F43: NON : 168 + 20 à erreur de calcul ou méconnaissance des tables d’addition. OUI : débute la procédure « Ajouter 20 puis soustraire 2 » NON : oublie la seconde étape.
C44: 188 | D44: ='TRAITEMENT AUTO'!E$19 -> 0 | E44: =D44/D$14 -> 0 | F44: NON : à 168 + 22 erreur de calcul ou méconnaissance des tables d’addition. OUI : débute la procédure « Ajouter 20 puis soustraire 2 » NON : additionne 2 au lieu de soustraire.
C45: 190 | D45: ='TRAITEMENT AUTO'!F$19 -> 0 | E45: =D45/D$14 -> 0 | F45: NON : 168 + 8 à erreur de retenue ou oublie d‘ajouter 10 dans la procédure « Ajouter 10 puis 2 puis 6 ».
C46: Pas de réponse | D46: =D47-(D42+D43+D44+D45) -> 0 | E46: =D46/D$14 -> 0
C47: Total | D47: =COUNTA('TEST AUTO'!$C:$C)-1 -> 3 | E47: =SUM(E42:E46) -> 1
C53: 2 | D53: ='TRAITEMENT AUTO'!C$24 -> 2 | E53: =D53/D$14 -> 0.66666667
C54: – 12 | D54: ='TRAITEMENT AUTO'!D$24 -> 0 | E54: =D54/D$14 -> 0 | F54: Méconnaissance des règles de calcul de la somme de deux nombres relatifs, en particulier de la gestion du signe –. NON : 5 + 7 et résultat négatif.
C55: 12 | D55: ='TRAITEMENT AUTO'!E$24 -> 1 | E55: =D55/D$14 -> 0.33333333 | F55: Méconnaissance des règles de calcul de la somme de deux nombres relatifs, en particulier de la gestion du signe -. OUI : résultat positif. NON : 5 + 7.
C56: – 2 | D56: ='TRAITEMENT AUTO'!F$24 -> 0 | E56: =D56/D$14 -> 0 | F56: Méconnaissance des règles de calcul de la somme de deux nombres relatifs, en particulier de la gestion du signe -. OUI : 7 – 5. NON : résultat négatif
C57: Pas de réponse | D57: =D58-(D53+D54+D55+D56) -> 0 | E57: =D57/D$14 -> 0
C58: Total | D58: =COUNTA('TEST AUTO'!$C:$C)-1 -> 3 | E58: =SUM(E53:E57) -> 1
C64: a² + 3a + 7 | D64: ='TRAITEMENT AUTO'!C$29 -> 1 | E64: =D64/D$14 -> 0.33333333
C65: a² + 10a | D65: ='TRAITEMENT AUTO'!D$29 -> 0 | E65: =D65/D$14 -> 0 | F65: OUI : simplifie correctement le premier terme a × a. NON : ne maîtrise pas les priorités opératoires. Réduction erronée de 3a + 7 en 10a.
C66: 2a + a3 + 7 | D66: ='TRAITEMENT AUTO'!E$29 -> 2 | E66: =D66/D$14 -> 0.66666667 | F66: NON : confond carré et double et ne sait pas simplifier a × 3 (conventions d'écriture non maîtrisées).
C67: 11a | D67: ='TRAITEMENT AUTO'!F$29 -> 0 | E67: =D67/D$14 -> 0 | F67: NON : ne prend pas en compte le degré de chaque terme de l'expression littérale et additionne les coefficients avec le terme constant.
C68: Pas de réponse | D68: =D69-(D64+D65+D66+D67) -> 0 | E68: =D68/D$14 -> 0
C69: Total | D69: =COUNTA('TEST AUTO'!$C:$C)-1 -> 3 | E69: =SUM(E64:F68) -> 1
C74: 2 h 15 min | D74: ='TRAITEMENT AUTO'!C$34 -> 2 | E74: =D74/D$14 -> 0.66666667
C75: 2 h 35 min | D75: ='TRAITEMENT AUTO'!D$34 -> 0 | E75: =D75/D$14 -> 0 | F75: OUI : repère bien que 135 min est supérieur à 120 min, donc à 2h. NON : reprend les 35 min dans le résultat.
C76: 1 h 15 min | D76: ='TRAITEMENT AUTO'!E$34 -> 0 | E76: =D76/D$14 -> 0 | F76: OUI : décompose 135 min en 120 min + 15 min. NON : oublie de convertir 120 min en 2h.
...

Sheet ANALYSE AUTO
A1: TABLEAU ET GRAPHIQUES GENERES AUTOMATIQUEMENT = ANALYSE DES REUSSITES PAR TYPE D'ITEMS, DE FAMILLES DE NOMBRES, DE TACHES -> PILOTAGE DIDACTIQUE SUR TOUT LE CYCLE 4
A2: TYPE DE TACHE FAMILLE DE NOMBRES (% de REUSSITES) | B2: Calcul numérique | C2: Calcul littéral | D2: Partage | E2: Différentes écritures d'un nombre | F2: Conversion | G2: Repérage (sur une droite, dans le plan) | H2: Proportionnalité | I2: Application d'une propriété ou d'une formule (géométrie, grandeurs et mesures) | J2: TOTAL
A3: ENTIERS ET DECIMAUX (en écriture décimale) POSITIFS | B3: ITEMS : 1-2-4-8-11-17-19 | C3: ITEMS : 6-17 | E3: ITEMS : 10-12-16-22 | F3: ITEMS : 7-11-18 | G3: ITEM : 20 | H3: ITEMS : 11-19 | I3: ITEMS : 9-21 | J3: =D39 -> 0.31372549
B4: =AVERAGE('TRAITEMENT AUTO'!C5,'TRAITEMENT AUTO'!C10,'TRAITEMENT AUTO'!C20,'TRAITEMENT AUTO'!C40,'TRAITEMENT AUTO'!C55,'TRAITEMENT AUTO'!C86,'TRAITEMENT AUTO'!C96) -> 0.33333333 | C4: =AVERAGE('TRAITEMENT AUTO'!C30,'TRAITEMENT AUTO'!C86) -> 0.16666667 | E4: =AVERAGE('TRAITEMENT AUTO'!C50,'TRAITEMENT AUTO'!C60,'TRAITEMENT AUTO'!C81,'TRAITEMENT AUTO'!C111) -> 0.33333333 | F4: =AVERAGE('TRAITEMENT AUTO'!C35,'TRAITEMENT AUTO'!C55,'TRAITEMENT AUTO'!C91) -> 0.33333333 | G4: ='TRAITEMENT AUTO'!C101 -> 0 | H4: =AVERAGE('TRAITEMENT AUTO'!C55,'TRAITEMENT AUTO'!C96) -> 0 | I4: =AVERAGE('TRAITEMENT AUTO'!C45,'TRAITEMENT AUTO'!C106) -> 0.16666667
A5: FRACTIONS | D5: ITEM : 3-13 | E5: ITEMS : 10-16-22 | G5: ITEM : 15 | J5: =D56 -> 0.44444444
D6: =AVERAGE('TRAITEMENT AUTO'!C15,'TRAITEMENT AUTO'!C66) -> 0.5 | E6: =AVERAGE('TRAITEMENT AUTO'!C50,'TRAITEMENT AUTO'!C81,'TRAITEMENT AUTO'!C111) -> 0.33333333 | G6: ='TRAITEMENT AUTO'!C76 -> 0.66666667
A7: RELATIFS | B7: ITEMS : 5-14 | J7: =D62 -> 0.66666667
B8: =AVERAGE('TRAITEMENT AUTO'!C25,'TRAITEMENT AUTO'!C71) -> 0.66666667
A9: TOTAL | B9: =D66 -> 0.40740741 | C9: =D75 -> 0.16666667 | D9: =D77 -> 0.5 | E9: =D79 -> 0.33333333 | F9: =D83 -> 0.33333333 | G9: =D86 -> 0.33333333 | H9: =D88 -> 0 | I9: =D90 -> 0.16666667
K13: ↓↓↓↓
A14: Descriptif de la tâche | B14: ITEMS AUTO | C14: % DE REUSSITE
A15: Multiplication par 0,1. | B15: 1 | C15: ='TRAITEMENT AUTO'!C5 -> 0
A16: Calcul de la moitié d'un entier positif pair. | B16: 2 | C16: ='TRAITEMENT AUTO'!C10 -> 1
A17: Détermination de la fraction d'une surface. | B17: 3 | C17: ='TRAITEMENT AUTO'!C15 -> 0.33333333
A18: Addition de deux entiers positifs. | B18: 4 | C18: ='TRAITEMENT AUTO'!C20 -> 1
A19: Addition de deux entiers relatifs. | B19: 5 | C19: ='TRAITEMENT AUTO'!C25 -> 0.66666667
A20: Simplification de l'écriture d'une expression littérale. | B20: 6 | C20: ='TRAITEMENT AUTO'!C30 -> 0.33333333
A21: Conversion d'une durée en h min. | B21: 7 | C21: ='TRAITEMENT AUTO'!C35 -> 0.66666667
A22: Calcul mental à l'aide d'une factorisation. | B22: 8 | C22: ='TRAITEMENT AUTO'!C40 -> 0.33333333
A23: Calcul d'un angle dans un triangle connaissant les deux autres. | B23: 9 | C23: ='TRAITEMENT AUTO'!C45 -> 0
A24: Décomposition additive à l'aide de fractions décimales à écriture décimale. | B24: 10 | C24: ='TRAITEMENT AUTO'!C50 -> 0.33333333
A25: Calcul d'une distance à partir d'une vitesse et d'un temps. | B25: 11 | C25: ='TRAITEMENT AUTO'!C55 -> 0
A26: Correspondance entre unités de numération. | B26: 12 | C26: ='TRAITEMENT AUTO'!C60 -> 0.33333333
A27: Correspondance fraction / partage d'une surface. | B27: 13 | C27: ='TRAITEMENT AUTO'!C66 -> 0.66666667
A28: Soustraction de deux entiers relatifs. | B28: 14 | C28: ='TRAITEMENT AUTO'!C71 -> 0.66666667
A29: Repérage sur une droite graduée. | B29: 15 | C29: ='TRAITEMENT AUTO'!C76 -> 0.66666667
A30: Association d'un nombre écrit sous forme décimale à une fraction. | B30: 16 | C30: ='TRAITEMENT AUTO'!C81 -> 0.33333333
A31: Substitution dans une expression littérale. | B31: 17 | C31: ='TRAITEMENT AUTO'!C86 -> 0
A32: Conversion d'une capacité. | B32: 18 | C32: ='TRAITEMENT AUTO'!C91 -> 0.33333333
A33: Calcul d'une 4e proportionnelle (dans un tableau). | B33: 19 | C33: ='TRAITEMENT AUTO'!C96 -> 0
A34: Repérage dans le plan. | B34: 20 | C34: ='TRAITEMENT AUTO'!C101 -> 0
A35: Détermination du calcul de l'aire d'un triangle. | B35: 21 | C35: ='TRAITEMENT AUTO'!C106 -> 0.33333333
A36: Encadrement d'une fractionn décimale par deux entiers consécutifs. | B36: 22 | C36: ='TRAITEMENT AUTO'!C111 -> 0.33333333
A38: REGROUPEMENTS PAR FAMILLES DE NOMBRES | B38: ITEMS AUTO | C38: % DE REUSSITE | D38: % DE REUSSITE
A39: Multiplication par 0,1. | B39: 1 | C39: ='TRAITEMENT AUTO'!C5 -> 0 | D39: =AVERAGE(C39:C55) -> 0.31372549
A40: Calcul de la moitié d'un entier positif pair. | B40: 2 | C40: ='TRAITEMENT AUTO'!C10 -> 1
A41: Addition de deux entiers positifs. | B41: 4 | C41: ='TRAITEMENT AUTO'!C20 -> 1
A42: Simplification de l'écriture d'une expression littérale. | B42: 6 | C42: ='TRAITEMENT AUTO'!C30 -> 0.33333333
A43: Conversion d'une durée en h min. | B43: 7 | C43: ='TRAITEMENT AUTO'!C35 -> 0.66666667
A44: Calcul mental à l'aide d'une factorisation. | B44: 8 | C44: ='TRAITEMENT AUTO'!C40 -> 0.33333333
...

Sheet TRAITEMENT RDP
B1: PAGE GENEREE AUTOMATIQUEMENT = ANALYSE DIDACTIQUE PAR TYPE D'ERREURS ---> CREATION DE GROUPES DE REMEDIATION CIBLES PORTANT SUR LES ERREURS (par classe ou interclasses)
A2: Item | B2: PROBLEME : énoncé, % par réponse, descriptif du type de problème | C2: réponse 1 | D2: réponse 2 | E2: réponse 3 | F2: réponse 4 | G2: réponse 5
A3: 1 | B3: Dans un supermarché, les fraises sont à 2 € le kilogramme. Combien vais-je payer pour acheter 5 kg de fraises dans ce supermarché ? | C3: 10 | D3: 5 | E3: 6 | F3: 7 | G3: SANS REPONSE | H3: =COUNTA('TEST RDP'!A:A)-2 -> 3
B4: NOMBRE DE REPONSES | C4: =COUNTIF('TEST RDP'!$E:$E,'TRAITEMENT RDP'!C$3) -> 3 | D4: =COUNTIF('TEST RDP'!$E:$E,'TRAITEMENT RDP'!D$3) -> 0 | E4: =COUNTIF('TEST RDP'!$E:$E,'TRAITEMENT RDP'!E$3) -> 0 | F4: =COUNTIF('TEST RDP'!$E:$E,'TRAITEMENT RDP'!F$3) -> 0 | G4: =H3-H4 -> 0 | H4: =SUM(C4:F4) -> 3
B5: % DE REPONSES | C5: =C4/$H3 -> 1 | D5: =D4/$H3 -> 0 | E5: =E4/$H3 -> 0 | F5: =F4/$H3 -> 0 | G5: =G4/$H3 -> 0 | H5: =SUM(C5:G5) -> 1
A6: TYPE | B6: L’élève doit déterminer un prix en euro (multiplier le prix à l’unité par la masse). Problème à une étape. Problème multiplicatif – proportionnalité simple avec référence à l’unité. | D6: NON : reprend uniquement le 5 de 5 kg sans calculer. | E6: NON : champ additif. NON : considère que la masse augmentant de 4, le prix augmente aussi de 4. | F6: NON : champ additif. | G6: Contexte familier.
A8: 2 | B8: Le dessin ci-dessous représente le plan d’un terrain clos. On connait la longueur de quatre des côtés du terrain. Le périmètre de ce terrain est de 210 m. Quelle est la longueur du cinquième côté ? | C8: 40 m | D8: 170 m | E8: 30 m | F8: 210 m | G8: SANS REPONSE | H8: =COUNTA('TEST RDP'!A:A)-2 -> 3
B9: NOMBRE DE REPONSES | C9: =COUNTIF('TEST RDP'!$G:$G,'TRAITEMENT RDP'!C$8) -> 1 | D9: =COUNTIF('TEST RDP'!$G:$G,'TRAITEMENT RDP'!D$8) -> 1 | E9: =COUNTIF('TEST RDP'!$G:$G,'TRAITEMENT RDP'!E$8) -> 1 | F9: =COUNTIF('TEST RDP'!$G:$G,'TRAITEMENT RDP'!F$8) -> 0 | G9: =H8-H9 -> 0 | H9: =SUM(C9:F9) -> 3
B10: % DE REPONSES | C10: =C9/$H8 -> 0.33333333 | D10: =D9/$H8 -> 0.33333333 | E10: =E9/$H8 -> 0.33333333 | F10: =F9/$H8 -> 0 | G10: =G9/$H8 -> 0 | H10: =SUM(C10:G10) -> 1
A11: TYPE | B11: L’élève doit déterminer une longueur en mètre (soustraire les côtés connus au périmètre). Problème à plusieurs étapes. Problème additif – recherche d’une partie d’un tout. Peut nécessiter une représentation ou une modélisation. | D11: OUI : connaissance de la notion de périmètre. NON : pense que la somme des deux derniers doit être égale à 50 m (les trois autres côtés étant égaux à 50 m). | E11: OUI : calcule la somme des longueurs des côtés indiqués. NON : oublie de soustraire ce résultat au périmètre. | F11: NON : reprend le périmètre du terrain. | G11: Contexte familier. Nécessite la mise en relation d’un texte et d’une figure.
A13: 3 | B13: César et Romain habitent à la même distance du collège. Romain vient au collège à pied. Sa vitesse est de 5 km/h. César vient à vélo. Il est trois fois plus rapide. Le trajet de Romain dure 12 minutes. Combien dure le trajet de César ? | C13: 4 min | D13: 36 min | E13: 15 min | F13: 3 min | G13: SANS REPONSE | H13: =COUNTA('TEST RDP'!A:A)-2 -> 3
B14: NOMBRE DE REPONSES | C14: =COUNTIF('TEST RDP'!$I:$I,'TRAITEMENT RDP'!C$13) -> 1 | D14: =COUNTIF('TEST RDP'!$I:$I,'TRAITEMENT RDP'!D$13) -> 0 | E14: =COUNTIF('TEST RDP'!$I:$I,'TRAITEMENT RDP'!E$13) -> 2 | F14: =COUNTIF('TEST RDP'!$I:$I,'TRAITEMENT RDP'!F$13) -> 0 | G14: =H13-H14 -> 0 | H14: =SUM(C14:F14) -> 3
B15: % DE REPONSES | C15: =C14/$H13 -> 0.33333333 | D15: =D14/$H13 -> 0 | E15: =E14/$H13 -> 0.66666667 | F15: =F14/$H13 -> 0 | G15: =G14/$H13 -> 0 | H15: =SUM(C15:G15) -> 1
A16: TYPE | B16: L’élève doit doit déterminer la durée d’un trajet. Présence d'une donnée inutile. Problème à une étape. Problème multiplicatif – comparaison multiplicative de grandeurs « fois plus » avec recherche du résultat. Peut nécessiter une représentation ou une modélisation. | D16: OUI : comprend bien que 3 est un coefficient - champ multiplicatif. NON : multiplie au lieu de diviser (erreur sur le référent). | E16: NON : additif. | F16: NON : comprend "3 fois plus rapide" comme étant 3 min. | G16: Contexte familier.
A18: 4 | B18: Dans une même boulangerie, Lucas achète 7 pains au chocolat et paie 6,30 €, Enzo achète 9 pains au chocolat et paie 8,10 €. Combien paierait Camillia pour 8 pains au chocolat ? | C18: 7.2 | D18: 0.9 | E18: 7.1 | F18: 7.3 | G18: SANS REPONSE | H18: =COUNTA('TEST RDP'!A:A)-2 -> 3
B19: NOMBRE DE REPONSES | C19: =COUNTIF('TEST RDP'!$K:$K,'TRAITEMENT RDP'!C$18) -> 1 | D19: =COUNTIF('TEST RDP'!$K:$K,'TRAITEMENT RDP'!D$18) -> 0 | E19: =COUNTIF('TEST RDP'!$K:$K,'TRAITEMENT RDP'!E$18) -> 1 | F19: =COUNTIF('TEST RDP'!$K:$K,'TRAITEMENT RDP'!F$18) -> 1 | G19: =H18-H19 -> 0 | H19: =SUM(C19:F19) -> 3
B20: % DE REPONSES | C20: =C19/$H18 -> 0.33333333 | D20: =D19/$H18 -> 0 | E20: =E19/$H18 -> 0.33333333 | F20: =F19/$H18 -> 0.33333333 | G20: =G19/$H18 -> 0 | H20: =SUM(C20:G20) -> 1
A21: TYPE | B21: L’élève doit calculer un prix. Problème à plusieurs étapes. Problème multiplicatif – proportionnalité simple sans référence à l’unité. | D21: OUI : calcule correctement le prix d’un pain. NON : s’arrête à cette première étape. | E21: NON : soustrait 1 au nombre de pains donc soustrait 1 au prix. | F21: NON : ajoute 1 au nombre de pains donc ajoute 1 au prix. | G21: Contexte familier.
A23: 5 | B23: Louise a acheté 10 objets identiques pour 22 €. Combien coûtent 15 de ces objets ? | C23: 33 | D23: 27 | E23: 15 | F23: 47 | G23: SANS REPONSE | H23: =COUNTA('TEST RDP'!A:A)-2 -> 3
B24: NOMBRE DE REPONSES | C24: =COUNTIF('TEST RDP'!$M:$M,'TRAITEMENT RDP'!C$23) -> 3 | D24: =COUNTIF('TEST RDP'!$M:$M,'TRAITEMENT RDP'!D$23) -> 0 | E24: =COUNTIF('TEST RDP'!$M:$M,'TRAITEMENT RDP'!E$23) -> 0 | F24: =COUNTIF('TEST RDP'!$M:$M,'TRAITEMENT RDP'!F$23) -> 0 | G24: =H23-H24 -> 0 | H24: =SUM(C24:F24) -> 3
B25: % DE REPONSES | C25: =C24/$H23 -> 1 | D25: =D24/$H23 -> 0 | E25: =E24/$H23 -> 0 | F25: =F24/$H23 -> 0 | G25: =G24/$H23 -> 0 | H25: =SUM(C25:G25) -> 1
A26: TYPE | B26: L’élève doit calculer un prix. Problème à plusieurs étapes. Problème multiplicatif – proportionnalité simple sans référence à l’unité. | D26: NON : ajoute 5 au nombre d'objets donc ajoute 5 au prix. | E26: NON : reprend le nombre d’objets pour lequel il faut calculer le prix. | F26: NON : additionne les trois nombres de l’énoncé. | G26: Contexte familier.
A28: 6 | B28: Une randonnée cyclotouriste est organisée sur un parcours de 60 km. Un arrêt est prévu au tiers de ce parcours. Quelle est la distance parcourue avant cet arrêt ? | C28: 20 km | D28: 10 km | E28: 12 km | F28: 15 km | G28: SANS REPONSE | H28: =COUNTA('TEST RDP'!A:A)-2 -> 3
B29: NOMBRE DE REPONSES | C29: =COUNTIF('TEST RDP'!$O:$O,'TRAITEMENT RDP'!C$28) -> 1 | D29: =COUNTIF('TEST RDP'!$O:$O,'TRAITEMENT RDP'!D$28) -> 0 | E29: =COUNTIF('TEST RDP'!$O:$O,'TRAITEMENT RDP'!E$28) -> 0 | F29: =COUNTIF('TEST RDP'!$O:$O,'TRAITEMENT RDP'!F$28) -> 2 | G29: =H28-H29 -> 0 | H29: =SUM(C29:F29) -> 3
B30: % DE REPONSES | C30: =C29/$H28 -> 0.33333333 | D30: =D29/$H28 -> 0 | E30: =E29/$H28 -> 0 | F30: =F29/$H28 -> 0.66666667 | G30: =G29/$H28 -> 0 | H30: =SUM(C30:G30) -> 1
A31: TYPE | B31: L’élève doit calculer le tiers d'une distance. Problème à une étape. Problème multiplicatif – fraction d’une grandeur. Peut nécessiter une représentation ou une modélisation. | D31: NON : calcule le sixième. | E31: NON : calcule le cinquième. | F31: NON : calcule le quart. | G31: Contexte familier.
A33: 7 | B33: Le plan de ce terrain indique une zone boisée. La superficie de la zone boisée est de : | C33: 9 km² | D33: 36 km² | E33: 60 km² | F33: 4 km² | G33: SANS REPONSE | H33: =COUNTA('TEST RDP'!A:A)-2 -> 3
B34: NOMBRE DE REPONSES | C34: =COUNTIF('TEST RDP'!$Q:$Q,'TRAITEMENT RDP'!C$33) -> 1 | D34: =COUNTIF('TEST RDP'!$Q:$Q,'TRAITEMENT RDP'!D$33) -> 1 | E34: =COUNTIF('TEST RDP'!$Q:$Q,'TRAITEMENT RDP'!E$33) -> 1 | F34: =COUNTIF('TEST RDP'!$Q:$Q,'TRAITEMENT RDP'!F$33) -> 0 | G34: =H33-H34 -> 0 | H34: =SUM(C34:F34) -> 3
B35: % DE REPONSES | C35: =C34/$H33 -> 0.33333333 | D35: =D34/$H33 -> 0.33333333 | E35: =E34/$H33 -> 0.33333333 | F35: =F34/$H33 -> 0 | G35: =G34/$H33 -> 0 | H35: =SUM(C35:G35) -> 1
A36: TYPE | B36: L’élève doit trouver une superficie à partir d’un plan et d’une légende. Problème à plusieurs étapes. Problème mixte : additif – recherche d’une partie – et multiplicatif –comparaison multiplicative de grandeurs. Nécessite la mise en relation d’un texte et d’une figure. | D36: OUI : compte les 36 carreaux de la zone boisée. NON : ne prend pas en compte la légende. | E36: NON : ne prend en compte aucun élément de la légende et compte tous les carreaux dans le rectangle de la figure. | F36: NON : indique l’unité dans la légende. | G36: Contexte familier.
A38: 8 | B38: Une boîte de macarons (biscuits fourrés) contient 3 macarons au café, 3 à la fraise, 6 au chocolat et 4 à la pomme. On prend un macaron les yeux fermés, sans avoir vu la boîte auparavant. On a 25 % de chances d’attraper un macaron... | C38: à la pomme. | D38: au café. | E38: à la fraise. | F38: au chocolat. | G38: SANS REPONSE | H38: =COUNTA('TEST RDP'!A:A)-2 -> 3
B39: NOMBRE DE REPONSES | C39: =COUNTIF('TEST RDP'!$S:$S,'TRAITEMENT RDP'!C$38) -> 0 | D39: =COUNTIF('TEST RDP'!$S:$S,'TRAITEMENT RDP'!D$38) -> 0 | E39: =COUNTIF('TEST RDP'!$S:$S,'TRAITEMENT RDP'!E$38) -> 1 | F39: =COUNTIF('TEST RDP'!$S:$S,'TRAITEMENT RDP'!F$38) -> 2 | G39: =H38-H39 -> 0 | H39: =SUM(C39:F39) -> 3
B40: % DE REPONSES | C40: =C39/$H38 -> 0 | D40: =D39/$H38 -> 0 | E40: =E39/$H38 -> 0.33333333 | F40: =F39/$H38 -> 0.66666667 | G40: =G39/$H38 -> 0 | H40: =SUM(C40:G40) -> 1
A41: TYPE | B41: L’élève doit déterminer quel évènement a une probabilité de 25 %. Problème à plusieurs étapes. Problème mixte : additif – recherche d’un tout –et multiplicatif – proportionnalité simple : déterminer un pourcentage. Peut nécessiter une représentation ou une modélisation. | D41: OUI : associe 25 % à une chance sur 4. NON : confond nombre de parfums différents et nombre de macarons. | E41: NON : confond nombre de parfums différents et nombre de macarons. | F41: NON : indique le parfum le plus représenté. OU : OUI : associe 25 % à une chance sur 4. NON : confond nombre de parfums différents et nombre de macarons. | G41: Contexte familier.
A43: 9 | B43: Anna marche 100 m pour faire le tour de son jardin rectangulaire. La longueur de ce jardin est de 30 m. Quelle est la largeur ? | C43: 20 m | D43: 40 m | E43: 25 m | F43: 35 m | G43: SANS REPONSE | H43: =COUNTA('TEST RDP'!A:A)-2 -> 3
B44: NOMBRE DE REPONSES | C44: =COUNTIF('TEST RDP'!$U:$U,'TRAITEMENT RDP'!C$43) -> 1 | D44: =COUNTIF('TEST RDP'!$U:$U,'TRAITEMENT RDP'!D$43) -> 2 | E44: =COUNTIF('TEST RDP'!$U:$U,'TRAITEMENT RDP'!E$43) -> 0 | F44: =COUNTIF('TEST RDP'!$U:$U,'TRAITEMENT RDP'!F$43) -> 0 | G44: =H43-H44 -> 0 | H44: =SUM(C44:F44) -> 3
B45: % DE REPONSES | C45: =C44/$H43 -> 0.33333333 | D45: =D44/$H43 -> 0.66666667 | E45: =E44/$H43 -> 0 | F45: =F44/$H43 -> 0 | G45: =G44/$H43 -> 0 | H45: =SUM(C45:G45) -> 1
A46: TYPE | B46: L’élève doit déterminer la largeur d’un jardin rectangulaire connaissant son périmètre et sa longueur. Problème à plusieurs étapes. Problème mixte : additif recherche d’une partie –et multiplicatif –recherche de la valeur d'une part. Peut nécessiter une représentation ou une modélisation. | D46: OUI : soustraction de 2 fois la longueur. NON : oublie qu’il y a deux largeurs dans un rectangle et ne divise donc pas par 2. | E46: NON : raisonne comme si la figure était un carré. | F46: NON : pas prise en compte des 2 longueurs dans la soustraction. OUI : divise par 2 pour avoir une largeur. | G46: Contexte familier.
A48: 10 | B48: Tom a mangé 1/2 gâteau. Jean a mangé 1/4 du même gâteau. À eux deux, quelle fraction du gâteau ont-ils mangée ? | C48: 3/4 | D48: 1/6 | E48: 2/6 | F48: 2/4 | G48: SANS REPONSE | H48: =COUNTA('TEST RDP'!A:A)-2 -> 3
B49: NOMBRE DE REPONSES | C49: =COUNTIF('TEST RDP'!$W:$W,'TRAITEMENT RDP'!C$48) -> 0 | D49: =COUNTIF('TEST RDP'!$W:$W,'TRAITEMENT RDP'!D$48) -> 0 | E49: =COUNTIF('TEST RDP'!$W:$W,'TRAITEMENT RDP'!E$48) -> 2 | F49: =COUNTIF('TEST RDP'!$W:$W,'TRAITEMENT RDP'!F$48) -> 1 | G49: =H48-H49 -> 0 | H49: =SUM(C49:F49) -> 3
...

Sheet TRAIT RDP-pdf
A1: PAGE A IMPRIMER EN PDF POUR UN TRAVAIL CIBLE PAR ITEM (pour liaison cycle 4, en équipe COLLEGE, etc.)
C13: 10 | D13: ='TRAITEMENT RDP'!C4 -> 3 | E13: =D13/D$18 -> 1
C14: 5 | D14: ='TRAITEMENT RDP'!D4 -> 0 | E14: =D14/D$18 -> 0 | F14: NON : reprend uniquement le 5 de 5 kg sans calculer.
C15: 6 | D15: =COUNTIF('TEST RDP'!E:E,C15) -> 0 | E15: =D15/D$18 -> 0 | F15: NON : champ additif. NON : considère que la masse augmentant de 4, le prix augmente aussi de 4.
C16: 7 | D16: ='TRAITEMENT RDP'!F4 -> 0 | E16: =D16/D$18 -> 0 | F16: NON : champ additif.
C17: pas de réponse | D17: =D18-(D13+D14+D15+D16) -> 0 | E17: =D17/D$18 -> 0
C18: Total | D18: =COUNTA('TEST RDP'!C:C)-1 -> 3 | E18: =SUM(E13:E17) -> 1
C30: 40 m | D30: ='TRAITEMENT RDP'!C9 -> 1 | E30: =D30/D$18 -> 0.33333333
C31: 170 m | D31: ='TRAITEMENT RDP'!D9 -> 1 | E31: =D31/D$18 -> 0.33333333 | F31: OUI : connaissance de la notion de périmètre. NON : pense que la somme des deux derniers doit être égale à 50 m (les trois autres côtés étant égaux à 50 m).
C32: 30 m | D32: ='TRAITEMENT RDP'!E9 -> 1 | E32: =D32/D$18 -> 0.33333333 | F32: OUI : calcule la somme des longueurs des côtés indiqués. NON : oublie de soustraire ce résultat au périmètre.
C33: 210 m | D33: ='TRAITEMENT RDP'!F9 -> 0 | E33: =D33/D$18 -> 0 | F33: NON : reprend le périmètre du terrain.
C34: pas de réponse | D34: =D35-(D30+D31+D32+D33) -> 0 | E34: =D34/D$18 -> 0
C35: Total | D35: =COUNTA('TEST RDP'!C:C)-1 -> 3 | E35: =SUM(E30:E34) -> 1
C46: 4 min | D46: =+'TRAITEMENT RDP'!C14 -> 1 | E46: =D46/D$18 -> 0.33333333
C47: 36 min | D47: =+'TRAITEMENT RDP'!D14 -> 0 | E47: =D47/D$18 -> 0 | F47: OUI : comprend bien que 3 est un coefficient - champ multiplicatif. NON : multiplie au lieu de diviser (erreur sur le référent).
C48: 15 min | D48: =+'TRAITEMENT RDP'!E14 -> 2 | E48: =D48/D$18 -> 0.66666667 | F48: NON : additif.
C49: 3 min | D49: =+'TRAITEMENT RDP'!F14 -> 0 | E49: =D49/D$18 -> 0 | F49: NON : comprend "3 fois plus rapide" comme étant 3 min.
C50: pas de réponse | D50: =D51-(D46+D47+D48+D49) -> 0 | E50: =D50/D$18 -> 0
C51: Total | D51: =COUNTA('TEST RDP'!C:C)-1 -> 3 | E51: =SUM(E46:E50) -> 1
C61: 7.2 | D61: ='TRAITEMENT RDP'!C19 -> 1 | E61: =D61/D$18 -> 0.33333333
C62: 0.9 | D62: ='TRAITEMENT RDP'!D19 -> 0 | E62: =D62/D$18 -> 0 | F62: OUI : calcule correctement le prix d’un pain. NON : s’arrête à cette première étape.
C63: 7.1 | D63: ='TRAITEMENT RDP'!E19 -> 1 | E63: =D63/D$18 -> 0.33333333 | F63: NON : soustrait 1 au nombre de pains donc soustrait 1 au prix.
C64: 7.3 | D64: ='TRAITEMENT RDP'!F19 -> 1 | E64: =D64/D$18 -> 0.33333333 | F64: NON : ajoute 1 au nombre de pains donc ajoute 1 au prix.
C65: pas de réponse | D65: =D66-(D61+D62+D63+D64) -> 0 | E65: =D65/D$18 -> 0
C66: Total | D66: =COUNTA('TEST RDP'!C:C)-1 -> 3 | E66: =SUM(E61:E65) -> 1
C74: 33 | D74: =+'TRAITEMENT RDP'!C24 -> 3 | E74: =D74/D$18 -> 1
C75: 27 | D75: ='TRAITEMENT RDP'!D24 -> 0 | E75: =D75/D$18 -> 0 | F75: NON : ajoute 5 au nombre d'objets donc ajoute 5 au prix.33
C76: 15 | D76: ='TRAITEMENT RDP'!E24 -> 0 | E76: =D76/D$18 -> 0 | F76: NON : reprend le nombre d’objets pour lequel il faut calculer le prix.
C77: 47 | D77: ='TRAITEMENT RDP'!F24 -> 0 | E77: =D77/D$18 -> 0 | F77: NON : additionne les trois nombres de l’énoncé.
C78: pas de réponse | D78: =D79-(D74+D75+D76+D77) -> 0 | E78: =D78/D$18 -> 0
C79: Total | D79: =COUNTA('TEST RDP'!C:C)-1 -> 3 | E79: =SUM(E74:E78) -> 1
C89: 20 km | D89: ='TRAITEMENT RDP'!C29 -> 1 | E89: =D89/D$18 -> 0.33333333
C90: 10 km | D90: ='TRAITEMENT RDP'!D29 -> 0 | E90: =D90/D$18 -> 0 | F90: NON : calcule le sixième.
C91: 12 km | D91: ='TRAITEMENT RDP'!E29 -> 0 | E91: =D91/D$18 -> 0 | F91: NON : calcule le cinquième.
C92: 15 km | D92: ='TRAITEMENT RDP'!F29 -> 2 | E92: =D92/D$18 -> 0.66666667 | F92: NON : calcule le quart.
C93: pas de réponse | D93: =D94-(D89+D90+D91+D92) -> 0 | E93: =D93/D$18 -> 0
C94: Total | D94: =COUNTA('TEST RDP'!C:C)-1 -> 3 | E94: =SUM(E89:E93) -> 1
C103: 9 | D103: ='TRAITEMENT RDP'!C34 -> 1 | E103: =D103/D$18 -> 0.33333333
C104: 36 | D104: ='TRAITEMENT RDP'!D34 -> 1 | E104: =D104/D$18 -> 0.33333333 | F104: OUI : compte les 36 carreaux de la zone boisée. NON : ne prend pas en compte la légende.
C105: 60 | D105: ='TRAITEMENT RDP'!E34 -> 1 | E105: =D105/D$18 -> 0.33333333 | F105: NON : ne prend en compte aucun élément de la légende et compte tous les carreaux dans le rectangle de la figure.
...

Sheet ANALYSE RDP
A1: TABLEAU ET GRAPHIQUES GENERES AUTOMATIQUEMENT = ANALYSE DES REUSSITES PAR TYPE D'ITEMS, PAR FAMILLES DE PROBLEMES, PAR STRUCTURE-DOMAINE MATHEMATIQUE DU PROBLEME OU STRATEGIE-> PILOTAGE DIDACTIQUE SUR TOUT LE CYCLE 4
A2: STRUCTURE-DOMAINE MATHEMATIQUE/ STRATEGIE FAMILLES DE PROBLEMES (% DE REUSSITES) | B2: STRUCTURE/DOMAINE MATHEMATIQUE DU PROBLEME | H2: STRATEGIE
B3: ADDITIF | C3: MULTIPLICATIF | D3: PROPORTIONNALITE | E3: MIXTE : additif + multiplicatif ou proportionnalité | F3: NECESSITE UNE CONVERSION | G3: NECESSITE UNE MISE EN RELATION TEXTE ET FIGURE ou PLUSIEURS REPRESENTATIONS DE DONNEES | H3: PEUT NECESSITER UNE REPRESENTATION OU UNE MODELISATION (schéma au brouillon, modèle en barres, etc.) | I3: TOTAL
A4: PROBLEMES A 1 ETAPE | B4: ITEM : 10 | C4: ITEMS : 3-6-14 | D4: ITEMS : 1-11-17 | F4: ITEMS : 11-17 | H4: ITEMS : 3-6-10-14 | I4: =D33 -> 0.28571429
B5: ='TRAITEMENT RDP'!C50 -> 0 | C5: =AVERAGE('TRAITEMENT RDP'!C15,'TRAITEMENT RDP'!C30,'TRAITEMENT RDP'!C71) -> 0.33333333 | D5: =AVERAGE('TRAITEMENT RDP'!C5,'TRAITEMENT RDP'!C56,'TRAITEMENT RDP'!C86) -> 0.33333333 | F5: =AVERAGE('TRAITEMENT RDP'!C56,'TRAITEMENT RDP'!C86) -> 0 | H5: =AVERAGE('TRAITEMENT RDP'!C15,'TRAITEMENT RDP'!C30,'TRAITEMENT RDP'!C50,'TRAITEMENT RDP'!C71) -> 0.25
A6: PROBLEMES A PLUSIEURS ETAPES | B6: ITEM : 2 | D6: ITEMS : 4-5-15-16-19 | E6: ITEMS : 7-8-9-12-13-18 | F6: ITEM : 15 | G6: ITEMS : 2-7-13-19 | H6: ITEMS : 2-8-9-16-18-19 | I6: =D40 -> 0.36111111
B7: ='TRAITEMENT RDP'!C10 -> 0.33333333 | D7: =AVERAGE('TRAITEMENT RDP'!C20,'TRAITEMENT RDP'!C25,'TRAITEMENT RDP'!C76,'TRAITEMENT RDP'!C81,'TRAITEMENT RDP'!C97) -> 0.33333333 | E7: =AVERAGE('TRAITEMENT RDP'!C35,'TRAITEMENT RDP'!C40,'TRAITEMENT RDP'!C45,'TRAITEMENT RDP'!C61,'TRAITEMENT RDP'!C66,'TRAITEMENT RDP'!C91) -> 0.38888889 | F7: ='TRAITEMENT RDP'!C76 -> 0.33333333 | G7: =AVERAGE('TRAITEMENT RDP'!C10,'TRAITEMENT RDP'!C35,'TRAITEMENT RDP'!C66,'TRAITEMENT RDP'!C97) -> 0.33333333 | H7: =AVERAGE('TRAITEMENT RDP'!C10,'TRAITEMENT RDP'!C40,'TRAITEMENT RDP'!C45,'TRAITEMENT RDP'!C81,'TRAITEMENT RDP'!C91,'TRAITEMENT RDP'!C97) -> 0.27777778
A8: TOTAL | B8: =D54 -> 0.16666667 | C8: =D56 -> 0.33333333 | D8: =D59 -> 0.33333333 | E8: =D67 -> 0.38888889 | F8: =D73 -> 0.11111111 | G8: =D76 -> 0.33333333 | H8: =D80 -> 0.26666667 | K8: Voir ITEMS
K9: ↙↙↙↙↙
K10: ↙↙↙↙↙
A11: Descriptif de la tâche | B11: ITEMS RDP | C11: % DE REUSSITE | K11: ↙↙↙↙↙
A12: Problème multiplicatif – proportionnalité simple avec référence à l’unité. | B12: 1 | C12: ='TRAITEMENT RDP'!C5 -> 1
A13: Problème additif – recherche d’une partie d’un tout. | B13: 2 | C13: ='TRAITEMENT RDP'!C10 -> 0.33333333
A14: Problème multiplicatif – comparaison multiplicative de grandeurs « fois plus » avec recherche du résultat. Peut nécessiter une représentation ou une modélisation. | B14: 3 | C14: ='TRAITEMENT RDP'!C15 -> 0.33333333
A15: Problème multiplicatif – proportionnalité simple sans référence à l’unité. | B15: 4 | C15: ='TRAITEMENT RDP'!C20 -> 0.33333333
A16: Problème multiplicatif – proportionnalité simple sans référence à l’unité. | B16: 5 | C16: ='TRAITEMENT RDP'!C25 -> 1
A17: Problème multiplicatif – fraction d’une grandeur. Peut nécessiter une représentation ou une modélisation. | B17: 6 | C17: ='TRAITEMENT RDP'!C30 -> 0.33333333
A18: Problème mixte : additif – recherche d’une partie – et multiplicatif –comparaison multiplicative de grandeurs. Nécessite la mise en relation d’un texte et d’une figure. | B18: 7 | C18: ='TRAITEMENT RDP'!C35 -> 0.33333333
A19: Problème mixte : additif – recherche d’un tout –et multiplicatif – proportionnalité simple : déterminer un pourcentage. Peut nécessiter une représentation ou une modélisation. | B19: 8 | C19: ='TRAITEMENT RDP'!C40 -> 0
A20: Problème mixte : additif recherche d’une partie –et multiplicatif –recherche de la valeur d'une part. Peut nécessiter une représentation ou une modélisation. | B20: 9 | C20: ='TRAITEMENT RDP'!C45 -> 0.33333333
A21: Problème additif–recherche d'un tout. Peut nécessiter une représentation ou une modélisation. | B21: 10 | C21: ='TRAITEMENT RDP'!C50 -> 0
A22: Problème multiplicatif – proportionnalité simple nécessitant une conversion. | B22: 11 | C22: ='TRAITEMENT RDP'!C56 -> 0
A23: Problème mixte : additif – comparaison d’états (recherche de la comparaison) – et multiplicatif – proportionnalité simple sans référence à l’unité. | B23: 12 | C23: ='TRAITEMENT RDP'!C61 -> 0
A24: Problème mixte : additif et multiplicatif. Nécessite la mise en relation d’un texte et d’une figure. | B24: 13 | C24: ='TRAITEMENT RDP'!C66 -> 0.66666667
A25: Problème multiplicatif (configuration rectangulaire)– recherche d’un facteur. Peut nécessiter une représentation ou une modélisation. | B25: 14 | C25: ='TRAITEMENT RDP'!C71 -> 0.33333333
A26: Problème multiplicatif – proportionnalité simple avec référence à l’unité. Comparaison de durée avec conversion. | B26: 15 | C26: ='TRAITEMENT RDP'!C76 -> 0.33333333
A27: Problème multiplicatif – proportionnalité simple composée avec recherche de la valeur finale. Peut nécessiter une représentation ou une modélisation. | B27: 16 | C27: ='TRAITEMENT RDP'!C81 -> 0
A28: Problème multiplicatif – proportionnalité simple nécessitant une conversion. | B28: 17 | C28: ='TRAITEMENT RDP'!C86 -> 0
A29: Problème mixte : additif – recherche d’une partie – et multiplicatif – proportionnalité simple : déterminer un pourcentage. Peut nécessiter une représentation ou une modélisation. | B29: 18 | C29: ='TRAITEMENT RDP'!C91 -> 1
A30: Problème multiplicatif – proportionnalité simple sans référence à l’unité. Nécessite la mise en relations de plusieurs modes de représentation de données. Peut nécessiter une représentation ou une modélisation. | B30: 19 | C30: ='TRAITEMENT RDP'!C97 -> 0
A32: REGROUPEMENTS PAR FAMILLE DE PROBLEMES | B32: ITEMS RDP | C32: % DE REUSSITE | D32: % DE REUSSITE
A33: Problème multiplicatif – proportionnalité simple avec référence à l’unité. | B33: 1 | C33: ='TRAITEMENT RDP'!C5 -> 1 | D33: =AVERAGE(C33:C39) -> 0.28571429
A34: Problème multiplicatif – comparaison multiplicative de grandeurs « fois plus » avec recherche du résultat. Peut nécessiter une représentation ou une modélisation. | B34: 3 | C34: ='TRAITEMENT RDP'!C15 -> 0.33333333
A35: Problème multiplicatif – fraction d’une grandeur. Peut nécessiter une représentation ou une modélisation. | B35: 6 | C35: ='TRAITEMENT RDP'!C30 -> 0.33333333
A36: Problème additif–recherche d'un tout. Peut nécessiter une représentation ou une modélisation. | B36: 10 | C36: ='TRAITEMENT RDP'!C50 -> 0
A37: Problème multiplicatif – proportionnalité simple nécessitant une conversion. | B37: 11 | C37: ='TRAITEMENT RDP'!C56 -> 0
A38: Problème multiplicatif (configuration rectangulaire)– recherche d’un facteur. Peut nécessiter une représentation ou une modélisation. | B38: 14 | C38: ='TRAITEMENT RDP'!C71 -> 0.33333333
A39: Problème multiplicatif – proportionnalité simple nécessitant une conversion. | B39: 17 | C39: ='TRAITEMENT RDP'!C86 -> 0
A40: Problème additif – recherche d’une partie d’un tout. | B40: 2 | C40: ='TRAITEMENT RDP'!C10 -> 0.33333333 | D40: =AVERAGE(C40:C51) -> 0.36111111
A41: Problème multiplicatif – proportionnalité simple sans référence à l’unité. | B41: 4 | C41: ='TRAITEMENT RDP'!C20 -> 0.33333333
...

Sheet GROUPES THEMES
A1: PAGE GENEREE AUTOMATIQUEMENT ! - Filtrer le groupe de maîtrise étudié dans chaque thème + Si besoin, filtrer en fonction du nombre de thèmes dans lesquels l'élève est en difficulté (cellule J2).
A2: Classe | B2: Nom élève | C2: Prénom élève | D2: Test spécifique en automatismes : Mobiliser directement des procédures et des connaissances | E2: Test spécifique en résolution de problèmes : Résoudre des problèmes en utilisant des nombres et des grandeurs | F2: Espace et géométrie : Connaître et utiliser des notions de géométrie | G2: Grandeurs et mesures : Connaître des grandeurs et utiliser des unités de mesure | H2: Nombres et calculs : Connaître les nombres et les utiliser dans des calculs | I2: Organisation et gestion de données, fonctions : Connaître et utiliser des données et la notion de fonction | J2: Nombre de difficultés :
